Workbook

Sheet 抽選結果
C1: 第41回栃木県U-11サッカ－選手権大会 U-11大会の部 抽選順
C2: 【会場担当チーム】
A3: =COUNTIF(B:B,B3) -> 1 | B3: M5 | C3: 1 | D3: さくらボン・ディ・ボーラ | F3: SAKURAグリーンフィールドAB
A4: =COUNTIF(B:B,B4) -> 1 | B4: B5 | C4: 2 | D4: ＫＳＣ鹿沼 | F4: サンエコ自然の森サッカー場ＡＢ
A5: =COUNTIF(B:B,B5) -> 1 | B5: I5 | C5: 3 | D5: ＪＦＣアミスタ市貝 | F5: 市貝町城見ヶ丘運動公園ＡＢ
A6: =COUNTIF(B:B,B6) -> 1 | B6: A5 | C6: 4 | D6: 南河内サッカースポーツ少年団 | F6: 別処山公園サッカー場ＡＢ
A7: =COUNTIF(B:B,B7) -> 1 | B7: J5 | C7: 5 | D7: 石橋ＦＣ | F7: 大松山運動公園多目的グランドＡＢ
A8: =COUNTIF(B:B,B8) -> 1 | B8: E5 | C8: 6 | D8: ＦＣ ＳＨＵＪＡＫＵ | F8: ハートフル保険フィールド（佐野市運動公園第２多目的球技場）ＡＢ
A9: =COUNTIF(B:B,B9) -> 1 | B9: D5 | C9: 7 | D9: ＦＣバジェルボ那須烏山 | F9: 大桶運動公園A
A10: =COUNTIF(B:B,B10) -> 1 | B10: K5 | C10: 8 | D10: ＢＬＵＥ ＴＨＵＮＤＥＲ | F10: 大桶運動公園B
A11: =COUNTIF(B:B,B11) -> 1 | B11: H5 | C11: 9 | D11: 国本ジュニアサッカークラブ | F11: 鬼怒グリーンパーク白沢Ａ
A12: =COUNTIF(B:B,B12) -> 1 | B12: F5 | C12: 10 | D12: 岡西ＦＣ | F12: 鬼怒グリーンパーク白沢Ｂ
A13: =COUNTIF(B:B,B13) -> 1 | B13: O5 | C13: 11 | D13: 真岡西サッカークラブブリッツ | F13: 真岡鬼怒自然公園サッカー場（クレー）ＡＡ
A14: =COUNTIF(B:B,B14) -> 1 | B14: N5 | C14: 12 | D14: 久下田ＦＣ | F14: 真岡鬼怒自然公園サッカー場（クレー）ＡＢ
... A18: =COUNTIF(B:B,B18) -> 1 | B18: L5 | C18: 16 | D18: 御厨フットボールクラブ | F18: 足利本町緑地サッカー場Ｂ
C20: 【塩谷・南那須地区】
A21: =COUNTIF(B:B,B21) -> 1 | B21: E1 | C21: 1 | D21: フットボールクラブ氏家
A22: =COUNTIF(B:B,B22) -> 1 | B22: F2 | C22: 2 | D22: 上松山クラブ
A23: =COUNTIF(B:B,B23) -> 1 | B23: G6 | C23: 3 | D23: 阿久津サッカークラブ
A24: =COUNTIF(B:B,B24) -> 1 | B24: P2 | C24: 4 | D24: 高根沢西フットボールクラブ
A25: =COUNTIF(B:B,B25) -> 1 | B25: N2 | C25: 5 | D25: 喜連川ＦＣＪｒ
A26: =COUNTIF(B:B,B26) -> 1 | B26: H2 | C26: 6 | D26: ＦＣ ＳＦｉＤＡ
A27: =COUNTIF(B:B,B27) -> 1 | B27: I2 | C27: 7 | D27: ＡＣ ＥＳＰＡＣＩＯ
A28: =COUNTIF(B:B,B28) -> 1 | B28: A6 | C28: 8 | D28: ヴェルフェ矢板Ｕ－１２
A29: =COUNTIF(B:B,B29) -> 1 | B29: B1 | C29: 9 | D29: ＹＵＺＵＨＡ ＦＣ ジュニア
C31: 【上都賀地区】
A32: =COUNTIF(B:B,B32) -> 1 | B32: L1 | C32: 1 | D32: 鹿沼東光ＦＣ
A33: =COUNTIF(B:B,B33) -> 1 | B33: J1 | C33: 2 | D33: 鹿沼西ＦＣ
A34: =COUNTIF(B:B,B34) -> 1 | B34: N4 | C34: 3 | D34: さつきが丘スポーツ少年団サッカー部
A35: =COUNTIF(B:B,B35) -> 1 | B35: E6 | C35: 4 | D35: 北押原ＦＣ
A36: =COUNTIF(B:B,B36) -> 1 | B36: G4 | C36: 5 | D36: ＦＣあわのレジェンド
A37: =COUNTIF(B:B,B37) -> 1 | B37: H1 | C37: 6 | D37: ＮＩＫＫＯ ＳＰＯＲＴＳ ＣＬＵＢ
A38: =COUNTIF(B:B,B38) -> 1 | B38: A4 | C38: 7 | D38: 今市ジュニオール
A39: =COUNTIF(B:B,B39) -> 1 | B39: K1 | C39: 8 | D39: 今市ＦＣプログレス
A40: =COUNTIF(B:B,B40) -> 1 | B40: D2 | C40: 9 | D40: 今市ＦＣプログレスセカンド
A41: =COUNTIF(B:B,B41) -> 1 | B41: I1 | C41: 10 | D41: Ｎ Ｆ Ｃ
A42: =COUNTIF(B:B,B42) -> 1 | B42: O3 | C42: 11 | D42: ＣＦＡ日光
A43: =COUNTIF(B:B,B43) -> 1 | B43: M2 | C43: 12 | D43: 藤原ＦＣ
C45: 【宇河地区】
A46: =COUNTIF(B:B,B46) -> 1 | B46: E7 | C46: 1 | D46: 宝木キッカーズ
A47: =COUNTIF(B:B,B47) -> 1 | B47: B2 | C47: 2 | D47: 昭和戸祭・細谷ＳＣ
A48: =COUNTIF(B:B,B48) -> 1 | B48: M7 | C48: 3 | D48: 豊郷ＪＦＣ宇都宮
A49: =COUNTIF(B:B,B49) -> 1 | B49: L6 | C49: 4 | D49: ＦＣみらい
A50: =COUNTIF(B:B,B50) -> 1 | B50: O2 | C50: 5 | D50: 清原陽東サッカースポーツ少年団
A51: =COUNTIF(B:B,B51) -> 1 | B51: G1 | C51: 6 | D51: 富士見サッカースポーツ少年団ブルー
A52: =COUNTIF(B:B,B52) -> 1 | B52: P6 | C52: 7 | D52: 富士見サッカースポーツ少年団レッド
A53: =COUNTIF(B:B,B53) -> 1 | B53: I3 | C53: 8 | D53: 緑が丘ＹＦＣサッカー教室
A54: =COUNTIF(B:B,B54) -> 1 | B54: M1 | C54: 9 | D54: ＮＰＯ法人サウス宇都宮スポーツクラブ
A55: =COUNTIF(B:B,B55) -> 1 | B55: E2 | C55: 10 | D55: 上三川サッカークラブ
A56: =COUNTIF(B:B,B56) -> 1 | B56: C3 | C56: 11 | D56: ＦＣブロケード
A57: =COUNTIF(B:B,B57) -> 1 | B57: J4 | C57: 12 | D57: ＳＵＧＡＯサッカークラブ
... A66: =COUNTIF(B:B,B66) -> 1 | B66: N1 | C66: 21 | D66: 宇都宮フットボールクラブジュニア
C68: 【芳賀地区】
A69: =COUNTIF(B:B,B69) -> 1 | B69: F4 | C69: 1 | D69: 亀山サッカークラブ
A70: =COUNTIF(B:B,B70) -> 1 | B70: L4 | C70: 2 | D70: 益子ＳＣ
A71: =COUNTIF(B:B,B71) -> 1 | B71: J6 | C71: 3 | D71: 祖母井クラブ
A72: =COUNTIF(B:B,B72) -> 1 | B72: E4 | C72: 4 | D72: ＪＦＣファイターズ
A73: =COUNTIF(B:B,B73) -> 1 | B73: B4 | C73: 5 | D73: ＦＣ真岡２１ファンタジー
A74: =COUNTIF(B:B,B74) -> 1 | B74: M3 | C74: 6 | D74: ＪＦＣアミスタ市貝Ｂ
A75: =COUNTIF(B:B,B75) -> 1 | B75: D1 | C75: 7 | D75: おおぞらＳＣ
A76: =COUNTIF(B:B,B76) -> 1 | B76: K6 | C76: 8 | D76: 茂木ＦＣ
A77: =COUNTIF(B:B,B77) -> 1 | B77: A3 | C77: 9 | D77: Ｊ－ＳＰＯＲＴＳＦＯＯＴＢＡＬＬＣＬＵＢ
C79: 【下都賀地区】
A80: =COUNTIF(B:B,B80) -> 1 | B80: F3 | C80: 1 | D80: 都賀クラブジュニア
A81: =COUNTIF(B:B,B81) -> 1 | B81: O6 | C81: 2 | D81: 合戦場フットボールクラブ
A82: =COUNTIF(B:B,B82) -> 1 | B82: B7 | C82: 3 | D82: 栃木ウーヴァＦＣ・Ｕ－１２
A83: =COUNTIF(B:B,B83) -> 1 | B83: C4 | C83: 4 | D83: 野木ＳＳＳ
A84: =COUNTIF(B:B,B84) -> 1 | B84: G2 | C84: 5 | D84: 小山三小 ＦＣ
A85: =COUNTIF(B:B,B85) -> 1 | B85: P4 | C85: 6 | D85: ＦＣプリメーロ
A86: =COUNTIF(B:B,B86) -> 1 | B86: I8 | C86: 7 | D86: ＦＣ城東
A87: =COUNTIF(B:B,B87) -> 1 | B87: E8 | C87: 8 | D87: 間東ＦＣミラクルズ
A88: =COUNTIF(B:B,B88) -> 1 | B88: D6 | C88: 9 | D88: 栃木ジュニオール
A89: =COUNTIF(B:B,B89) -> 1 | B89: H6 | C89: 10 | D89: 大谷北ＦＣフォルテ
A90: =COUNTIF(B:B,B90) -> 1 | B90: K3 | C90: 11 | D90: 大谷東フットボールクラブ
A91: =COUNTIF(B:B,B91) -> 1 | B91: O1 | C91: 12 | D91: Ｆ．Ｃ．栃木ジュニア
... A94: =COUNTIF(B:B,B94) -> 1 | B94: N6 | C94: 15 | D94: 栃木Ｃｈａｒｍｅ．Ｆ．Ｃ
C96: 【両毛地区】
A97: =COUNTIF(B:B,B97) -> 1 | B97: F6 | C97: 1 | D97: 佐野ＳＳＳ
A98: =COUNTIF(B:B,B98) -> 1 | B98: B3 | C98: 2 | D98: ＦＣ毛野
A99: =COUNTIF(B:B,B99) -> 1 | B99: I6 | C99: 3 | D99: 坂西ジュニオール
A100: =COUNTIF(B:B,B100) -> 1 | B100: H3 | C100: 4 | D100: ＪＦＣ 足利ラトゥール
A101: =COUNTIF(B:B,B101) -> 1 | B101: C1 | C101: 5 | D101: クレアＦＣアルドーレ
A102: =COUNTIF(B:B,B102) -> 1 | B102: J3 | C102: 6 | D102: ＣＡ．アトレチコ 佐野
A103: =COUNTIF(B:B,B103) -> 1 | B103: M8 | C103: 7 | D103: 呑竜ＦＣ
A104: =COUNTIF(B:B,B104) -> 1 | B104: A7 | C104: 8 | D104: ＴＡＣ ＫＵＺＵＵ ＦＣ
C106: 【北那須地区】
A107: =COUNTIF(B:B,B107) -> 1 | B107: C2 | C107: 1 | D107: 大田原城山サッカークラブ
A108: =COUNTIF(B:B,B108) -> 1 | B108: D3 | C108: 2 | D108: 西原ＦＣ
A109: =COUNTIF(B:B,B109) -> 1 | B109: F1 | C109: 3 | D109: 紫塚ＦＣ
A110: =COUNTIF(B:B,B110) -> 1 | B110: I4 | C110: 4 | D110: ジヴェルチード那須
A111: =COUNTIF(B:B,B111) -> 1 | B111: C6 | C111: 5 | D111: 東那須野ＦＣフェニックス
A112: =COUNTIF(B:B,B112) -> 1 | B112: E3 | C112: 6 | D112: ＦＣ Ａｖａｎｃｅ
A113: =COUNTIF(B:B,B113) -> 1 | B113: A2 | C113: 7 | D113: ＦＣ西那須２１アストロ
A114: =COUNTIF(B:B,B114) -> 1 | B114: M4 | C114: 8 | D114: 南イレブン
A115: =COUNTIF(B:B,B115) -> 1 | B115: P1 | C115: 9 | D115: 西那須野西ＳＣ
A116: =COUNTIF(B:B,B116) -> 1 | B116: K2 | C116: 10 | D116: 大山フットボールクラブアミーゴ
A117: =COUNTIF(B:B,B117) -> 1 | B117: O4 | C117: 11 | D117: 高林・青木フットボールクラブ
A118: =COUNTIF(B:B,B118) -> 1 | B118: H4 | C118: 12 | D118: フットボールクラブガナドール大田原Ｕ１２
... A123: =COUNTIF(B:B,B123) -> 1 | B123: G3 | C123: 17 | D123: ＦＣ ＷＩＬＬＥ

Sheet U11組合せ (抽選結果)
A1: 第41回栃木県U-11サッカー選手権大会 U-11大会の部 組み合わせ表
J3: ■第1日 1月13日 | S3: 予選リーグ
J4: ■第2日 1月14日 | S4: 決勝トーナメント１・２回戦・準々決勝
J5: ■第3日 1月20日 | S5: 準決勝・決勝
A8: 44939 | G8: 44575 | O8: 44946 | Y8: =G8 -> 44575 | AG8: =A8 -> 44939
A9: =IFERROR(VLOOKUP("A5",抽選結果!$B:$F,5,FALSE),"") -> 別処山公園サッカー場ＡＢ | C9: =IFERROR(VLOOKUP($E$9&D9,抽選結果!$B:$D,3,FALSE),"") -> ＦＣスポルト宇都宮クラウド | D9: 1 | E9: A | AL9: =IFERROR(VLOOKUP("P5",抽選結果!$B:$F,5,FALSE),"") -> 足利本町緑地サッカー場Ａ
AH10: PP | AI10: 6 | AJ10: =IFERROR(VLOOKUP($AH$18&AI10,抽選結果!$B:$D,3,FALSE),"") -> 富士見サッカースポーツ少年団レッド
C11: =IFERROR(VLOOKUP($E$9&D11,抽選結果!$B:$D,3,FALSE),"") -> ＦＣ西那須２１アストロ | D11: 2
AI12: 5 | AJ12: =IFERROR(VLOOKUP($AH$18&AI12,抽選結果!$B:$D,3,FALSE),"") -> Ｋ－ＷＥＳＴ．ＦＣ２００１
C13: =IFERROR(VLOOKUP($E$9&D13,抽選結果!$B:$D,3,FALSE),"") -> Ｊ－ＳＰＯＲＴＳＦＯＯＴＢＡＬＬＣＬＵＢ | D13: 3
AI14: 4 | AJ14: =IFERROR(VLOOKUP($AH$18&AI14,抽選結果!$B:$D,3,FALSE),"") -> ＦＣプリメーロ
C15: =IFERROR(VLOOKUP($E$9&D15,抽選結果!$B:$D,3,FALSE),"") -> 今市ジュニオール | D15: 4
C17: =IFERROR(VLOOKUP($E$9&D17,抽選結果!$B:$D,3,FALSE),"") -> 南河内サッカースポーツ少年団 | D17: 5 | E17: AA
AH18: P | AI18: 3 | AJ18: =IFERROR(VLOOKUP($AH$18&AI18,抽選結果!$B:$D,3,FALSE),"") -> 石井フットボールクラブ
C19: =IFERROR(VLOOKUP($E$9&D19,抽選結果!$B:$D,3,FALSE),"") -> ヴェルフェ矢板Ｕ－１２ | D19: 6
AI20: 2 | AJ20: =IFERROR(VLOOKUP($AH$18&AI20,抽選結果!$B:$D,3,FALSE),"") -> 高根沢西フットボールクラブ
C21: =IFERROR(VLOOKUP($E$9&D21,抽選結果!$B:$D,3,FALSE),"") -> ＴＡＣ ＫＵＺＵＵ ＦＣ | D21: 7
AI22: 1 | AJ22: =IFERROR(VLOOKUP($AH$18&AI22,抽選結果!$B:$D,3,FALSE),"") -> 西那須野西ＳＣ
C23: =IFERROR(VLOOKUP($E$9&D23,抽選結果!$B:$D,3,FALSE),"") -> カテット白沢サッカースクール | D23: 8
A26: =IFERROR(VLOOKUP("B5",抽選結果!$B:$F,5,FALSE),"") -> サンエコ自然の森サッカー場ＡＢ | C26: =IFERROR(VLOOKUP($E$26&D26,抽選結果!$B:$D,3,FALSE),"") -> ＹＵＺＵＨＡ ＦＣ ジュニア | D26: 1 | E26: B | AL26: =IFERROR(VLOOKUP("O5",抽選結果!$B:$F,5,FALSE),"") -> 真岡鬼怒自然公園サッカー場（クレー）ＡＡ
AH27: OO | AI27: 6 | AJ27: =IFERROR(VLOOKUP($AH$35&AI27,抽選結果!$B:$D,3,FALSE),"") -> 合戦場フットボールクラブ
C28: =IFERROR(VLOOKUP($E$26&D28,抽選結果!$B:$D,3,FALSE),"") -> 昭和戸祭・細谷ＳＣ | D28: 2
AI29: 5 | AJ29: =IFERROR(VLOOKUP($AH$35&AI29,抽選結果!$B:$D,3,FALSE),"") -> 真岡西サッカークラブブリッツ
C30: =IFERROR(VLOOKUP($E$26&D30,抽選結果!$B:$D,3,FALSE),"") -> ＦＣ毛野 | D30: 3
AI31: 4 | AJ31: =IFERROR(VLOOKUP($AH$35&AI31,抽選結果!$B:$D,3,FALSE),"") -> 高林・青木フットボールクラブ
C32: =IFERROR(VLOOKUP($E$26&D32,抽選結果!$B:$D,3,FALSE),"") -> ＦＣ真岡２１ファンタジー | D32: 4
C34: =IFERROR(VLOOKUP($E$26&D34,抽選結果!$B:$D,3,FALSE),"") -> ＫＳＣ鹿沼 | D34: 5 | E34: BB
AH35: O | AI35: 3 | AJ35: =IFERROR(VLOOKUP($AH$35&AI35,抽選結果!$B:$D,3,FALSE),"") -> ＣＦＡ日光
C36: =IFERROR(VLOOKUP($E$26&D36,抽選結果!$B:$D,3,FALSE),"") -> 野原グランディオスＦＣ | D36: 6
AI37: 2 | AJ37: =IFERROR(VLOOKUP($AH$35&AI37,抽選結果!$B:$D,3,FALSE),"") -> 清原陽東サッカースポーツ少年団
C38: =IFERROR(VLOOKUP($E$26&D38,抽選結果!$B:$D,3,FALSE),"") -> 栃木ウーヴァＦＣ・Ｕ－１２ | D38: 7
AI39: 1 | AJ39: =IFERROR(VLOOKUP($AH$35&AI39,抽選結果!$B:$D,3,FALSE),"") -> Ｆ．Ｃ．栃木ジュニア
C40: =IFERROR(VLOOKUP($E$26&D40,抽選結果!$B:$D,3,FALSE),"") -> みはらサッカークラブジュニア | D40: 8
J41: a | AB41: d
A43: =IFERROR(VLOOKUP("C5",抽選結果!$B:$F,5,FALSE),"") -> 真岡鬼怒自然公園サッカー場（クレー）BB | AL43: =IFERROR(VLOOKUP("N5",抽選結果!$B:$F,5,FALSE),"") -> 真岡鬼怒自然公園サッカー場（クレー）ＡＢ
C44: =IFERROR(VLOOKUP($E$44&D44,抽選結果!$B:$D,3,FALSE),"") -> クレアＦＣアルドーレ | D44: 1 | E44: C | AH44: NN | AI44: 6 | AJ44: =IFERROR(VLOOKUP($AH$52&AI44,抽選結果!$B:$D,3,FALSE),"") -> 栃木Ｃｈａｒｍｅ．Ｆ．Ｃ
C46: =IFERROR(VLOOKUP($E$44&D46,抽選結果!$B:$D,3,FALSE),"") -> 大田原城山サッカークラブ | D46: 2 | AI46: 5 | AJ46: =IFERROR(VLOOKUP($AH$52&AI46,抽選結果!$B:$D,3,FALSE),"") -> 久下田ＦＣ
C48: =IFERROR(VLOOKUP($E$44&D48,抽選結果!$B:$D,3,FALSE),"") -> ＦＣブロケード | D48: 3 | AI48: 4 | AJ48: =IFERROR(VLOOKUP($AH$52&AI48,抽選結果!$B:$D,3,FALSE),"") -> さつきが丘スポーツ少年団サッカー部
C52: =IFERROR(VLOOKUP($E$44&D52,抽選結果!$B:$D,3,FALSE),"") -> 野木ＳＳＳ | D52: 4 | E52: CC | S52: =C13 -> Ｊ－ＳＰＯＲＴＳＦＯＯＴＢＡＬＬＣＬＵＢ | AH52: N | AI52: 3 | AJ52: =IFERROR(VLOOKUP($AH$52&AI52,抽選結果!$B:$D,3,FALSE),"") -> ＦＣ黒羽
C54: =IFERROR(VLOOKUP($E$44&D54,抽選結果!$B:$D,3,FALSE),"") -> ＦＣ中村Ｕ－１１ | D54: 5 | AI54: 2 | AJ54: =IFERROR(VLOOKUP($AH$52&AI54,抽選結果!$B:$D,3,FALSE),"") -> 喜連川ＦＣＪｒ
C56: =IFERROR(VLOOKUP($E$44&D56,抽選結果!$B:$D,3,FALSE),"") -> 東那須野ＦＣフェニックス | D56: 6 | AI56: 1 | AJ56: =IFERROR(VLOOKUP($AH$52&AI56,抽選結果!$B:$D,3,FALSE),"") -> 宇都宮フットボールクラブジュニア
A60: =IFERROR(VLOOKUP("D5",抽選結果!$B:$F,5,FALSE),"") -> 大桶運動公園A | AH60: MM | AI60: 8 | AJ60: =IFERROR(VLOOKUP($AH$68&AI60,抽選結果!$B:$D,3,FALSE),"") -> 呑竜ＦＣ | AL60: =IFERROR(VLOOKUP("M5",抽選結果!$B:$F,5,FALSE),"") -> SAKURAグリーンフィールドAB
C61: =IFERROR(VLOOKUP($E$61&D61,抽選結果!$B:$D,3,FALSE),"") -> おおぞらＳＣ | D61: 1 | E61: D | L61: 県グリーンスタジアムサブグランド | Z61: 大桶運動公園
AI62: 7 | AJ62: =IFERROR(VLOOKUP($AH$68&AI62,抽選結果!$B:$D,3,FALSE),"") -> 豊郷ＪＦＣ宇都宮
C63: =IFERROR(VLOOKUP($E$61&D63,抽選結果!$B:$D,3,FALSE),"") -> 今市ＦＣプログレスセカンド | D63: 2
AI64: 6 | AJ64: =IFERROR(VLOOKUP($AH$68&AI64,抽選結果!$B:$D,3,FALSE),"") -> Ｐｅｇａｓｕｓ藤岡２００７
C65: =IFERROR(VLOOKUP($E$61&D65,抽選結果!$B:$D,3,FALSE),"") -> 西原ＦＣ | D65: 3
AI66: 5 | AJ66: =IFERROR(VLOOKUP($AH$68&AI66,抽選結果!$B:$D,3,FALSE),"") -> さくらボン・ディ・ボーラ
AH68: M | AI68: 4 | AJ68: =IFERROR(VLOOKUP($AH$68&AI68,抽選結果!$B:$D,3,FALSE),"") -> 南イレブン
C69: =IFERROR(VLOOKUP($E$61&D69,抽選結果!$B:$D,3,FALSE),"") -> ＦＣスポルト宇都宮 | D69: 4 | E69: DD
AI70: 3 | AJ70: =IFERROR(VLOOKUP($AH$68&AI70,抽選結果!$B:$D,3,FALSE),"") -> ＪＦＣアミスタ市貝Ｂ
C71: =IFERROR(VLOOKUP($E$61&D71,抽選結果!$B:$D,3,FALSE),"") -> ＦＣバジェルボ那須烏山 | D71: 5
AI72: 2 | AJ72: =IFERROR(VLOOKUP($AH$68&AI72,抽選結果!$B:$D,3,FALSE),"") -> 藤原ＦＣ
C73: =IFERROR(VLOOKUP($E$61&D73,抽選結果!$B:$D,3,FALSE),"") -> 栃木ジュニオール | D73: 6
AI74: 1 | AJ74: =IFERROR(VLOOKUP($AH$68&AI74,抽選結果!$B:$D,3,FALSE),"") -> ＮＰＯ法人サウス宇都宮スポーツクラブ
A77: =IFERROR(VLOOKUP("E5",抽選結果!$B:$F,5,FALSE),"") -> ハートフル保険フィールド（佐野市運動公園第２多目的球技場）ＡＢ | C77: =IFERROR(VLOOKUP($E$77&D77,抽選結果!$B:$D,3,FALSE),"") -> フットボールクラブ氏家 | D77: 1 | E77: E | AL77: =IFERROR(VLOOKUP("L5",抽選結果!$B:$F,5,FALSE),"") -> 足利本町緑地サッカー場Ｂ
S78: ハートフル保険フィールド（佐野市運動公園第２多目的球技場） | AH78: LL | AI78: 6 | AJ78: =IFERROR(VLOOKUP($AH$86&AI78,抽選結果!$B:$D,3,FALSE),"") -> ＦＣみらい
C79: =IFERROR(VLOOKUP($E$77&D79,抽選結果!$B:$D,3,FALSE),"") -> 上三川サッカークラブ | D79: 2
AI80: 5 | AJ80: =IFERROR(VLOOKUP($AH$86&AI80,抽選結果!$B:$D,3,FALSE),"") -> 御厨フットボールクラブ
C81: =IFERROR(VLOOKUP($E$77&D81,抽選結果!$B:$D,3,FALSE),"") -> ＦＣ Ａｖａｎｃｅ | D81: 3
AI82: 4 | AJ82: =IFERROR(VLOOKUP($AH$86&AI82,抽選結果!$B:$D,3,FALSE),"") -> 益子ＳＣ
C83: =IFERROR(VLOOKUP($E$77&D83,抽選結果!$B:$D,3,FALSE),"") -> ＪＦＣファイターズ | D83: 4
C85: =IFERROR(VLOOKUP($E$77&D85,抽選結果!$B:$D,3,FALSE),"") -> ＦＣ ＳＨＵＪＡＫＵ | D85: 5 | E85: EE
AH86: L | AI86: 3 | AJ86: =IFERROR(VLOOKUP($AH$86&AI86,抽選結果!$B:$D,3,FALSE),"") -> 壬生ＦＣユナイテッド
C87: =IFERROR(VLOOKUP($E$77&D87,抽選結果!$B:$D,3,FALSE),"") -> 北押原ＦＣ | D87: 6
AI88: 2 | AJ88: =IFERROR(VLOOKUP($AH$86&AI88,抽選結果!$B:$D,3,FALSE),"") -> ＫＯＨＡＲＵ ＰＲＯＵＤ栃木フットボールクラブ
C89: =IFERROR(VLOOKUP($E$77&D89,抽選結果!$B:$D,3,FALSE),"") -> 宝木キッカーズ | D89: 7
AI90: 1 | AJ90: =IFERROR(VLOOKUP($AH$86&AI90,抽選結果!$B:$D,3,FALSE),"") -> 鹿沼東光ＦＣ
C91: =IFERROR(VLOOKUP($E$77&D91,抽選結果!$B:$D,3,FALSE),"") -> 間東ＦＣミラクルズ | D91: 8
A94: =IFERROR(VLOOKUP("F5",抽選結果!$B:$F,5,FALSE),"") -> 鬼怒グリーンパーク白沢Ｂ | AL94: =IFERROR(VLOOKUP("K5",抽選結果!$B:$F,5,FALSE),"") -> 大桶運動公園B
C95: =IFERROR(VLOOKUP($E$95&D95,抽選結果!$B:$D,3,FALSE),"") -> 紫塚ＦＣ | D95: 1 | E95: F | AH95: KK | AI95: 6 | AJ95: =IFERROR(VLOOKUP($AH$103&AI95,抽選結果!$B:$D,3,FALSE),"") -> 茂木ＦＣ
C97: =IFERROR(VLOOKUP($E$95&D97,抽選結果!$B:$D,3,FALSE),"") -> 上松山クラブ | D97: 2 | AI97: 5 | AJ97: =IFERROR(VLOOKUP($AH$103&AI97,抽選結果!$B:$D,3,FALSE),"") -> ＢＬＵＥ ＴＨＵＮＤＥＲ
C99: =IFERROR(VLOOKUP($E$95&D99,抽選結果!$B:$D,3,FALSE),"") -> 都賀クラブジュニア | D99: 3 | AI99: 4 | AJ99: =IFERROR(VLOOKUP($AH$103&AI99,抽選結果!$B:$D,3,FALSE),"") -> ＦＣアネーロ宇都宮
C103: =IFERROR(VLOOKUP($E$95&D103,抽選結果!$B:$D,3,FALSE),"") -> 亀山サッカークラブ | D103: 4 | E103: FF | AH103: K | AI103: 3 | AJ103: =IFERROR(VLOOKUP($AH$103&AI103,抽選結果!$B:$D,3,FALSE),"") -> 大谷東フットボールクラブ
C105: =IFERROR(VLOOKUP($E$95&D105,抽選結果!$B:$D,3,FALSE),"") -> 岡西ＦＣ | D105: 5 | AI105: 2 | AJ105: =IFERROR(VLOOKUP($AH$103&AI105,抽選結果!$B:$D,3,FALSE),"") -> 大山フットボールクラブアミーゴ
C107: =IFERROR(VLOOKUP($E$95&D107,抽選結果!$B:$D,3,FALSE),"") -> 佐野ＳＳＳ | D107: 6 | AI107: 1 | AJ107: =IFERROR(VLOOKUP($AH$103&AI107,抽選結果!$B:$D,3,FALSE),"") -> 今市ＦＣプログレス
J109: b | AB109: c
A111: =IFERROR(VLOOKUP("G5",抽選結果!$B:$F,5,FALSE),"") -> 真岡鬼怒自然公園サッカー場（クレー）ＢＡ | AL111: =IFERROR(VLOOKUP("J5",抽選結果!$B:$F,5,FALSE),"") -> 大松山運動公園多目的グランドＡＢ
C112: =IFERROR(VLOOKUP($E$112&D112,抽選結果!$B:$D,3,FALSE),"") -> 富士見サッカースポーツ少年団ブルー | D112: 1 | E112: G | AH112: JJ | AI112: 7 | AJ112: =IFERROR(VLOOKUP($AH$119&AI112,抽選結果!$B:$D,3,FALSE),"") -> ＦＣＲｉｓｏ
C114: =IFERROR(VLOOKUP($E$112&D114,抽選結果!$B:$D,3,FALSE),"") -> 小山三小 ＦＣ | D114: 2 | AI114: 6 | AJ114: =IFERROR(VLOOKUP($AH$119&AI114,抽選結果!$B:$D,3,FALSE),"") -> 祖母井クラブ
C116: =IFERROR(VLOOKUP($E$112&D116,抽選結果!$B:$D,3,FALSE),"") -> ＦＣ ＷＩＬＬＥ | D116: 3 | AI116: 5 | AJ116: =IFERROR(VLOOKUP($AH$119&AI116,抽選結果!$B:$D,3,FALSE),"") -> 石橋ＦＣ
AH119: J | AI119: 4 | AJ119: =IFERROR(VLOOKUP($AH$119&AI119,抽選結果!$B:$D,3,FALSE),"") -> ＳＵＧＡＯサッカークラブ
C120: =IFERROR(VLOOKUP($E$112&D120,抽選結果!$B:$D,3,FALSE),"") -> ＦＣあわのレジェンド | D120: 4 | E120: GG
AI121: 3 | AJ121: =IFERROR(VLOOKUP($AH$119&AI121,抽選結果!$B:$D,3,FALSE),"") -> ＣＡ．アトレチコ 佐野
C122: =IFERROR(VLOOKUP($E$112&D122,抽選結果!$B:$D,3,FALSE),"") -> エスペランサＭＯＫＡ | D122: 5
AI123: 2 | AJ123: =IFERROR(VLOOKUP($AH$119&AI123,抽選結果!$B:$D,3,FALSE),"") -> 那須野ヶ原ＦＣボンジボーラ セカンド
C124: =IFERROR(VLOOKUP($E$112&D124,抽選結果!$B:$D,3,FALSE),"") -> 阿久津サッカークラブ | D124: 6
AI125: 1 | AJ125: =IFERROR(VLOOKUP($AH$119&AI125,抽選結果!$B:$D,3,FALSE),"") -> 鹿沼西ＦＣ
A128: =IFERROR(VLOOKUP("H5",抽選結果!$B:$F,5,FALSE),"") -> 鬼怒グリーンパーク白沢Ａ | AH128: II | AI128: 8 | AJ128: =IFERROR(VLOOKUP($AH$136&AI128,抽選結果!$B:$D,3,FALSE),"") -> ＦＣ城東 | AL128: =IFERROR(VLOOKUP("I5",抽選結果!$B:$F,5,FALSE),"") -> 市貝町城見ヶ丘運動公園ＡＢ
C129: =IFERROR(VLOOKUP($E$129&D129,抽選結果!$B:$D,3,FALSE),"") -> ＮＩＫＫＯ ＳＰＯＲＴＳ ＣＬＵＢ | D129: 1 | E129: H
AI130: 7 | AJ130: =IFERROR(VLOOKUP($AH$136&AI130,抽選結果!$B:$D,3,FALSE),"") -> ＦＣグラシアス
C131: =IFERROR(VLOOKUP($E$129&D131,抽選結果!$B:$D,3,FALSE),"") -> ＦＣ ＳＦｉＤＡ | D131: 2
AI132: 6 | AJ132: =IFERROR(VLOOKUP($AH$136&AI132,抽選結果!$B:$D,3,FALSE),"") -> 坂西ジュニオール
C133: =IFERROR(VLOOKUP($E$129&D133,抽選結果!$B:$D,3,FALSE),"") -> ＪＦＣ 足利ラトゥール | D133: 3
AI134: 5 | AJ134: =IFERROR(VLOOKUP($AH$136&AI134,抽選結果!$B:$D,3,FALSE),"") -> ＪＦＣアミスタ市貝
AH136: I | AI136: 4 | AJ136: =IFERROR(VLOOKUP($AH$136&AI136,抽選結果!$B:$D,3,FALSE),"") -> ジヴェルチード那須
C137: =IFERROR(VLOOKUP($E$129&D137,抽選結果!$B:$D,3,FALSE),"") -> フットボールクラブガナドール大田原Ｕ１２ | D137: 4 | E137: HH
AI138: 3 | AJ138: =IFERROR(VLOOKUP($AH$136&AI138,抽選結果!$B:$D,3,FALSE),"") -> 緑が丘ＹＦＣサッカー教室
C139: =IFERROR(VLOOKUP($E$129&D139,抽選結果!$B:$D,3,FALSE),"") -> 国本ジュニアサッカークラブ | D139: 5
AI140: 2 | AJ140: =IFERROR(VLOOKUP($AH$136&AI140,抽選結果!$B:$D,3,FALSE),"") -> ＡＣ ＥＳＰＡＣＩＯ
...

Sheet U11組合せ
A1: 第41回栃木県U-11サッカー選手権大会 U-11大会の部 組み合わせ表
J3: ■第1日 1月13日 | S3: 予選リーグ
J4: ■第2日 1月14日 | S4: 決勝トーナメント１・２回戦・準々決勝
J5: ■第3日 1月20日 | S5: 準決勝・決勝
A8: 44939 | G8: 44575 | O8: 44946 | Y8: =G8 -> 44575 | AG8: =A8 -> 44939
A9: A会場 | C9: A1 | D9: 1 | E9: A | AL9: P会場
AH10: PP | AI10: 6 | AJ10: P6
C11: A2 | D11: 2
AI12: 5 | AJ12: P5
C13: A3 | D13: 3
AI14: 4 | AJ14: P4
C15: A4 | D15: 4
C17: A5 | D17: 5 | E17: AA
AH18: P | AI18: 3 | AJ18: P3
C19: A6 | D19: 6
AI20: 2 | AJ20: P2
C21: A7 | D21: 7
AI22: 1 | AJ22: P1
C23: A8 | D23: 8
A26: B会場 | C26: B1 | D26: 1 | E26: B | AL26: O会場
AH27: OO | AI27: 6 | AJ27: O6
C28: B2 | D28: 2
AI29: 5 | AJ29: O5
C30: B3 | D30: 3
AI31: 4 | AJ31: O4
C32: B4 | D32: 4
C34: B5 | D34: 5 | E34: BB
AH35: O | AI35: 3 | AJ35: O3
C36: B6 | D36: 6
AI37: 2 | AJ37: O2
C38: B7 | D38: 7
AI39: 1 | AJ39: O1
C40: B8 | D40: 8
J41: a | AB41: d
A43: C会場 | AL43: N会場
C44: C1 | D44: 1 | E44: C | AH44: NN | AI44: 6 | AJ44: N6
C46: C2 | D46: 2 | AI46: 5 | AJ46: N5
C48: C3 | D48: 3 | AI48: 4 | AJ48: N4
C52: C4 | D52: 4 | E52: CC | AH52: N | AI52: 3 | AJ52: N3
C54: C5 | D54: 5 | AI54: 2 | AJ54: N2
C56: C6 | D56: 6 | AI56: 1 | AJ56: N1
A60: D会場 | AH60: MM | AI60: 8 | AJ60: M8 | AL60: M会場
C61: D1 | D61: 1 | E61: D | L61: 県グリーンスタジアムサブグランド | Z61: 大桶運動公園
AI62: 7 | AJ62: M7
C63: D2 | D63: 2
AI64: 6 | AJ64: M6
C65: D3 | D65: 3
AI66: 5 | AJ66: M5
AH68: M | AI68: 4 | AJ68: M4
C69: D4 | D69: 4 | E69: DD
AI70: 3 | AJ70: M3
C71: D5 | D71: 5
AI72: 2 | AJ72: M2
C73: D6 | D73: 6
AI74: 1 | AJ74: M1
A77: E会場 | C77: E1 | D77: 1 | E77: E | AL77: L会場
S78: ハートフル保険フィールド（佐野市運動公園第２多目的球技場） | AH78: LL | AI78: 6 | AJ78: L6
C79: E2 | D79: 2
AI80: 5 | AJ80: L5
C81: E3 | D81: 3
AI82: 4 | AJ82: L4
C83: E4 | D83: 4
C85: E5 | D85: 5 | E85: EE
AH86: L | AI86: 3 | AJ86: L3
C87: E6 | D87: 6
AI88: 2 | AJ88: L2
C89: E7 | D89: 7
AI90: 1 | AJ90: L1
C91: E8 | D91: 8
A94: F会場 | AL94: K会場
C95: F1 | D95: 1 | E95: F | AH95: KK | AI95: 6 | AJ95: K6
C97: F2 | D97: 2 | AI97: 5 | AJ97: K5
C99: F3 | D99: 3 | AI99: 4 | AJ99: K4
C103: F4 | D103: 4 | E103: FF | AH103: K | AI103: 3 | AJ103: K3
C105: F5 | D105: 5 | AI105: 2 | AJ105: K2
C107: F6 | D107: 6 | AI107: 1 | AJ107: K1
J109: b | AB109: c
A111: G会場 | AL111: J会場
C112: G1 | D112: 1 | E112: G | AH112: JJ | AI112: 7 | AJ112: J7
C114: G2 | D114: 2 | AI114: 6 | AJ114: J6
C116: G3 | D116: 3 | AI116: 5 | AJ116: J5
AH119: J | AI119: 4 | AJ119: J4
C120: G4 | D120: 4 | E120: GG
AI121: 3 | AJ121: J3
C122: G5 | D122: 5
AI123: 2 | AJ123: J2
C124: G6 | D124: 6
AI125: 1 | AJ125: J1
A128: H会場 | AH128: II | AI128: 8 | AJ128: I8 | AL128: I会場
C129: H1 | D129: 1 | E129: H
AI130: 7 | AJ130: I7
C131: H2 | D131: 2
AI132: 6 | AJ132: I6
C133: H3 | D133: 3
AI134: 5 | AJ134: I5
AH136: I | AI136: 4 | AJ136: I4
C137: H4 | D137: 4 | E137: HH
AI138: 3 | AJ138: I3
C139: H5 | D139: 5
AI140: 2 | AJ140: I2
...

Sheet AB
A1: ='U11組合せ (抽選結果)'!J3 -> ■第1日 1月13日 | I1: ='U11組合せ (抽選結果)'!S3 -> 予選リーグ | T1: 第1会場 | X1: ='U11組合せ (抽選結果)'!A9 -> 別処山公園サッカー場ＡＢ
I3: A | X3: AA
C6: 1 | G6: 2 | K6: 3 | O6: 4 | R6: 5 | V6: 6 | Z6: 7 | AD6: 8
C7: ='U11組合せ (抽選結果)'!C9 -> ＦＣスポルト宇都宮クラウド | G7: ='U11組合せ (抽選結果)'!C11 -> ＦＣ西那須２１アストロ | K7: ='U11組合せ (抽選結果)'!C13 -> Ｊ－ＳＰＯＲＴＳＦＯＯＴＢＡＬＬＣＬＵＢ | O7: ='U11組合せ (抽選結果)'!C15 -> 今市ジュニオール | R7: ='U11組合せ (抽選結果)'!C17 -> 南河内サッカースポーツ少年団 | V7: ='U11組合せ (抽選結果)'!C19 -> ヴェルフェ矢板Ｕ－１２ | Z7: ='U11組合せ (抽選結果)'!C21 -> ＴＡＣ ＫＵＺＵＵ ＦＣ | AD7: ='U11組合せ (抽選結果)'!C23 -> カテット白沢サッカースクール
B15: ピッチ | AB15: ( | AC15: 主， | AD15: 副， | AE15: 副， | AF15: ４ｔｈ | AG15: )
B16: Ａ | C16: ① | D16: 0.375 | G16: =C7 -> ＦＣスポルト宇都宮クラウド | N16: =P16+P17 -> 0 | O16: （ | P16: 0 | Q16: － | R16: 2 | S16: ） | T16: =R16+R17 -> 5 | U16: =G7 -> ＦＣ西那須２１アストロ | AC16: 5, | AD16: 6, | AE16: 7, | AF16: 8
P17: 0 | Q17: － | R17: 3
B18: Ｂ | C18: ① | D18: 0.375 | G18: =K7 -> Ｊ－ＳＰＯＲＴＳＦＯＯＴＢＡＬＬＣＬＵＢ | N18: =P18+P19 -> 14 | O18: （ | P18: 5 | Q18: － | R18: 0 | S18: ） | T18: =R18+R19 -> 0 | U18: =O7 -> 今市ジュニオール | AC18: 8, | AD18: 7, | AE18: 6, | AF18: 5
P19: 9 | Q19: － | R19: 0
B20: Ａ | C20: ② | D20: 0.40277778 | G20: =R7 -> 南河内サッカースポーツ少年団 | N20: =P20+P21 -> 0 | O20: （ | P20: 0 | Q20: － | R20: 5 | S20: ） | T20: =R20+R21 -> 5 | U20: =V7 -> ヴェルフェ矢板Ｕ－１２ | AC20: 1, | AD20: 2, | AE20: 3, | AF20: 4
P21: 0 | Q21: － | R21: 0
B22: Ｂ | C22: ② | D22: 0.40277778 | G22: =Z7 -> ＴＡＣ ＫＵＺＵＵ ＦＣ | N22: =P22+P23 -> 2 | O22: （ | P22: 1 | Q22: － | R22: 1 | S22: ） | T22: =R22+R23 -> 2 | U22: =AD7 -> カテット白沢サッカースクール | AC22: 4, | AD22: 3, | AE22: 2, | AF22: 1
P23: 1 | Q23: － | R23: 1
B24: Ａ | C24: ③ | D24: 0.43055556 | G24: =C7 -> ＦＣスポルト宇都宮クラウド | N24: =P24+P25 -> 0 | O24: （ | P24: 0 | Q24: － | R24: 4 | S24: ） | T24: =R24+R25 -> 7 | U24: =K7 -> Ｊ－ＳＰＯＲＴＳＦＯＯＴＢＡＬＬＣＬＵＢ | AC24: 6, | AD24: 5, | AE24: 8, | AF24: 7
P25: 0 | Q25: － | R25: 3
B26: Ｂ | C26: ③ | D26: 0.43055556 | G26: =G7 -> ＦＣ西那須２１アストロ | N26: =P26+P27 -> 7 | O26: （ | P26: 6 | Q26: － | R26: 0 | S26: ） | T26: =R26+R27 -> 0 | U26: =O7 -> 今市ジュニオール | AC26: 7, | AD26: 8, | AE26: 5, | AF26: 6
P27: 1 | Q27: － | R27: 0
B28: Ａ | C28: ④ | D28: 0.45833333 | G28: =R7 -> 南河内サッカースポーツ少年団 | N28: =P28+P29 -> 1 | O28: （ | P28: 0 | Q28: － | R28: 0 | S28: ） | T28: =R28+R29 -> 0 | U28: =Z7 -> ＴＡＣ ＫＵＺＵＵ ＦＣ | AC28: 2, | AD28: 1, | AE28: 4, | AF28: 3
P29: 1 | Q29: － | R29: 0
B30: Ｂ | C30: ④ | D30: 0.45833333 | G30: =V7 -> ヴェルフェ矢板Ｕ－１２ | N30: =P30+P31 -> 0 | O30: （ | P30: 0 | Q30: － | R30: 0 | S30: ） | T30: =R30+R31 -> 0 | U30: =AD7 -> カテット白沢サッカースクール | AC30: 3, | AD30: 4, | AE30: 1, | AF30: 2
P31: 0 | Q31: － | R31: 0
B32: Ａ | C32: ⑤ | D32: 0.48611111 | G32: =C7 -> ＦＣスポルト宇都宮クラウド | N32: =P32+P33 -> 3 | O32: （ | P32: 1 | Q32: － | R32: 0 | S32: ） | T32: =R32+R33 -> 0 | U32: =O7 -> 今市ジュニオール | AC32: 5, | AD32: 6, | AE32: 7, | AF32: 8
P33: 2 | Q33: － | R33: 0
B34: Ｂ | C34: ⑤ | D34: 0.48611111 | G34: =G7 -> ＦＣ西那須２１アストロ | N34: =P34+P35 -> 0 | O34: （ | P34: 0 | Q34: － | R34: 0 | S34: ） | T34: =R34+R35 -> 0 | U34: =K7 -> Ｊ－ＳＰＯＲＴＳＦＯＯＴＢＡＬＬＣＬＵＢ | AC34: 8, | AD34: 7, | AE34: 6, | AF34: 5
P35: 0 | Q35: － | R35: 0
B36: Ａ | C36: ⑥ | D36: 0.51388889 | G36: =R7 -> 南河内サッカースポーツ少年団 | N36: =P36+P37 -> 0 | O36: （ | P36: 0 | Q36: － | R36: 1 | S36: ） | T36: =R36+R37 -> 3 | U36: =AD7 -> カテット白沢サッカースクール | AC36: 1, | AD36: 2, | AE36: 3, | AF36: 4
P37: 0 | Q37: － | R37: 2
B38: Ｂ | C38: ⑥ | D38: 0.51388889 | G38: =V7 -> ヴェルフェ矢板Ｕ－１２ | N38: =P38+P39 -> 6 | O38: （ | P38: 2 | Q38: － | R38: 0 | S38: ） | T38: =R38+R39 -> 0 | U38: =Z7 -> ＴＡＣ ＫＵＺＵＵ ＦＣ | AC38: 4, | AD38: 3, | AE38: 2, | AF38: 1
P39: 4 | Q39: － | R39: 0
B41: =I3 &"リーグ" -> Aリーグ | F41: =B43 -> ＦＣスポルト宇都宮クラウド | H41: =B45 -> ＦＣ西那須２１アストロ | J41: =B47 -> Ｊ－ＳＰＯＲＴＳＦＯＯＴＢＡＬＬＣＬＵＢ | L41: =B49 -> 今市ジュニオール | N41: 勝点 | O41: 得失点 | P41: 順位 | R41: =X3 &"リーグ" -> AAリーグ | V41: =R7 -> 南河内サッカースポーツ少年団 | X41: =V7 -> ヴェルフェ矢板Ｕ－１２ | Z41: =Z7 -> ＴＡＣ ＫＵＺＵＵ ＦＣ | AB41: =AD7 -> カテット白沢サッカースクール | AD41: 勝点 | AE41: 得失点 | AF41: 順位
B43: =C7 -> ＦＣスポルト宇都宮クラウド | H43: =N16 -> 0 | I43: =T16 -> 5 | J43: =N24 -> 0 | K43: =T24 -> 7 | L43: =N32 -> 3 | M43: =T32 -> 0 | N43: =COUNTIF(F44:M44,"○")*3+COUNTIF(F44:M44,"△") -> 3 | O43: =H43-I43+J43-K43+L43-M43 -> -9 | P43: 3 | R43: =R7 -> 南河内サッカースポーツ少年団 | X43: =N20 -> 0 | Y43: =T20 -> 5 | Z43: =N28 -> 1 | AA43: =T28 -> 0 | AB43: =N36 -> 0 | AC43: =T36 -> 3 | AD43: =COUNTIF(V44:AC44,"○")*3+COUNTIF(V44:AC44,"△") -> 3 | AE43: =X43-Y43+Z43-AA43+AB43-AC43 -> -7 | AF43: 3
H44: =IF(H43>I43,"○",IF(H43<I43,"×",IF(H43=I43,"△"))) -> × | J44: =IF(J43>K43,"○",IF(J43<K43,"×",IF(J43=K43,"△"))) -> × | L44: =IF(L43>M43,"○",IF(L43<M43,"×",IF(L43=M43,"△"))) -> ○ | X44: =IF(X43>Y43,"○",IF(X43<Y43,"×",IF(X43=Y43,"△"))) -> × | Z44: =IF(Z43>AA43,"○",IF(Z43<AA43,"×",IF(Z43=AA43,"△"))) -> ○ | AB44: =IF(AB43>AC43,"○",IF(AB43<AC43,"×",IF(AB43=AC43,"△"))) -> ×
B45: =G7 -> ＦＣ西那須２１アストロ | F45: =I43 -> 5 | G45: =H43 -> 0 | J45: =N34 -> 0 | K45: =T34 -> 0 | L45: =N26 -> 7 | M45: =T26 -> 0 | N45: =COUNTIF(F46:M46,"○")*3+COUNTIF(F46:M46,"△") -> 7 | O45: =F45-G45+J45-K45+L45-M45 -> 12 | P45: 2 | R45: =V7 -> ヴェルフェ矢板Ｕ－１２ | V45: =Y43 -> 5 | W45: =X43 -> 0 | Z45: =N38 -> 6 | AA45: =T38 -> 0 | AB45: =N30 -> 0 | AC45: =T30 -> 0 | AD45: =COUNTIF(V46:AC46,"○")*3+COUNTIF(V46:AC46,"△") -> 7 | AE45: =V45-W45+Z45-AA45+AB45-AC45 -> 11 | AF45: 1
F46: =IF(F45>G45,"○",IF(F45<G45,"×",IF(F45=G45,"△"))) -> ○ | J46: =IF(J45>K45,"○",IF(J45<K45,"×",IF(J45=K45,"△"))) -> △ | L46: =IF(L45>M45,"○",IF(L45<M45,"×",IF(L45=M45,"△"))) -> ○ | V46: =IF(V45>W45,"○",IF(V45<W45,"×",IF(V45=W45,"△"))) -> ○ | Z46: =IF(Z45>AA45,"○",IF(Z45<AA45,"×",IF(Z45=AA45,"△"))) -> ○ | AB46: =IF(AB45>AC45,"○",IF(AB45<AC45,"×",IF(AB45=AC45,"△"))) -> △
B47: =K7 -> Ｊ－ＳＰＯＲＴＳＦＯＯＴＢＡＬＬＣＬＵＢ | F47: =K43 -> 7 | G47: =J43 -> 0 | H47: =K45 -> 0 | I47: =J45 -> 0 | L47: =N18 -> 14 | M47: =T18 -> 0 | N47: =COUNTIF(F48:M48,"○")*3+COUNTIF(F48:M48,"△") -> 7 | O47: =F47-G47+H47-I47+L47-M47 -> 21 | P47: 1 | R47: =Z7 -> ＴＡＣ ＫＵＺＵＵ ＦＣ | V47: =AA43 -> 0 | W47: =Z43 -> 1 | X47: =AA45 -> 0 | Y47: =Z45 -> 6 | AB47: =N22 -> 2 | AC47: =T22 -> 2 | AD47: =COUNTIF(V48:AC48,"○")*3+COUNTIF(V48:AC48,"△") -> 1 | AE47: =V47-W47+X47-Y47+AB47-AC47 -> -7 | AF47: 4
F48: =IF(F47>G47,"○",IF(F47<G47,"×",IF(F47=G47,"△"))) -> ○ | H48: =IF(H47>I47,"○",IF(H47<I47,"×",IF(H47=I47,"△"))) -> △ | L48: =IF(L47>M47,"○",IF(L47<M47,"×",IF(L47=M47,"△"))) -> ○ | V48: =IF(V47>W47,"○",IF(V47<W47,"×",IF(V47=W47,"△"))) -> × | X48: =IF(X47>Y47,"○",IF(X47<Y47,"×",IF(X47=Y47,"△"))) -> × | AB48: =IF(AB47>AC47,"○",IF(AB47<AC47,"×",IF(AB47=AC47,"△"))) -> △
B49: =O7 -> 今市ジュニオール | F49: =M43 -> 0 | G49: =L43 -> 3 | H49: =M45 -> 0 | I49: =L45 -> 7 | J49: =M47 -> 0 | K49: =L47 -> 14 | N49: =COUNTIF(F50:M50,"○")*3+COUNTIF(F50:M50,"△") -> 0 | O49: =F49-G49+H49-I49+J49-K49 -> -24 | P49: 4 | R49: =AD7 -> カテット白沢サッカースクール | V49: =AC43 -> 3 | W49: =AB43 -> 0 | X49: =AC45 -> 0 | Y49: =AB45 -> 0 | Z49: =AC47 -> 2 | AA49: =AB47 -> 2 | AD49: =COUNTIF(V50:AC50,"○")*3+COUNTIF(V50:AC50,"△") -> 5 | AE49: =V49-W49+X49-Y49+Z49-AA49 -> 3 | AF49: 2
F50: =IF(F49>G49,"○",IF(F49<G49,"×",IF(F49=G49,"△"))) -> × | H50: =IF(H49>I49,"○",IF(H49<I49,"×",IF(H49=I49,"△"))) -> × | J50: =IF(J49>K49,"○",IF(J49<K49,"×",IF(J49=K49,"△"))) -> × | V50: =IF(V49>W49,"○",IF(V49<W49,"×",IF(V49=W49,"△"))) -> ○ | X50: =IF(X49>Y49,"○",IF(X49<Y49,"×",IF(X49=Y49,"△"))) -> △ | Z50: =IF(Z49>AA49,"○",IF(Z49<AA49,"×",IF(Z49=AA49,"△"))) -> △
A52: =A1 -> ■第1日 1月13日 | I52: =I1 -> 予選リーグ | T52: 第2会場 | X52: ='U11組合せ (抽選結果)'!A26 -> サンエコ自然の森サッカー場ＡＢ
I54: B | X54: BB
C57: 1 | G57: 2 | K57: 3 | O57: 4 | R57: 5 | V57: 6 | Z57: 7 | AD57: 8
C58: ='U11組合せ (抽選結果)'!C26 -> ＹＵＺＵＨＡ ＦＣ ジュニア | G58: ='U11組合せ (抽選結果)'!C28 -> 昭和戸祭・細谷ＳＣ | K58: ='U11組合せ (抽選結果)'!C30 -> ＦＣ毛野 | O58: ='U11組合せ (抽選結果)'!C32 -> ＦＣ真岡２１ファンタジー | R58: ='U11組合せ (抽選結果)'!C34 -> ＫＳＣ鹿沼 | V58: ='U11組合せ (抽選結果)'!C36 -> 野原グランディオスＦＣ | Z58: ='U11組合せ (抽選結果)'!C38 -> 栃木ウーヴァＦＣ・Ｕ－１２ | AD58: ='U11組合せ (抽選結果)'!C40 -> みはらサッカークラブジュニア
B66: ピッチ | AB66: ( | AC66: 主， | AD66: 副， | AE66: 副， | AF66: ４ｔｈ | AG66: )
B67: Ａ | C67: ① | D67: 0.375 | G67: =C58 -> ＹＵＺＵＨＡ ＦＣ ジュニア | N67: =P67+P68 -> 1 | O67: （ | P67: 0 | Q67: － | R67: 4 | S67: ） | T67: =R67+R68 -> 6 | U67: =G58 -> 昭和戸祭・細谷ＳＣ | AC67: 5, | AD67: 6, | AE67: 7, | AF67: 8
P68: 1 | Q68: － | R68: 2
B69: Ｂ | C69: ① | D69: 0.375 | G69: =K58 -> ＦＣ毛野 | N69: =P69+P70 -> 0 | O69: （ | P69: 0 | Q69: － | R69: 0 | S69: ） | T69: =R69+R70 -> 1 | U69: =O58 -> ＦＣ真岡２１ファンタジー | AC69: 8, | AD69: 7, | AE69: 6, | AF69: 5
P70: 0 | Q70: － | R70: 1
B71: Ａ | C71: ② | D71: 0.40277778 | G71: =R58 -> ＫＳＣ鹿沼 | N71: =P71+P72 -> 0 | O71: （ | P71: 0 | Q71: － | R71: 1 | S71: ） | T71: =R71+R72 -> 4 | U71: =V58 -> 野原グランディオスＦＣ | AC71: 1, | AD71: 2, | AE71: 3, | AF71: 4
P72: 0 | Q72: － | R72: 3
B73: Ｂ | C73: ② | D73: 0.40277778 | G73: =Z58 -> 栃木ウーヴァＦＣ・Ｕ－１２ | N73: =P73+P74 -> 1 | O73: （ | P73: 0 | Q73: － | R73: 1 | S73: ） | T73: =R73+R74 -> 1 | U73: =AD58 -> みはらサッカークラブジュニア | AC73: 4, | AD73: 3, | AE73: 2, | AF73: 1
P74: 1 | Q74: － | R74: 0
B75: Ａ | C75: ③ | D75: 0.43055556 | G75: =C58 -> ＹＵＺＵＨＡ ＦＣ ジュニア | N75: =P75+P76 -> 1 | O75: （ | P75: 0 | Q75: － | R75: 0 | S75: ） | T75: =R75+R76 -> 1 | U75: =K58 -> ＦＣ毛野 | AC75: 6, | AD75: 5, | AE75: 8, | AF75: 7
P76: 1 | Q76: － | R76: 1
B77: Ｂ | C77: ③ | D77: 0.43055556 | G77: =G58 -> 昭和戸祭・細谷ＳＣ | N77: =P77+P78 -> 2 | O77: （ | P77: 2 | Q77: － | R77: 1 | S77: ） | T77: =R77+R78 -> 3 | U77: =O58 -> ＦＣ真岡２１ファンタジー | AC77: 7, | AD77: 8, | AE77: 5, | AF77: 6
P78: 0 | Q78: － | R78: 2
B79: Ａ | C79: ④ | D79: 0.45833333 | G79: =R58 -> ＫＳＣ鹿沼 | N79: =P79+P80 -> 2 | O79: （ | P79: 1 | Q79: － | R79: 0 | S79: ） | T79: =R79+R80 -> 0 | U79: =Z58 -> 栃木ウーヴァＦＣ・Ｕ－１２ | AC79: 2, | AD79: 1, | AE79: 4, | AF79: 3
P80: 1 | Q80: － | R80: 0
B81: Ｂ | C81: ④ | D81: 0.45833333 | G81: =V58 -> 野原グランディオスＦＣ | N81: =P81+P82 -> 2 | O81: （ | P81: 0 | Q81: － | R81: 0 | S81: ） | T81: =R81+R82 -> 0 | U81: =AD58 -> みはらサッカークラブジュニア | AC81: 3, | AD81: 4, | AE81: 1, | AF81: 2
P82: 2 | Q82: － | R82: 0
B83: Ａ | C83: ⑤ | D83: 0.48611111 | G83: =C58 -> ＹＵＺＵＨＡ ＦＣ ジュニア | N83: =P83+P84 -> 1 | O83: （ | P83: 0 | Q83: － | R83: 2 | S83: ） | T83: =R83+R84 -> 6 | U83: =O58 -> ＦＣ真岡２１ファンタジー | AC83: 5, | AD83: 6, | AE83: 7, | AF83: 8
P84: 1 | Q84: － | R84: 4
B85: Ｂ | C85: ⑤ | D85: 0.48611111 | G85: =G58 -> 昭和戸祭・細谷ＳＣ | N85: =P85+P86 -> 5 | O85: （ | P85: 4 | Q85: － | R85: 1 | S85: ） | T85: =R85+R86 -> 1 | U85: =K58 -> ＦＣ毛野 | AC85: 8, | AD85: 7, | AE85: 6, | AF85: 5
P86: 1 | Q86: － | R86: 0
B87: Ａ | C87: ⑥ | D87: 0.51388889 | G87: =R58 -> ＫＳＣ鹿沼 | N87: =P87+P88 -> 0 | O87: （ | P87: 0 | Q87: － | R87: 0 | S87: ） | T87: =R87+R88 -> 0 | U87: =AD58 -> みはらサッカークラブジュニア | AC87: 1, | AD87: 2, | AE87: 3, | AF87: 4
P88: 0 | Q88: － | R88: 0
B89: Ｂ | C89: ⑥ | D89: 0.51388889 | G89: =V58 -> 野原グランディオスＦＣ | N89: =P89+P90 -> 4 | O89: （ | P89: 4 | Q89: － | R89: 0 | S89: ） | T89: =R89+R90 -> 1 | U89: =Z58 -> 栃木ウーヴァＦＣ・Ｕ－１２ | AC89: 4, | AD89: 3, | AE89: 2, | AF89: 1
P90: 0 | Q90: － | R90: 1
B92: =I54 &"リーグ" -> Bリーグ | F92: =B94 -> ＹＵＺＵＨＡ ＦＣ ジュニア | H92: =B96 -> 昭和戸祭・細谷ＳＣ | J92: =B98 -> ＦＣ毛野 | L92: =B100 -> ＦＣ真岡２１ファンタジー | N92: 勝点 | O92: 得失点 | P92: 順位 | R92: =X54 &"リーグ" -> BBリーグ | V92: =R58 -> ＫＳＣ鹿沼 | X92: =V58 -> 野原グランディオスＦＣ | Z92: =Z58 -> 栃木ウーヴァＦＣ・Ｕ－１２ | AB92: =AD58 -> みはらサッカークラブジュニア | AD92: 勝点 | AE92: 得失点 | AF92: 順位
B94: =C58 -> ＹＵＺＵＨＡ ＦＣ ジュニア | H94: =N67 -> 1 | I94: =T67 -> 6 | J94: =N75 -> 1 | K94: =T75 -> 1 | L94: =N83 -> 1 | M94: =T83 -> 6 | N94: =COUNTIF(F95:M95,"○")*3+COUNTIF(F95:M95,"△") -> 1 | O94: =H94-I94+J94-K94+L94-M94 -> -10 | P94: 4 | R94: =R58 -> ＫＳＣ鹿沼 | X94: =N71 -> 0 | Y94: =T71 -> 4 | Z94: =N79 -> 2 | AA94: =T79 -> 0 | AB94: =N87 -> 0 | AC94: =T87 -> 0 | AD94: =COUNTIF(V95:AC95,"○")*3+COUNTIF(V95:AC95,"△") -> 4 | AE94: =X94-Y94+Z94-AA94+AB94-AC94 -> -2 | AF94: 2
H95: =IF(H94>I94,"○",IF(H94<I94,"×",IF(H94=I94,"△"))) -> × | J95: =IF(J94>K94,"○",IF(J94<K94,"×",IF(J94=K94,"△"))) -> △ | L95: =IF(L94>M94,"○",IF(L94<M94,"×",IF(L94=M94,"△"))) -> × | X95: =IF(X94>Y94,"○",IF(X94<Y94,"×",IF(X94=Y94,"△"))) -> × | Z95: =IF(Z94>AA94,"○",IF(Z94<AA94,"×",IF(Z94=AA94,"△"))) -> ○ | AB95: =IF(AB94>AC94,"○",IF(AB94<AC94,"×",IF(AB94=AC94,"△"))) -> △
B96: =G58 -> 昭和戸祭・細谷ＳＣ | F96: =I94 -> 6 | G96: =H94 -> 1 | J96: =N85 -> 5 | K96: =T85 -> 1 | L96: =N77 -> 2 | M96: =T77 -> 3 | N96: =COUNTIF(F97:M97,"○")*3+COUNTIF(F97:M97,"△") -> 6 | O96: =F96-G96+J96-K96+L96-M96 -> 8 | P96: 2 | R96: =V58 -> 野原グランディオスＦＣ | V96: =Y94 -> 4 | W96: =X94 -> 0 | Z96: =N89 -> 4 | AA96: =T89 -> 1 | AB96: =N81 -> 2 | AC96: =T81 -> 0 | AD96: =COUNTIF(V97:AC97,"○")*3+COUNTIF(V97:AC97,"△") -> 9 | AE96: =V96-W96+Z96-AA96+AB96-AC96 -> 9 | AF96: 1
F97: =IF(F96>G96,"○",IF(F96<G96,"×",IF(F96=G96,"△"))) -> ○ | J97: =IF(J96>K96,"○",IF(J96<K96,"×",IF(J96=K96,"△"))) -> ○ | L97: =IF(L96>M96,"○",IF(L96<M96,"×",IF(L96=M96,"△"))) -> × | V97: =IF(V96>W96,"○",IF(V96<W96,"×",IF(V96=W96,"△"))) -> ○ | Z97: =IF(Z96>AA96,"○",IF(Z96<AA96,"×",IF(Z96=AA96,"△"))) -> ○ | AB97: =IF(AB96>AC96,"○",IF(AB96<AC96,"×",IF(AB96=AC96,"△"))) -> ○
B98: =K58 -> ＦＣ毛野 | F98: =K94 -> 1 | G98: =J94 -> 1 | H98: =K96 -> 1 | I98: =J96 -> 5 | L98: =N69 -> 0 | M98: =T69 -> 1 | N98: =COUNTIF(F99:M99,"○")*3+COUNTIF(F99:M99,"△") -> 1 | O98: =F98-G98+H98-I98+L98-M98 -> -5 | P98: 3 | R98: =Z58 -> 栃木ウーヴァＦＣ・Ｕ－１２ | V98: =AA94 -> 0 | W98: =Z94 -> 2 | X98: =AA96 -> 1 | Y98: =Z96 -> 4 | AB98: =N73 -> 1 | AC98: =T73 -> 1 | AD98: =COUNTIF(V99:AC99,"○")*3+COUNTIF(V99:AC99,"△") -> 1 | AE98: =V98-W98+X98-Y98+AB98-AC98 -> -5 | AF98: 4
F99: =IF(F98>G98,"○",IF(F98<G98,"×",IF(F98=G98,"△"))) -> △ | H99: =IF(H98>I98,"○",IF(H98<I98,"×",IF(H98=I98,"△"))) -> × | L99: =IF(L98>M98,"○",IF(L98<M98,"×",IF(L98=M98,"△"))) -> × | V99: =IF(V98>W98,"○",IF(V98<W98,"×",IF(V98=W98,"△"))) -> × | X99: =IF(X98>Y98,"○",IF(X98<Y98,"×",IF(X98=Y98,"△"))) -> × | AB99: =IF(AB98>AC98,"○",IF(AB98<AC98,"×",IF(AB98=AC98,"△"))) -> △
B100: =O58 -> ＦＣ真岡２１ファンタジー | F100: =M94 -> 6 | G100: =L94 -> 1 | H100: =M96 -> 3 | I100: =L96 -> 2 | J100: =M98 -> 1 | K100: =L98 -> 0 | N100: =COUNTIF(F101:M101,"○")*3+COUNTIF(F101:M101,"△") -> 9 | O100: =F100-G100+H100-I100+J100-K100 -> 7 | P100: 1 | R100: =AD58 -> みはらサッカークラブジュニア | V100: =AC94 -> 0 | W100: =AB94 -> 0 | X100: =AC96 -> 0 | Y100: =AB96 -> 2 | Z100: =AC98 -> 1 | AA100: =AB98 -> 1 | AD100: =COUNTIF(V101:AC101,"○")*3+COUNTIF(V101:AC101,"△") -> 2 | AE100: =V100-W100+X100-Y100+Z100-AA100 -> -2 | AF100: 3
F101: =IF(F100>G100,"○",IF(F100<G100,"×",IF(F100=G100,"△"))) -> ○ | H101: =IF(H100>I100,"○",IF(H100<I100,"×",IF(H100=I100,"△"))) -> ○ | J101: =IF(J100>K100,"○",IF(J100<K100,"×",IF(J100=K100,"△"))) -> ○ | V101: =IF(V100>W100,"○",IF(V100<W100,"×",IF(V100=W100,"△"))) -> △ | X101: =IF(X100>Y100,"○",IF(X100<Y100,"×",IF(X100=Y100,"△"))) -> × | Z101: =IF(Z100>AA100,"○",IF(Z100<AA100,"×",IF(Z100=AA100,"△"))) -> △

Sheet CD
A1: ='U11組合せ (抽選結果)'!J3 -> ■第1日 1月13日 | I1: ='U11組合せ (抽選結果)'!S3 -> 予選リーグ | T1: 第3会場 | X1: ='U11組合せ (抽選結果)'!A43 -> 真岡鬼怒自然公園サッカー場（クレー）BB
J3: C | W3: CC
F6: 1 | J6: 2 | N6: 3 | S6: 4 | W6: 5 | AA6: 6
F7: ='U11組合せ (抽選結果)'!C44 -> クレアＦＣアルドーレ | J7: ='U11組合せ (抽選結果)'!C46 -> 大田原城山サッカークラブ | N7: ='U11組合せ (抽選結果)'!C48 -> ＦＣブロケード | S7: ='U11組合せ (抽選結果)'!C52 -> 野木ＳＳＳ | W7: ='U11組合せ (抽選結果)'!C54 -> ＦＣ中村Ｕ－１１ | AA7: ='U11組合せ (抽選結果)'!C56 -> 東那須野ＦＣフェニックス
AB15: ( | AC15: 主， | AD15: 副， | AE15: 副， | AF15: ４ｔｈ | AG15: )
B16: ① | C16: 0.375 | G16: =F7 -> クレアＦＣアルドーレ | N16: =P16+P17 -> 0 | O16: （ | P16: 0 | Q16: － | R16: 0 | S16: ） | T16: =R16+R17 -> 0 | U16: =J7 -> 大田原城山サッカークラブ | AC16: 6, | AD16: 4, | AE16: 5, | AF16: 6
P17: 0 | Q17: － | R17: 0
B19: ② | C19: 0.40277778 | G19: =S7 -> 野木ＳＳＳ | N19: =P19+P20 -> 4 | O19: （ | P19: 0 | Q19: － | R19: 0 | S19: ） | T19: =R19+R20 -> 1 | U19: =W7 -> ＦＣ中村Ｕ－１１ | AC19: 3, | AD19: 1, | AE19: 2, | AF19: 3
P20: 4 | Q20: － | R20: 1
B22: ③ | C22: 0.43055556 | G22: =F7 -> クレアＦＣアルドーレ | N22: =P22+P23 -> 2 | O22: （ | P22: 1 | Q22: － | R22: 1 | S22: ） | T22: =R22+R23 -> 1 | U22: =N7 -> ＦＣブロケード | AC22: 5, | AD22: 6, | AE22: 4, | AF22: 5
P23: 1 | Q23: － | R23: 0
B25: ④ | C25: 0.45833333 | G25: =S7 -> 野木ＳＳＳ | N25: =P25+P26 -> 0 | O25: （ | P25: 0 | Q25: － | R25: 1 | S25: ） | T25: =R25+R26 -> 1 | U25: =AA7 -> 東那須野ＦＣフェニックス | AC25: 2, | AD25: 3, | AE25: 1, | AF25: 2
P26: 0 | Q26: － | R26: 0
B28: ⑤ | C28: 0.48611111 | G28: =J7 -> 大田原城山サッカークラブ | N28: =P28+P29 -> 4 | O28: （ | P28: 4 | Q28: － | R28: 0 | S28: ） | T28: =R28+R29 -> 0 | U28: =N7 -> ＦＣブロケード | AC28: 4, | AD28: 5, | AE28: 6, | AF28: 4
P29: 0 | Q29: － | R29: 0
B31: ⑥ | C31: 0.51388889 | G31: =W7 -> ＦＣ中村Ｕ－１１ | N31: =P31+P32 -> 0 | O31: （ | P31: 0 | Q31: － | R31: 2 | S31: ） | T31: =R31+R32 -> 4 | U31: =AA7 -> 東那須野ＦＣフェニックス | AC31: 1, | AD31: 2, | AE31: 3, | AF31: 1
P32: 0 | Q32: － | R32: 2
C34: =J3 &"リーグ" -> Cリーグ | G34: =C36 -> クレアＦＣアルドーレ | I34: =C38 -> 大田原城山サッカークラブ | K34: =C40 -> ＦＣブロケード | M34: 勝点 | N34: 得失点 | O34: 総得点 | P34: 順位 | R34: =W3 &"リーグ" -> CCリーグ | V34: =R36 -> 野木ＳＳＳ | X34: =R38 -> ＦＣ中村Ｕ－１１ | Z34: =R40 -> 東那須野ＦＣフェニックス | AB34: 勝点 | AC34: 得失点 | AD34: 総得点 | AE34: 順位
C36: =F7 -> クレアＦＣアルドーレ | I36: =N16 -> 0 | J36: =T16 -> 0 | K36: =N22 -> 2 | L36: =T22 -> 1 | M36: =COUNTIF(G37:L37,"○")*3+COUNTIF(G37:L37,"△") -> 4 | N36: =O36-J36-L36 -> 1 | O36: =I36+K36 -> 2 | P36: 2 | R36: =S7 -> 野木ＳＳＳ | X36: =N19 -> 4 | Y36: =T19 -> 1 | Z36: =N25 -> 0 | AA36: =T25 -> 1 | AB36: =COUNTIF(V37:AA37,"○")*3+COUNTIF(V37:AA37,"△") -> 3 | AC36: =AD36-Y36-AA36 -> 2 | AD36: =X36+Z36 -> 4 | AE36: 2
I37: =IF(I36>J36,"○",IF(I36<J36,"×",IF(I36=J36,"△"))) -> △ | K37: =IF(K36>L36,"○",IF(K36<L36,"×",IF(K36=L36,"△"))) -> ○ | X37: =IF(X36>Y36,"○",IF(X36<Y36,"×",IF(X36=Y36,"△"))) -> ○ | Z37: =IF(Z36>AA36,"○",IF(Z36<AA36,"×",IF(Z36=AA36,"△"))) -> ×
C38: =J7 -> 大田原城山サッカークラブ | G38: =J36 -> 0 | H38: =I36 -> 0 | K38: =N28 -> 4 | L38: =T28 -> 0 | M38: =COUNTIF(G39:L39,"○")*3+COUNTIF(G39:L39,"△") -> 4 | N38: =O38-H38-L38 -> 4 | O38: =G38+K38 -> 4 | P38: 1 | R38: =W7 -> ＦＣ中村Ｕ－１１ | V38: =Y36 -> 1 | W38: =X36 -> 4 | Z38: =N31 -> 0 | AA38: =T31 -> 4 | AB38: =COUNTIF(V39:AA39,"○")*3+COUNTIF(V39:AA39,"△") -> 0 | AC38: =AD38-W38-AA38 -> -7 | AD38: =V38+Z38 -> 1 | AE38: 3
G39: =IF(G38>H38,"○",IF(G38<H38,"×",IF(G38=H38,"△"))) -> △ | K39: =IF(K38>L38,"○",IF(K38<L38,"×",IF(K38=L38,"△"))) -> ○ | V39: =IF(V38>W38,"○",IF(V38<W38,"×",IF(V38=W38,"△"))) -> × | Z39: =IF(Z38>AA38,"○",IF(Z38<AA38,"×",IF(Z38=AA38,"△"))) -> ×
C40: =N7 -> ＦＣブロケード | G40: =L36 -> 1 | H40: =K36 -> 2 | I40: =L38 -> 0 | J40: =K38 -> 4 | M40: =COUNTIF(G41:L41,"○")*3+COUNTIF(G41:L41,"△") -> 0 | N40: =O40-H40-J40 -> -5 | O40: =G40+I40 -> 1 | P40: 3 | R40: =AA7 -> 東那須野ＦＣフェニックス | V40: =AA36 -> 1 | W40: =Z36 -> 0 | X40: =AA38 -> 4 | Y40: =Z38 -> 0 | AB40: =COUNTIF(V41:AA41,"○")*3+COUNTIF(V41:AA41,"△") -> 6 | AC40: =AD40-W40-Y40 -> 5 | AD40: =V40+X40 -> 5 | AE40: 1
G41: =IF(G40>H40,"○",IF(G40<H40,"×",IF(G40=H40,"△"))) -> × | I41: =IF(I40>J40,"○",IF(I40<J40,"×",IF(I40=J40,"△"))) -> × | V41: =IF(V40>W40,"○",IF(V40<W40,"×",IF(V40=W40,"△"))) -> ○ | X41: =IF(X40>Y40,"○",IF(X40<Y40,"×",IF(X40=Y40,"△"))) -> ○
A44: =A1 -> ■第1日 1月13日 | I44: =I1 -> 予選リーグ | T44: 第4会場 | X44: ='U11組合せ (抽選結果)'!A60 -> 大桶運動公園A
J46: D | W46: DD
F49: 1 | J49: 2 | N49: 3 | S49: 4 | W49: 5 | AA49: 6
F50: ='U11組合せ (抽選結果)'!C61 -> おおぞらＳＣ | J50: ='U11組合せ (抽選結果)'!C63 -> 今市ＦＣプログレスセカンド | N50: ='U11組合せ (抽選結果)'!C65 -> 西原ＦＣ | S50: ='U11組合せ (抽選結果)'!C69 -> ＦＣスポルト宇都宮 | W50: ='U11組合せ (抽選結果)'!C71 -> ＦＣバジェルボ那須烏山 | AA50: ='U11組合せ (抽選結果)'!C73 -> 栃木ジュニオール
AB58: ( | AC58: 主， | AD58: 副， | AE58: 副， | AF58: ４ｔｈ | AG58: )
B59: ① | C59: 0.375 | G59: =F50 -> おおぞらＳＣ | N59: =P59+P60 -> 6 | O59: （ | P59: 5 | Q59: － | R59: 0 | S59: ） | T59: =R59+R60 -> 0 | U59: =J50 -> 今市ＦＣプログレスセカンド | AC59: 6, | AD59: 4, | AE59: 5, | AF59: 6
P60: 1 | Q60: － | R60: 0
B62: ② | C62: 0.40277778 | G62: =S50 -> ＦＣスポルト宇都宮 | N62: =P62+P63 -> 3 | O62: （ | P62: 1 | Q62: － | R62: 0 | S62: ） | T62: =R62+R63 -> 0 | U62: =W50 -> ＦＣバジェルボ那須烏山 | AC62: 3, | AD62: 1, | AE62: 2, | AF62: 3
P63: 2 | Q63: － | R63: 0
B65: ③ | C65: 0.43055556 | G65: =F50 -> おおぞらＳＣ | N65: =P65+P66 -> 8 | O65: （ | P65: 4 | Q65: － | R65: 0 | S65: ） | T65: =R65+R66 -> 0 | U65: =N50 -> 西原ＦＣ | AC65: 5, | AD65: 6, | AE65: 4, | AF65: 5
P66: 4 | Q66: － | R66: 0
B68: ④ | C68: 0.45833333 | G68: =S50 -> ＦＣスポルト宇都宮 | N68: =P68+P69 -> 2 | O68: （ | P68: 1 | Q68: － | R68: 0 | S68: ） | T68: =R68+R69 -> 0 | U68: =AA50 -> 栃木ジュニオール | AC68: 2, | AD68: 3, | AE68: 1, | AF68: 2
P69: 1 | Q69: － | R69: 0
B71: ⑤ | C71: 0.48611111 | G71: =J50 -> 今市ＦＣプログレスセカンド | N71: =P71+P72 -> 0 | O71: （ | P71: 0 | Q71: － | R71: 0 | S71: ） | T71: =R71+R72 -> 1 | U71: =N50 -> 西原ＦＣ | AC71: 4, | AD71: 5, | AE71: 6, | AF71: 4
P72: 0 | Q72: － | R72: 1
B74: ⑥ | C74: 0.51388889 | G74: =W50 -> ＦＣバジェルボ那須烏山 | N74: =P74+P75 -> 1 | O74: （ | P74: 0 | Q74: － | R74: 0 | S74: ） | T74: =R74+R75 -> 0 | U74: =AA50 -> 栃木ジュニオール | AC74: 1, | AD74: 2, | AE74: 3, | AF74: 1
P75: 1 | Q75: － | R75: 0
C77: =J46 &"リーグ" -> Dリーグ | G77: =C79 -> おおぞらＳＣ | I77: =C81 -> 今市ＦＣプログレスセカンド | K77: =C83 -> 西原ＦＣ | M77: 勝点 | N77: 得失点 | O77: 総得点 | P77: 順位 | R77: =W46 &"リーグ" -> DDリーグ | V77: =R79 -> ＦＣスポルト宇都宮 | X77: =R81 -> ＦＣバジェルボ那須烏山 | Z77: =R83 -> 栃木ジュニオール | AB77: 勝点 | AC77: 得失点 | AD77: 総得点 | AE77: 順位
C79: =F50 -> おおぞらＳＣ | I79: =N59 -> 6 | J79: =T59 -> 0 | K79: =N65 -> 8 | L79: =T65 -> 0 | M79: =COUNTIF(G80:L80,"○")*3+COUNTIF(G80:L80,"△") -> 6 | N79: =O79-J79-L79 -> 14 | O79: =I79+K79 -> 14 | P79: 1 | R79: =S50 -> ＦＣスポルト宇都宮 | X79: =N62 -> 3 | Y79: =T62 -> 0 | Z79: =N68 -> 2 | AA79: =T68 -> 0 | AB79: =COUNTIF(V80:AA80,"○")*3+COUNTIF(V80:AA80,"△") -> 6 | AC79: =AD79-Y79-AA79 -> 5 | AD79: =X79+Z79 -> 5 | AE79: 1
I80: =IF(I79>J79,"○",IF(I79<J79,"×",IF(I79=J79,"△"))) -> ○ | K80: =IF(K79>L79,"○",IF(K79<L79,"×",IF(K79=L79,"△"))) -> ○ | X80: =IF(X79>Y79,"○",IF(X79<Y79,"×",IF(X79=Y79,"△"))) -> ○ | Z80: =IF(Z79>AA79,"○",IF(Z79<AA79,"×",IF(Z79=AA79,"△"))) -> ○
C81: =J50 -> 今市ＦＣプログレスセカンド | G81: =J79 -> 0 | H81: =I79 -> 6 | K81: =N71 -> 0 | L81: =T71 -> 1 | M81: =COUNTIF(G82:L82,"○")*3+COUNTIF(G82:L82,"△") -> 0 | N81: =O81-H81-L81 -> -7 | O81: =G81+K81 -> 0 | P81: 3 | R81: =W50 -> ＦＣバジェルボ那須烏山 | V81: =Y79 -> 0 | W81: =X79 -> 3 | Z81: =N74 -> 1 | AA81: =T74 -> 0 | AB81: =COUNTIF(V82:AA82,"○")*3+COUNTIF(V82:AA82,"△") -> 3 | AC81: =AD81-W81-AA81 -> -2 | AD81: =V81+Z81 -> 1 | AE81: 2
G82: =IF(G81>H81,"○",IF(G81<H81,"×",IF(G81=H81,"△"))) -> × | K82: =IF(K81>L81,"○",IF(K81<L81,"×",IF(K81=L81,"△"))) -> × | V82: =IF(V81>W81,"○",IF(V81<W81,"×",IF(V81=W81,"△"))) -> × | Z82: =IF(Z81>AA81,"○",IF(Z81<AA81,"×",IF(Z81=AA81,"△"))) -> ○
C83: =N50 -> 西原ＦＣ | G83: =L79 -> 0 | H83: =K79 -> 8 | I83: =L81 -> 1 | J83: =K81 -> 0 | M83: =COUNTIF(G84:L84,"○")*3+COUNTIF(G84:L84,"△") -> 3 | N83: =O83-H83-J83 -> -7 | O83: =G83+I83 -> 1 | P83: 2 | R83: =AA50 -> 栃木ジュニオール | V83: =AA79 -> 0 | W83: =Z79 -> 2 | X83: =AA81 -> 0 | Y83: =Z81 -> 1 | AB83: =COUNTIF(V84:AA84,"○")*3+COUNTIF(V84:AA84,"△") -> 0 | AC83: =AD83-W83-Y83 -> -3 | AD83: =V83+X83 -> 0 | AE83: 3
G84: =IF(G83>H83,"○",IF(G83<H83,"×",IF(G83=H83,"△"))) -> × | I84: =IF(I83>J83,"○",IF(I83<J83,"×",IF(I83=J83,"△"))) -> ○ | V84: =IF(V83>W83,"○",IF(V83<W83,"×",IF(V83=W83,"△"))) -> × | X84: =IF(X83>Y83,"○",IF(X83<Y83,"×",IF(X83=Y83,"△"))) -> ×

Sheet EF
A1: ='U11組合せ (抽選結果)'!J3 -> ■第1日 1月13日 | I1: ='U11組合せ (抽選結果)'!S3 -> 予選リーグ | T1: 第5会場 | X1: ='U11組合せ (抽選結果)'!A77 -> ハートフル保険フィールド（佐野市運動公園第２多目的球技場）ＡＢ
I3: E | X3: EE
C6: 1 | G6: 2 | K6: 3 | O6: 4 | R6: 5 | V6: 6 | Z6: 7 | AD6: 8
C7: ='U11組合せ (抽選結果)'!C77 -> フットボールクラブ氏家 | G7: ='U11組合せ (抽選結果)'!C79 -> 上三川サッカークラブ | K7: ='U11組合せ (抽選結果)'!C81 -> ＦＣ Ａｖａｎｃｅ | O7: ='U11組合せ (抽選結果)'!C83 -> ＪＦＣファイターズ | R7: ='U11組合せ (抽選結果)'!C85 -> ＦＣ ＳＨＵＪＡＫＵ | V7: ='U11組合せ (抽選結果)'!C87 -> 北押原ＦＣ | Z7: ='U11組合せ (抽選結果)'!C89 -> 宝木キッカーズ | AD7: ='U11組合せ (抽選結果)'!C91 -> 間東ＦＣミラクルズ
B15: ピッチ | AB15: ( | AC15: 主， | AD15: 副， | AE15: 副， | AF15: ４ｔｈ | AG15: )
B16: Ａ | C16: ① | D16: 0.375 | G16: =C7 -> フットボールクラブ氏家 | N16: =P16+P17 -> 2 | O16: （ | P16: 1 | Q16: － | R16: 0 | S16: ） | T16: =R16+R17 -> 0 | U16: =G7 -> 上三川サッカークラブ | AC16: 5, | AD16: 6, | AE16: 7, | AF16: 8
P17: 1 | Q17: － | R17: 0
B18: Ｂ | C18: ① | D18: 0.375 | G18: =K7 -> ＦＣ Ａｖａｎｃｅ | N18: =P18+P19 -> 1 | O18: （ | P18: 0 | Q18: － | R18: 1 | S18: ） | T18: =R18+R19 -> 1 | U18: =O7 -> ＪＦＣファイターズ | AC18: 8, | AD18: 7, | AE18: 6, | AF18: 5
P19: 1 | Q19: － | R19: 0
B20: Ａ | C20: ② | D20: 0.40277778 | G20: =R7 -> ＦＣ ＳＨＵＪＡＫＵ | N20: =P20+P21 -> 1 | O20: （ | P20: 1 | Q20: － | R20: 1 | S20: ） | T20: =R20+R21 -> 1 | U20: =V7 -> 北押原ＦＣ | AC20: 1, | AD20: 2, | AE20: 3, | AF20: 4
P21: 0 | Q21: － | R21: 0
B22: Ｂ | C22: ② | D22: 0.40277778 | G22: =Z7 -> 宝木キッカーズ | N22: =P22+P23 -> 0 | O22: （ | P22: 0 | Q22: － | R22: 2 | S22: ） | T22: =R22+R23 -> 4 | U22: =AD7 -> 間東ＦＣミラクルズ | AC22: 4, | AD22: 3, | AE22: 2, | AF22: 1
P23: 0 | Q23: － | R23: 2
B24: Ａ | C24: ③ | D24: 0.43055556 | G24: =C7 -> フットボールクラブ氏家 | N24: =P24+P25 -> 0 | O24: （ | P24: 0 | Q24: － | R24: 1 | S24: ） | T24: =R24+R25 -> 3 | U24: =K7 -> ＦＣ Ａｖａｎｃｅ | AC24: 6, | AD24: 5, | AE24: 8, | AF24: 7
P25: 0 | Q25: － | R25: 2
B26: Ｂ | C26: ③ | D26: 0.43055556 | G26: =G7 -> 上三川サッカークラブ | N26: =P26+P27 -> 0 | O26: （ | P26: 0 | Q26: － | R26: 5 | S26: ） | T26: =R26+R27 -> 8 | U26: =O7 -> ＪＦＣファイターズ | AC26: 7, | AD26: 8, | AE26: 5, | AF26: 6
P27: 0 | Q27: － | R27: 3
B28: Ａ | C28: ④ | D28: 0.45833333 | G28: =R7 -> ＦＣ ＳＨＵＪＡＫＵ | N28: =P28+P29 -> 4 | O28: （ | P28: 2 | Q28: － | R28: 0 | S28: ） | T28: =R28+R29 -> 0 | U28: =Z7 -> 宝木キッカーズ | AC28: 2, | AD28: 1, | AE28: 4, | AF28: 3
P29: 2 | Q29: － | R29: 0
B30: Ｂ | C30: ④ | D30: 0.45833333 | G30: =V7 -> 北押原ＦＣ | N30: =P30+P31 -> 0 | O30: （ | P30: 0 | Q30: － | R30: 4 | S30: ） | T30: =R30+R31 -> 5 | U30: =AD7 -> 間東ＦＣミラクルズ | AC30: 3, | AD30: 4, | AE30: 1, | AF30: 2
P31: 0 | Q31: － | R31: 1
B32: Ａ | C32: ⑤ | D32: 0.48611111 | G32: =C7 -> フットボールクラブ氏家 | N32: =P32+P33 -> 0 | O32: （ | P32: 0 | Q32: － | R32: 1 | S32: ） | T32: =R32+R33 -> 4 | U32: =O7 -> ＪＦＣファイターズ | AC32: 5, | AD32: 6, | AE32: 7, | AF32: 8
P33: 0 | Q33: － | R33: 3
B34: Ｂ | C34: ⑤ | D34: 0.48611111 | G34: =G7 -> 上三川サッカークラブ | N34: =P34+P35 -> 0 | O34: （ | P34: 0 | Q34: － | R34: 5 | S34: ） | T34: =R34+R35 -> 8 | U34: =K7 -> ＦＣ Ａｖａｎｃｅ | AC34: 8, | AD34: 7, | AE34: 6, | AF34: 5
P35: 0 | Q35: － | R35: 3
B36: Ａ | C36: ⑥ | D36: 0.51388889 | G36: =R7 -> ＦＣ ＳＨＵＪＡＫＵ | N36: =P36+P37 -> 0 | O36: （ | P36: 0 | Q36: － | R36: 2 | S36: ） | T36: =R36+R37 -> 2 | U36: =AD7 -> 間東ＦＣミラクルズ | AC36: 1, | AD36: 2, | AE36: 3, | AF36: 4
P37: 0 | Q37: － | R37: 0
B38: Ｂ | C38: ⑥ | D38: 0.51388889 | G38: =V7 -> 北押原ＦＣ | N38: =P38+P39 -> 4 | O38: （ | P38: 3 | Q38: － | R38: 1 | S38: ） | T38: =R38+R39 -> 1 | U38: =Z7 -> 宝木キッカーズ | AC38: 4, | AD38: 3, | AE38: 2, | AF38: 1
P39: 1 | Q39: － | R39: 0
B41: =I3 &"リーグ" -> Eリーグ | F41: =B43 -> フットボールクラブ氏家 | H41: =B45 -> 上三川サッカークラブ | J41: =B47 -> ＦＣ Ａｖａｎｃｅ | L41: =B49 -> ＪＦＣファイターズ | N41: 勝点 | O41: 得失点 | P41: 順位 | R41: =X3 &"リーグ" -> EEリーグ | V41: =R7 -> ＦＣ ＳＨＵＪＡＫＵ | X41: =V7 -> 北押原ＦＣ | Z41: =Z7 -> 宝木キッカーズ | AB41: =AD7 -> 間東ＦＣミラクルズ | AD41: 勝点 | AE41: 得失点 | AF41: 順位
B43: =C7 -> フットボールクラブ氏家 | H43: =N16 -> 2 | I43: =T16 -> 0 | J43: =N24 -> 0 | K43: =T24 -> 3 | L43: =N32 -> 0 | M43: =T32 -> 4 | N43: =COUNTIF(F44:M44,"○")*3+COUNTIF(F44:M44,"△") -> 3 | O43: =H43-I43+J43-K43+L43-M43 -> -5 | P43: 3 | R43: =R7 -> ＦＣ ＳＨＵＪＡＫＵ | X43: =N20 -> 1 | Y43: =T20 -> 1 | Z43: =N28 -> 4 | AA43: =T28 -> 0 | AB43: =N36 -> 0 | AC43: =T36 -> 2 | AD43: =COUNTIF(V44:AC44,"○")*3+COUNTIF(V44:AC44,"△") -> 4 | AE43: =X43-Y43+Z43-AA43+AB43-AC43 -> 2 | AF43: 3
H44: =IF(H43>I43,"○",IF(H43<I43,"×",IF(H43=I43,"△"))) -> ○ | J44: =IF(J43>K43,"○",IF(J43<K43,"×",IF(J43=K43,"△"))) -> × | L44: =IF(L43>M43,"○",IF(L43<M43,"×",IF(L43=M43,"△"))) -> × | X44: =IF(X43>Y43,"○",IF(X43<Y43,"×",IF(X43=Y43,"△"))) -> △ | Z44: =IF(Z43>AA43,"○",IF(Z43<AA43,"×",IF(Z43=AA43,"△"))) -> ○ | AB44: =IF(AB43>AC43,"○",IF(AB43<AC43,"×",IF(AB43=AC43,"△"))) -> ×
B45: =G7 -> 上三川サッカークラブ | F45: =I43 -> 0 | G45: =H43 -> 2 | J45: =N34 -> 0 | K45: =T34 -> 8 | L45: =N26 -> 0 | M45: =T26 -> 8 | N45: =COUNTIF(F46:M46,"○")*3+COUNTIF(F46:M46,"△") -> 0 | O45: =F45-G45+J45-K45+L45-M45 -> -18 | P45: 4 | R45: =V7 -> 北押原ＦＣ | V45: =Y43 -> 1 | W45: =X43 -> 1 | Z45: =N38 -> 4 | AA45: =T38 -> 1 | AB45: =N30 -> 0 | AC45: =T30 -> 5 | AD45: =COUNTIF(V46:AC46,"○")*3+COUNTIF(V46:AC46,"△") -> 4 | AE45: =V45-W45+Z45-AA45+AB45-AC45 -> -2 | AF45: 4
F46: =IF(F45>G45,"○",IF(F45<G45,"×",IF(F45=G45,"△"))) -> × | J46: =IF(J45>K45,"○",IF(J45<K45,"×",IF(J45=K45,"△"))) -> × | L46: =IF(L45>M45,"○",IF(L45<M45,"×",IF(L45=M45,"△"))) -> × | V46: =IF(V45>W45,"○",IF(V45<W45,"×",IF(V45=W45,"△"))) -> △ | Z46: =IF(Z45>AA45,"○",IF(Z45<AA45,"×",IF(Z45=AA45,"△"))) -> ○ | AB46: =IF(AB45>AC45,"○",IF(AB45<AC45,"×",IF(AB45=AC45,"△"))) -> ×
B47: =K7 -> ＦＣ Ａｖａｎｃｅ | F47: =K43 -> 3 | G47: =J43 -> 0 | H47: =K45 -> 8 | I47: =J45 -> 0 | L47: =N18 -> 1 | M47: =T18 -> 1 | N47: =COUNTIF(F48:M48,"○")*3+COUNTIF(F48:M48,"△") -> 7 | O47: =F47-G47+H47-I47+L47-M47 -> 11 | P47: 2 | R47: =Z7 -> 宝木キッカーズ | V47: =AA43 -> 0 | W47: =Z43 -> 4 | X47: =AA45 -> 1 | Y47: =Z45 -> 4 | AB47: =N22 -> 0 | AC47: =T22 -> 4 | AD47: =COUNTIF(V48:AC48,"○")*3+COUNTIF(V48:AC48,"△") -> 0 | AE47: =V47-W47+X47-Y47+AB47-AC47 -> -11 | AF47: 4
F48: =IF(F47>G47,"○",IF(F47<G47,"×",IF(F47=G47,"△"))) -> ○ | H48: =IF(H47>I47,"○",IF(H47<I47,"×",IF(H47=I47,"△"))) -> ○ | L48: =IF(L47>M47,"○",IF(L47<M47,"×",IF(L47=M47,"△"))) -> △ | V48: =IF(V47>W47,"○",IF(V47<W47,"×",IF(V47=W47,"△"))) -> × | X48: =IF(X47>Y47,"○",IF(X47<Y47,"×",IF(X47=Y47,"△"))) -> × | AB48: =IF(AB47>AC47,"○",IF(AB47<AC47,"×",IF(AB47=AC47,"△"))) -> ×
B49: =O7 -> ＪＦＣファイターズ | F49: =M43 -> 4 | G49: =L43 -> 0 | H49: =M45 -> 8 | I49: =L45 -> 0 | J49: =M47 -> 1 | K49: =L47 -> 1 | N49: =COUNTIF(F50:M50,"○")*3+COUNTIF(F50:M50,"△") -> 7 | O49: =F49-G49+H49-I49+J49-K49 -> 12 | P49: 1 | R49: =AD7 -> 間東ＦＣミラクルズ | V49: =AC43 -> 2 | W49: =AB43 -> 0 | X49: =AC45 -> 5 | Y49: =AB45 -> 0 | Z49: =AC47 -> 4 | AA49: =AB47 -> 0 | AD49: =COUNTIF(V50:AC50,"○")*3+COUNTIF(V50:AC50,"△") -> 9 | AE49: =V49-W49+X49-Y49+Z49-AA49 -> 11 | AF49: 1
F50: =IF(F49>G49,"○",IF(F49<G49,"×",IF(F49=G49,"△"))) -> ○ | H50: =IF(H49>I49,"○",IF(H49<I49,"×",IF(H49=I49,"△"))) -> ○ | J50: =IF(J49>K49,"○",IF(J49<K49,"×",IF(J49=K49,"△"))) -> △ | V50: =IF(V49>W49,"○",IF(V49<W49,"×",IF(V49=W49,"△"))) -> ○ | X50: =IF(X49>Y49,"○",IF(X49<Y49,"×",IF(X49=Y49,"△"))) -> ○ | Z50: =IF(Z49>AA49,"○",IF(Z49<AA49,"×",IF(Z49=AA49,"△"))) -> ○
A52: =A1 -> ■第1日 1月13日 | I52: =I1 -> 予選リーグ | T52: 第6会場 | X52: ='U11組合せ (抽選結果)'!A94 -> 鬼怒グリーンパーク白沢Ｂ
J54: F | W54: FF
F57: 1 | J57: 2 | N57: 3 | S57: 4 | W57: 5 | AA57: 6
F58: ='U11組合せ (抽選結果)'!C95 -> 紫塚ＦＣ | J58: ='U11組合せ (抽選結果)'!C97 -> 上松山クラブ | N58: ='U11組合せ (抽選結果)'!C99 -> 都賀クラブジュニア | S58: ='U11組合せ (抽選結果)'!C103 -> 亀山サッカークラブ | W58: ='U11組合せ (抽選結果)'!C105 -> 岡西ＦＣ | AA58: ='U11組合せ (抽選結果)'!C107 -> 佐野ＳＳＳ
AB66: ( | AC66: 主， | AD66: 副， | AE66: 副， | AF66: ４ｔｈ | AG66: )
B67: ① | C67: 0.375 | G67: =F58 -> 紫塚ＦＣ | N67: =P67+P68 -> 0 | O67: （ | P67: 0 | Q67: － | R67: 1 | S67: ） | T67: =R67+R68 -> 6 | U67: =J58 -> 上松山クラブ | AC67: 6, | AD67: 4, | AE67: 5, | AF67: 6
P68: 0 | Q68: － | R68: 5
B70: ② | C70: 0.40277778 | G70: =S58 -> 亀山サッカークラブ | N70: =P70+P71 -> 2 | O70: （ | P70: 0 | Q70: － | R70: 0 | S70: ） | T70: =R70+R71 -> 1 | U70: =W58 -> 岡西ＦＣ | AC70: 3, | AD70: 1, | AE70: 2, | AF70: 3
P71: 2 | Q71: － | R71: 1
B73: ③ | C73: 0.43055556 | G73: =F58 -> 紫塚ＦＣ | N73: =P73+P74 -> 0 | O73: （ | P73: 0 | Q73: － | R73: 1 | S73: ） | T73: =R73+R74 -> 5 | U73: =N58 -> 都賀クラブジュニア | AC73: 5, | AD73: 6, | AE73: 4, | AF73: 5
P74: 0 | Q74: － | R74: 4
B76: ④ | C76: 0.45833333 | G76: =S58 -> 亀山サッカークラブ | N76: =P76+P77 -> 1 | O76: （ | P76: 1 | Q76: － | R76: 0 | S76: ） | T76: =R76+R77 -> 0 | U76: =AA58 -> 佐野ＳＳＳ | AC76: 2, | AD76: 3, | AE76: 1, | AF76: 2
P77: 0 | Q77: － | R77: 0
B79: ⑤ | C79: 0.48611111 | G79: =J58 -> 上松山クラブ | N79: =P79+P80 -> 1 | O79: （ | P79: 1 | Q79: － | R79: 0 | S79: ） | T79: =R79+R80 -> 1 | U79: =N58 -> 都賀クラブジュニア | AC79: 4, | AD79: 5, | AE79: 6, | AF79: 4
P80: 0 | Q80: － | R80: 1
B82: ⑥ | C82: 0.51388889 | G82: =W58 -> 岡西ＦＣ | N82: =P82+P83 -> 0 | O82: （ | P82: 0 | Q82: － | R82: 0 | S82: ） | T82: =R82+R83 -> 0 | U82: =AA58 -> 佐野ＳＳＳ | AC82: 1, | AD82: 2, | AE82: 3, | AF82: 1
P83: 0 | Q83: － | R83: 0
C85: =J54 &"リーグ" -> Fリーグ | G85: =C87 -> 紫塚ＦＣ | I85: =C89 -> 上松山クラブ | K85: =C91 -> 都賀クラブジュニア | M85: 勝点 | N85: 得失点 | O85: 総得点 | P85: 順位 | R85: =W54 &"リーグ" -> FFリーグ | V85: =R87 -> 亀山サッカークラブ | X85: =R89 -> 岡西ＦＣ | Z85: =R91 -> 佐野ＳＳＳ | AB85: 勝点 | AC85: 得失点 | AD85: 総得点 | AE85: 順位
C87: =F58 -> 紫塚ＦＣ | I87: =N67 -> 0 | J87: =T67 -> 6 | K87: =N73 -> 0 | L87: =T73 -> 5 | M87: =COUNTIF(G88:L88,"○")*3+COUNTIF(G88:L88,"△") -> 0 | N87: =O87-J87-L87 -> -11 | O87: =I87+K87 -> 0 | P87: 3 | R87: =S58 -> 亀山サッカークラブ | X87: =N70 -> 2 | Y87: =T70 -> 1 | Z87: =N76 -> 1 | AA87: =T76 -> 0 | AB87: =COUNTIF(V88:AA88,"○")*3+COUNTIF(V88:AA88,"△") -> 6 | AC87: =AD87-Y87-AA87 -> 2 | AD87: =X87+Z87 -> 3 | AE87: 1
I88: =IF(I87>J87,"○",IF(I87<J87,"×",IF(I87=J87,"△"))) -> × | K88: =IF(K87>L87,"○",IF(K87<L87,"×",IF(K87=L87,"△"))) -> × | X88: =IF(X87>Y87,"○",IF(X87<Y87,"×",IF(X87=Y87,"△"))) -> ○ | Z88: =IF(Z87>AA87,"○",IF(Z87<AA87,"×",IF(Z87=AA87,"△"))) -> ○
C89: =J58 -> 上松山クラブ | G89: =J87 -> 6 | H89: =I87 -> 0 | K89: =N79 -> 1 | L89: =T79 -> 1 | M89: =COUNTIF(G90:L90,"○")*3+COUNTIF(G90:L90,"△") -> 4 | N89: =O89-H89-L89 -> 6 | O89: =G89+K89 -> 7 | P89: 1 | R89: =W58 -> 岡西ＦＣ | V89: =Y87 -> 1 | W89: =X87 -> 2 | Z89: =N82 -> 0 | AA89: =T82 -> 0 | AB89: =COUNTIF(V90:AA90,"○")*3+COUNTIF(V90:AA90,"△") -> 1 | AC89: =AD89-W89-AA89 -> -1 | AD89: =V89+Z89 -> 1 | AE89: 2
G90: =IF(G89>H89,"○",IF(G89<H89,"×",IF(G89=H89,"△"))) -> ○ | K90: =IF(K89>L89,"○",IF(K89<L89,"×",IF(K89=L89,"△"))) -> △ | V90: =IF(V89>W89,"○",IF(V89<W89,"×",IF(V89=W89,"△"))) -> × | Z90: =IF(Z89>AA89,"○",IF(Z89<AA89,"×",IF(Z89=AA89,"△"))) -> △
C91: =N58 -> 都賀クラブジュニア | G91: =L87 -> 5 | H91: =K87 -> 0 | I91: =L89 -> 1 | J91: =K89 -> 1 | M91: =COUNTIF(G92:L92,"○")*3+COUNTIF(G92:L92,"△") -> 4 | N91: =O91-H91-J91 -> 5 | O91: =G91+I91 -> 6 | P91: 2 | R91: =AA58 -> 佐野ＳＳＳ | V91: =AA87 -> 0 | W91: =Z87 -> 1 | X91: =AA89 -> 0 | Y91: =Z89 -> 0 | AB91: =COUNTIF(V92:AA92,"○")*3+COUNTIF(V92:AA92,"△") -> 1 | AC91: =AD91-W91-Y91 -> -1 | AD91: =V91+X91 -> 0 | AE91: 3
G92: =IF(G91>H91,"○",IF(G91<H91,"×",IF(G91=H91,"△"))) -> ○ | I92: =IF(I91>J91,"○",IF(I91<J91,"×",IF(I91=J91,"△"))) -> △ | V92: =IF(V91>W91,"○",IF(V91<W91,"×",IF(V91=W91,"△"))) -> × | X92: =IF(X91>Y91,"○",IF(X91<Y91,"×",IF(X91=Y91,"△"))) -> △

Sheet GH
A1: ='U11組合せ (抽選結果)'!J3 -> ■第1日 1月13日 | I1: ='U11組合せ (抽選結果)'!S3 -> 予選リーグ | T1: 第7会場 | X1: ='U11組合せ (抽選結果)'!A111 -> 真岡鬼怒自然公園サッカー場（クレー）ＢＡ
J3: G | W3: GG
F6: 1 | J6: 2 | N6: 3 | S6: 4 | W6: 5 | AA6: 6
F7: ='U11組合せ (抽選結果)'!C112 -> 富士見サッカースポーツ少年団ブルー | J7: ='U11組合せ (抽選結果)'!C114 -> 小山三小 ＦＣ | N7: ='U11組合せ (抽選結果)'!C116 -> ＦＣ ＷＩＬＬＥ | S7: ='U11組合せ (抽選結果)'!C120 -> ＦＣあわのレジェンド | W7: ='U11組合せ (抽選結果)'!C122 -> エスペランサＭＯＫＡ | AA7: ='U11組合せ (抽選結果)'!C124 -> 阿久津サッカークラブ
AB15: ( | AC15: 主， | AD15: 副， | AE15: 副， | AF15: ４ｔｈ | AG15: )
B16: ① | C16: 0.375 | G16: =F7 -> 富士見サッカースポーツ少年団ブルー | N16: =P16+P17 -> 1 | O16: （ | P16: 0 | Q16: － | R16: 0 | S16: ） | T16: =R16+R17 -> 0 | U16: =J7 -> 小山三小 ＦＣ | AC16: 6, | AD16: 4, | AE16: 5, | AF16: 6
P17: 1 | Q17: － | R17: 0
B19: ② | C19: 0.40277778 | G19: =S7 -> ＦＣあわのレジェンド | N19: =P19+P20 -> 0 | O19: （ | P19: 0 | Q19: － | R19: 0 | S19: ） | T19: =R19+R20 -> 1 | U19: =W7 -> エスペランサＭＯＫＡ | AC19: 3, | AD19: 1, | AE19: 2, | AF19: 3
P20: 0 | Q20: － | R20: 1
B22: ③ | C22: 0.43055556 | G22: =F7 -> 富士見サッカースポーツ少年団ブルー | N22: =P22+P23 -> 1 | O22: （ | P22: 0 | Q22: － | R22: 0 | S22: ） | T22: =R22+R23 -> 0 | U22: =N7 -> ＦＣ ＷＩＬＬＥ | AC22: 5, | AD22: 6, | AE22: 4, | AF22: 5
P23: 1 | Q23: － | R23: 0
B25: ④ | C25: 0.45833333 | G25: =S7 -> ＦＣあわのレジェンド | N25: =P25+P26 -> 0 | O25: （ | P25: 0 | Q25: － | R25: 2 | S25: ） | T25: =R25+R26 -> 3 | U25: =AA7 -> 阿久津サッカークラブ | AC25: 2, | AD25: 3, | AE25: 1, | AF25: 2
P26: 0 | Q26: － | R26: 1
B28: ⑤ | C28: 0.48611111 | G28: =J7 -> 小山三小 ＦＣ | N28: =P28+P29 -> 6 | O28: （ | P28: 2 | Q28: － | R28: 0 | S28: ） | T28: =R28+R29 -> 1 | U28: =N7 -> ＦＣ ＷＩＬＬＥ | AC28: 4, | AD28: 5, | AE28: 6, | AF28: 4
P29: 4 | Q29: － | R29: 1
B31: ⑥ | C31: 0.51388889 | G31: =W7 -> エスペランサＭＯＫＡ | N31: =P31+P32 -> 0 | O31: （ | P31: 0 | Q31: － | R31: 1 | S31: ） | T31: =R31+R32 -> 3 | U31: =AA7 -> 阿久津サッカークラブ | AC31: 1, | AD31: 2, | AE31: 3, | AF31: 1
P32: 0 | Q32: － | R32: 2
C34: =J3 &"リーグ" -> Gリーグ | G34: =C36 -> 富士見サッカースポーツ少年団ブルー | I34: =C38 -> 小山三小 ＦＣ | K34: =C40 -> ＦＣ ＷＩＬＬＥ | M34: 勝点 | N34: 得失点 | O34: 総得点 | P34: 順位 | R34: =W3 &"リーグ" -> GGリーグ | V34: =R36 -> ＦＣあわのレジェンド | X34: =R38 -> エスペランサＭＯＫＡ | Z34: =R40 -> 阿久津サッカークラブ | AB34: 勝点 | AC34: 得失点 | AD34: 総得点 | AE34: 順位
C36: =F7 -> 富士見サッカースポーツ少年団ブルー | I36: =N16 -> 1 | J36: =T16 -> 0 | K36: =N22 -> 1 | L36: =T22 -> 0 | M36: =COUNTIF(G37:L37,"○")*3+COUNTIF(G37:L37,"△") -> 6 | N36: =O36-J36-L36 -> 2 | O36: =I36+K36 -> 2 | P36: 1 | R36: =S7 -> ＦＣあわのレジェンド | X36: =N19 -> 0 | Y36: =T19 -> 1 | Z36: =N25 -> 0 | AA36: =T25 -> 3 | AB36: =COUNTIF(V37:AA37,"○")*3+COUNTIF(V37:AA37,"△") -> 0 | AC36: =AD36-Y36-AA36 -> -4 | AD36: =X36+Z36 -> 0 | AE36: 3
I37: =IF(I36>J36,"○",IF(I36<J36,"×",IF(I36=J36,"△"))) -> ○ | K37: =IF(K36>L36,"○",IF(K36<L36,"×",IF(K36=L36,"△"))) -> ○ | X37: =IF(X36>Y36,"○",IF(X36<Y36,"×",IF(X36=Y36,"△"))) -> × | Z37: =IF(Z36>AA36,"○",IF(Z36<AA36,"×",IF(Z36=AA36,"△"))) -> ×
C38: =J7 -> 小山三小 ＦＣ | G38: =J36 -> 0 | H38: =I36 -> 1 | K38: =N28 -> 6 | L38: =T28 -> 1 | M38: =COUNTIF(G39:L39,"○")*3+COUNTIF(G39:L39,"△") -> 3 | N38: =O38-H38-L38 -> 4 | O38: =G38+K38 -> 6 | P38: 2 | R38: =W7 -> エスペランサＭＯＫＡ | V38: =Y36 -> 1 | W38: =X36 -> 0 | Z38: =N31 -> 0 | AA38: =T31 -> 3 | AB38: =COUNTIF(V39:AA39,"○")*3+COUNTIF(V39:AA39,"△") -> 3 | AC38: =AD38-W38-AA38 -> -2 | AD38: =V38+Z38 -> 1 | AE38: 2
G39: =IF(G38>H38,"○",IF(G38<H38,"×",IF(G38=H38,"△"))) -> × | K39: =IF(K38>L38,"○",IF(K38<L38,"×",IF(K38=L38,"△"))) -> ○ | V39: =IF(V38>W38,"○",IF(V38<W38,"×",IF(V38=W38,"△"))) -> ○ | Z39: =IF(Z38>AA38,"○",IF(Z38<AA38,"×",IF(Z38=AA38,"△"))) -> ×
C40: =N7 -> ＦＣ ＷＩＬＬＥ | G40: =L36 -> 0 | H40: =K36 -> 1 | I40: =L38 -> 1 | J40: =K38 -> 6 | M40: =COUNTIF(G41:L41,"○")*3+COUNTIF(G41:L41,"△") -> 0 | N40: =O40-H40-J40 -> -6 | O40: =G40+I40 -> 1 | P40: 3 | R40: =AA7 -> 阿久津サッカークラブ | V40: =AA36 -> 3 | W40: =Z36 -> 0 | X40: =AA38 -> 3 | Y40: =Z38 -> 0 | AB40: =COUNTIF(V41:AA41,"○")*3+COUNTIF(V41:AA41,"△") -> 6 | AC40: =AD40-W40-Y40 -> 6 | AD40: =V40+X40 -> 6 | AE40: 1
G41: =IF(G40>H40,"○",IF(G40<H40,"×",IF(G40=H40,"△"))) -> × | I41: =IF(I40>J40,"○",IF(I40<J40,"×",IF(I40=J40,"△"))) -> × | V41: =IF(V40>W40,"○",IF(V40<W40,"×",IF(V40=W40,"△"))) -> ○ | X41: =IF(X40>Y40,"○",IF(X40<Y40,"×",IF(X40=Y40,"△"))) -> ○
A44: =A1 -> ■第1日 1月13日 | I44: =I1 -> 予選リーグ | T44: 第8会場 | X44: ='U11組合せ (抽選結果)'!A128 -> 鬼怒グリーンパーク白沢Ａ
J46: H | W46: HH
F49: 1 | J49: 2 | N49: 3 | S49: 4 | W49: 5 | AA49: 6
F50: ='U11組合せ (抽選結果)'!C129 -> ＮＩＫＫＯ ＳＰＯＲＴＳ ＣＬＵＢ | J50: ='U11組合せ (抽選結果)'!C131 -> ＦＣ ＳＦｉＤＡ | N50: ='U11組合せ (抽選結果)'!C133 -> ＪＦＣ 足利ラトゥール | S50: ='U11組合せ (抽選結果)'!C137 -> フットボールクラブガナドール大田原Ｕ１２ | W50: ='U11組合せ (抽選結果)'!C139 -> 国本ジュニアサッカークラブ | AA50: ='U11組合せ (抽選結果)'!C141 -> 大谷北ＦＣフォルテ
AB58: ( | AC58: 主， | AD58: 副， | AE58: 副， | AF58: ４ｔｈ | AG58: )
B59: ① | C59: 0.375 | G59: =F50 -> ＮＩＫＫＯ ＳＰＯＲＴＳ ＣＬＵＢ | N59: =P59+P60 -> 1 | O59: （ | P59: 1 | Q59: － | R59: 0 | S59: ） | T59: =R59+R60 -> 0 | U59: =J50 -> ＦＣ ＳＦｉＤＡ | AC59: 6, | AD59: 4, | AE59: 5, | AF59: 6
P60: 0 | Q60: － | R60: 0
B62: ② | C62: 0.40277778 | G62: =S50 -> フットボールクラブガナドール大田原Ｕ１２ | N62: =P62+P63 -> 0 | O62: （ | P62: 0 | Q62: － | R62: 2 | S62: ） | T62: =R62+R63 -> 3 | U62: =W50 -> 国本ジュニアサッカークラブ | AC62: 3, | AD62: 1, | AE62: 2, | AF62: 3
P63: 0 | Q63: － | R63: 1
B65: ③ | C65: 0.43055556 | G65: =F50 -> ＮＩＫＫＯ ＳＰＯＲＴＳ ＣＬＵＢ | N65: =P65+P66 -> 1 | O65: （ | P65: 1 | Q65: － | R65: 0 | S65: ） | T65: =R65+R66 -> 0 | U65: =N50 -> ＪＦＣ 足利ラトゥール | AC65: 5, | AD65: 6, | AE65: 4, | AF65: 5
P66: 0 | Q66: － | R66: 0
B68: ④ | C68: 0.45833333 | G68: =S50 -> フットボールクラブガナドール大田原Ｕ１２ | N68: =P68+P69 -> 0 | O68: （ | P68: 0 | Q68: － | R68: 3 | S68: ） | T68: =R68+R69 -> 5 | U68: =AA50 -> 大谷北ＦＣフォルテ | AC68: 2, | AD68: 3, | AE68: 1, | AF68: 2
P69: 0 | Q69: － | R69: 2
B71: ⑤ | C71: 0.48611111 | G71: =J50 -> ＦＣ ＳＦｉＤＡ | N71: =P71+P72 -> 1 | O71: （ | P71: 1 | Q71: － | R71: 0 | S71: ） | T71: =R71+R72 -> 0 | U71: =N50 -> ＪＦＣ 足利ラトゥール | AC71: 4, | AD71: 5, | AE71: 6, | AF71: 4
P72: 0 | Q72: － | R72: 0
B74: ⑥ | C74: 0.51388889 | G74: =W50 -> 国本ジュニアサッカークラブ | N74: =P74+P75 -> 1 | O74: （ | P74: 0 | Q74: － | R74: 0 | S74: ） | T74: =R74+R75 -> 1 | U74: =AA50 -> 大谷北ＦＣフォルテ | AC74: 1, | AD74: 2, | AE74: 3, | AF74: 1
P75: 1 | Q75: － | R75: 1
C77: =J46 &"リーグ" -> Hリーグ | G77: =C79 -> ＮＩＫＫＯ ＳＰＯＲＴＳ ＣＬＵＢ | I77: =C81 -> ＦＣ ＳＦｉＤＡ | K77: =C83 -> ＪＦＣ 足利ラトゥール | M77: 勝点 | N77: 得失点 | O77: 総得点 | P77: 順位 | R77: =W46 &"リーグ" -> HHリーグ | V77: =R79 -> フットボールクラブガナドール大田原Ｕ１２ | X77: =R81 -> 国本ジュニアサッカークラブ | Z77: =R83 -> 大谷北ＦＣフォルテ | AB77: 勝点 | AC77: 得失点 | AD77: 総得点 | AE77: 順位
C79: =F50 -> ＮＩＫＫＯ ＳＰＯＲＴＳ ＣＬＵＢ | I79: =N59 -> 1 | J79: =T59 -> 0 | K79: =N65 -> 1 | L79: =T65 -> 0 | M79: =COUNTIF(G80:L80,"○")*3+COUNTIF(G80:L80,"△") -> 6 | N79: =O79-J79-L79 -> 2 | O79: =I79+K79 -> 2 | P79: 1 | R79: =S50 -> フットボールクラブガナドール大田原Ｕ１２ | X79: =N62 -> 0 | Y79: =T62 -> 3 | Z79: =N68 -> 0 | AA79: =T68 -> 5 | AB79: =COUNTIF(V80:AA80,"○")*3+COUNTIF(V80:AA80,"△") -> 0 | AC79: =AD79-Y79-AA79 -> -8 | AD79: =X79+Z79 -> 0 | AE79: 3
I80: =IF(I79>J79,"○",IF(I79<J79,"×",IF(I79=J79,"△"))) -> ○ | K80: =IF(K79>L79,"○",IF(K79<L79,"×",IF(K79=L79,"△"))) -> ○ | X80: =IF(X79>Y79,"○",IF(X79<Y79,"×",IF(X79=Y79,"△"))) -> × | Z80: =IF(Z79>AA79,"○",IF(Z79<AA79,"×",IF(Z79=AA79,"△"))) -> ×
C81: =J50 -> ＦＣ ＳＦｉＤＡ | G81: =J79 -> 0 | H81: =I79 -> 1 | K81: =N71 -> 1 | L81: =T71 -> 0 | M81: =COUNTIF(G82:L82,"○")*3+COUNTIF(G82:L82,"△") -> 3 | N81: =O81-H81-L81 -> 0 | O81: =G81+K81 -> 1 | P81: 2 | R81: =W50 -> 国本ジュニアサッカークラブ | V81: =Y79 -> 3 | W81: =X79 -> 0 | Z81: =N74 -> 1 | AA81: =T74 -> 1 | AB81: =COUNTIF(V82:AA82,"○")*3+COUNTIF(V82:AA82,"△") -> 4 | AC81: =AD81-W81-AA81 -> 3 | AD81: =V81+Z81 -> 4 | AE81: 2
G82: =IF(G81>H81,"○",IF(G81<H81,"×",IF(G81=H81,"△"))) -> × | K82: =IF(K81>L81,"○",IF(K81<L81,"×",IF(K81=L81,"△"))) -> ○ | V82: =IF(V81>W81,"○",IF(V81<W81,"×",IF(V81=W81,"△"))) -> ○ | Z82: =IF(Z81>AA81,"○",IF(Z81<AA81,"×",IF(Z81=AA81,"△"))) -> △
C83: =N50 -> ＪＦＣ 足利ラトゥール | G83: =L79 -> 0 | H83: =K79 -> 1 | I83: =L81 -> 0 | J83: =K81 -> 1 | M83: =COUNTIF(G84:L84,"○")*3+COUNTIF(G84:L84,"△") -> 0 | N83: =O83-H83-J83 -> -2 | O83: =G83+I83 -> 0 | P83: 3 | R83: =AA50 -> 大谷北ＦＣフォルテ | V83: =AA79 -> 5 | W83: =Z79 -> 0 | X83: =AA81 -> 1 | Y83: =Z81 -> 1 | AB83: =COUNTIF(V84:AA84,"○")*3+COUNTIF(V84:AA84,"△") -> 4 | AC83: =AD83-W83-Y83 -> 5 | AD83: =V83+X83 -> 6 | AE83: 1
G84: =IF(G83>H83,"○",IF(G83<H83,"×",IF(G83=H83,"△"))) -> × | I84: =IF(I83>J83,"○",IF(I83<J83,"×",IF(I83=J83,"△"))) -> × | V84: =IF(V83>W83,"○",IF(V83<W83,"×",IF(V83=W83,"△"))) -> ○ | X84: =IF(X83>Y83,"○",IF(X83<Y83,"×",IF(X83=Y83,"△"))) -> △

Sheet IJ
A1: ='U11組合せ (抽選結果)'!J3 -> ■第1日 1月13日 | I1: ='U11組合せ (抽選結果)'!S3 -> 予選リーグ | T1: 第9会場 | X1: ='U11組合せ (抽選結果)'!AL128 -> 市貝町城見ヶ丘運動公園ＡＢ
I3: I | X3: II
C6: 1 | G6: 2 | K6: 3 | O6: 4 | R6: 5 | V6: 6 | Z6: 7 | AD6: 8
C7: ='U11組合せ (抽選結果)'!AJ142 -> Ｎ Ｆ Ｃ | G7: ='U11組合せ (抽選結果)'!AJ140 -> ＡＣ ＥＳＰＡＣＩＯ | K7: ='U11組合せ (抽選結果)'!AJ138 -> 緑が丘ＹＦＣサッカー教室 | O7: ='U11組合せ (抽選結果)'!AJ136 -> ジヴェルチード那須 | R7: ='U11組合せ (抽選結果)'!AJ134 -> ＪＦＣアミスタ市貝 | V7: ='U11組合せ (抽選結果)'!AJ132 -> 坂西ジュニオール | Z7: ='U11組合せ (抽選結果)'!AJ130 -> ＦＣグラシアス | AD7: ='U11組合せ (抽選結果)'!AJ128 -> ＦＣ城東
B15: ピッチ | AB15: ( | AC15: 主， | AD15: 副， | AE15: 副， | AF15: ４ｔｈ | AG15: )
B16: Ａ | C16: ① | D16: 0.375 | G16: =C7 -> Ｎ Ｆ Ｃ | N16: =P16+P17 -> 4 | O16: （ | P16: 2 | Q16: － | R16: 0 | S16: ） | T16: =R16+R17 -> 0 | U16: =G7 -> ＡＣ ＥＳＰＡＣＩＯ | AC16: 5, | AD16: 6, | AE16: 7, | AF16: 8
P17: 2 | Q17: － | R17: 0
B18: Ｂ | C18: ① | D18: 0.375 | G18: =K7 -> 緑が丘ＹＦＣサッカー教室 | N18: =P18+P19 -> 7 | O18: （ | P18: 2 | Q18: － | R18: 0 | S18: ） | T18: =R18+R19 -> 0 | U18: =O7 -> ジヴェルチード那須 | AC18: 8, | AD18: 7, | AE18: 6, | AF18: 5
P19: 5 | Q19: － | R19: 0
B20: Ａ | C20: ② | D20: 0.40277778 | G20: =R7 -> ＪＦＣアミスタ市貝 | N20: =P20+P21 -> 4 | O20: （ | P20: 3 | Q20: － | R20: 0 | S20: ） | T20: =R20+R21 -> 0 | U20: =V7 -> 坂西ジュニオール | AC20: 1, | AD20: 2, | AE20: 3, | AF20: 4
P21: 1 | Q21: － | R21: 0
B22: Ｂ | C22: ② | D22: 0.40277778 | G22: =Z7 -> ＦＣグラシアス | N22: =P22+P23 -> 5 | O22: （ | P22: 3 | Q22: － | R22: 0 | S22: ） | T22: =R22+R23 -> 0 | U22: =AD7 -> ＦＣ城東 | AC22: 4, | AD22: 3, | AE22: 2, | AF22: 1
P23: 2 | Q23: － | R23: 0
B24: Ａ | C24: ③ | D24: 0.43055556 | G24: =C7 -> Ｎ Ｆ Ｃ | N24: =P24+P25 -> 1 | O24: （ | P24: 0 | Q24: － | R24: 1 | S24: ） | T24: =R24+R25 -> 2 | U24: =K7 -> 緑が丘ＹＦＣサッカー教室 | AC24: 6, | AD24: 5, | AE24: 8, | AF24: 7
P25: 1 | Q25: － | R25: 1
B26: Ｂ | C26: ③ | D26: 0.43055556 | G26: =G7 -> ＡＣ ＥＳＰＡＣＩＯ | N26: =P26+P27 -> 0 | O26: （ | P26: 0 | Q26: － | R26: 1 | S26: ） | T26: =R26+R27 -> 3 | U26: =O7 -> ジヴェルチード那須 | AC26: 7, | AD26: 8, | AE26: 5, | AF26: 6
P27: 0 | Q27: － | R27: 2
B28: Ａ | C28: ④ | D28: 0.45833333 | G28: =R7 -> ＪＦＣアミスタ市貝 | N28: =P28+P29 -> 3 | O28: （ | P28: 0 | Q28: － | R28: 0 | S28: ） | T28: =R28+R29 -> 0 | U28: =Z7 -> ＦＣグラシアス | AC28: 2, | AD28: 1, | AE28: 4, | AF28: 3
P29: 3 | Q29: － | R29: 0
B30: Ｂ | C30: ④ | D30: 0.45833333 | G30: =V7 -> 坂西ジュニオール | N30: =P30+P31 -> 0 | O30: （ | P30: 0 | Q30: － | R30: 0 | S30: ） | T30: =R30+R31 -> 2 | U30: =AD7 -> ＦＣ城東 | AC30: 3, | AD30: 4, | AE30: 1, | AF30: 2
P31: 0 | Q31: － | R31: 2
B32: Ａ | C32: ⑤ | D32: 0.48611111 | G32: =C7 -> Ｎ Ｆ Ｃ | N32: =P32+P33 -> 1 | O32: （ | P32: 1 | Q32: － | R32: 1 | S32: ） | T32: =R32+R33 -> 2 | U32: =O7 -> ジヴェルチード那須 | AC32: 5, | AD32: 6, | AE32: 7, | AF32: 8
P33: 0 | Q33: － | R33: 1
B34: Ｂ | C34: ⑤ | D34: 0.48611111 | G34: =G7 -> ＡＣ ＥＳＰＡＣＩＯ | N34: =P34+P35 -> 0 | O34: （ | P34: 0 | Q34: － | R34: 1 | S34: ） | T34: =R34+R35 -> 1 | U34: =K7 -> 緑が丘ＹＦＣサッカー教室 | AC34: 8, | AD34: 7, | AE34: 6, | AF34: 5
P35: 0 | Q35: － | R35: 0
B36: Ａ | C36: ⑥ | D36: 0.51388889 | G36: =R7 -> ＪＦＣアミスタ市貝 | N36: =P36+P37 -> 5 | O36: （ | P36: 3 | Q36: － | R36: 0 | S36: ） | T36: =R36+R37 -> 0 | U36: =AD7 -> ＦＣ城東 | AC36: 1, | AD36: 2, | AE36: 3, | AF36: 4
P37: 2 | Q37: － | R37: 0
B38: Ｂ | C38: ⑥ | D38: 0.51388889 | G38: =V7 -> 坂西ジュニオール | N38: =P38+P39 -> 0 | O38: （ | P38: 0 | Q38: － | R38: 4 | S38: ） | T38: =R38+R39 -> 6 | U38: =Z7 -> ＦＣグラシアス | AC38: 4, | AD38: 3, | AE38: 2, | AF38: 1
P39: 0 | Q39: － | R39: 2
B41: =I3 -> I | F41: =B43 -> Ｎ Ｆ Ｃ | H41: =B45 -> ＡＣ ＥＳＰＡＣＩＯ | J41: =B47 -> 緑が丘ＹＦＣサッカー教室 | L41: =B49 -> ジヴェルチード那須 | N41: 勝点 | O41: 得失点 | P41: 順位 | R41: =X3 -> II | V41: =R7 -> ＪＦＣアミスタ市貝 | X41: =V7 -> 坂西ジュニオール | Z41: =Z7 -> ＦＣグラシアス | AB41: =AD7 -> ＦＣ城東 | AD41: 勝点 | AE41: 得失点 | AF41: 順位
B43: =C7 -> Ｎ Ｆ Ｃ | H43: =N16 -> 4 | I43: =T16 -> 0 | J43: =N24 -> 1 | K43: =T24 -> 2 | L43: =N32 -> 1 | M43: =T32 -> 2 | N43: =COUNTIF(F44:M44,"○")*3+COUNTIF(F44:M44,"△") -> 3 | O43: =H43-I43+J43-K43+L43-M43 -> 2 | P43: 3 | R43: =R7 -> ＪＦＣアミスタ市貝 | X43: =N20 -> 4 | Y43: =T20 -> 0 | Z43: =N28 -> 3 | AA43: =T28 -> 0 | AB43: =N36 -> 5 | AC43: =T36 -> 0 | AD43: =COUNTIF(V44:AC44,"○")*3+COUNTIF(V44:AC44,"△") -> 9 | AE43: =X43-Y43+Z43-AA43+AB43-AC43 -> 12 | AF43: 1
H44: =IF(H43>I43,"○",IF(H43<I43,"×",IF(H43=I43,"△"))) -> ○ | J44: =IF(J43>K43,"○",IF(J43<K43,"×",IF(J43=K43,"△"))) -> × | L44: =IF(L43>M43,"○",IF(L43<M43,"×",IF(L43=M43,"△"))) -> × | X44: =IF(X43>Y43,"○",IF(X43<Y43,"×",IF(X43=Y43,"△"))) -> ○ | Z44: =IF(Z43>AA43,"○",IF(Z43<AA43,"×",IF(Z43=AA43,"△"))) -> ○ | AB44: =IF(AB43>AC43,"○",IF(AB43<AC43,"×",IF(AB43=AC43,"△"))) -> ○
B45: =G7 -> ＡＣ ＥＳＰＡＣＩＯ | F45: =I43 -> 0 | G45: =H43 -> 4 | J45: =N34 -> 0 | K45: =T34 -> 1 | L45: =N26 -> 0 | M45: =T26 -> 3 | N45: =COUNTIF(F46:M46,"○")*3+COUNTIF(F46:M46,"△") -> 0 | O45: =F45-G45+J45-K45+L45-M45 -> -8 | P45: 4 | R45: =V7 -> 坂西ジュニオール | V45: =Y43 -> 0 | W45: =X43 -> 4 | Z45: =N38 -> 0 | AA45: =T38 -> 6 | AB45: =N30 -> 0 | AC45: =T30 -> 2 | AD45: =COUNTIF(V46:AC46,"○")*3+COUNTIF(V46:AC46,"△") -> 0 | AE45: =V45-W45+Z45-AA45+AB45-AC45 -> -12 | AF45: 4
F46: =IF(F45>G45,"○",IF(F45<G45,"×",IF(F45=G45,"△"))) -> × | J46: =IF(J45>K45,"○",IF(J45<K45,"×",IF(J45=K45,"△"))) -> × | L46: =IF(L45>M45,"○",IF(L45<M45,"×",IF(L45=M45,"△"))) -> × | V46: =IF(V45>W45,"○",IF(V45<W45,"×",IF(V45=W45,"△"))) -> × | Z46: =IF(Z45>AA45,"○",IF(Z45<AA45,"×",IF(Z45=AA45,"△"))) -> × | AB46: =IF(AB45>AC45,"○",IF(AB45<AC45,"×",IF(AB45=AC45,"△"))) -> ×
B47: =K7 -> 緑が丘ＹＦＣサッカー教室 | F47: =K43 -> 2 | G47: =J43 -> 1 | H47: =K45 -> 1 | I47: =J45 -> 0 | L47: =N18 -> 7 | M47: =T18 -> 0 | N47: =COUNTIF(F48:M48,"○")*3+COUNTIF(F48:M48,"△") -> 9 | O47: =F47-G47+H47-I47+L47-M47 -> 9 | P47: 1 | R47: =Z7 -> ＦＣグラシアス | V47: =AA43 -> 0 | W47: =Z43 -> 3 | X47: =AA45 -> 6 | Y47: =Z45 -> 0 | AB47: =N22 -> 5 | AC47: =T22 -> 0 | AD47: =COUNTIF(V48:AC48,"○")*3+COUNTIF(V48:AC48,"△") -> 6 | AE47: =V47-W47+X47-Y47+AB47-AC47 -> 8 | AF47: 2
F48: =IF(F47>G47,"○",IF(F47<G47,"×",IF(F47=G47,"△"))) -> ○ | H48: =IF(H47>I47,"○",IF(H47<I47,"×",IF(H47=I47,"△"))) -> ○ | L48: =IF(L47>M47,"○",IF(L47<M47,"×",IF(L47=M47,"△"))) -> ○ | V48: =IF(V47>W47,"○",IF(V47<W47,"×",IF(V47=W47,"△"))) -> × | X48: =IF(X47>Y47,"○",IF(X47<Y47,"×",IF(X47=Y47,"△"))) -> ○ | AB48: =IF(AB47>AC47,"○",IF(AB47<AC47,"×",IF(AB47=AC47,"△"))) -> ○
B49: =O7 -> ジヴェルチード那須 | F49: =M43 -> 2 | G49: =L43 -> 1 | H49: =M45 -> 3 | I49: =L45 -> 0 | J49: =M47 -> 0 | K49: =L47 -> 7 | N49: =COUNTIF(F50:M50,"○")*3+COUNTIF(F50:M50,"△") -> 6 | O49: =F49-G49+H49-I49+J49-K49 -> -3 | P49: 2 | R49: =AD7 -> ＦＣ城東 | V49: =AC43 -> 0 | W49: =AB43 -> 5 | X49: =AC45 -> 2 | Y49: =AB45 -> 0 | Z49: =AC47 -> 0 | AA49: =AB47 -> 5 | AD49: =COUNTIF(V50:AC50,"○")*3+COUNTIF(V50:AC50,"△") -> 3 | AE49: =V49-W49+X49-Y49+Z49-AA49 -> -8 | AF49: 3
F50: =IF(F49>G49,"○",IF(F49<G49,"×",IF(F49=G49,"△"))) -> ○ | H50: =IF(H49>I49,"○",IF(H49<I49,"×",IF(H49=I49,"△"))) -> ○ | J50: =IF(J49>K49,"○",IF(J49<K49,"×",IF(J49=K49,"△"))) -> × | V50: =IF(V49>W49,"○",IF(V49<W49,"×",IF(V49=W49,"△"))) -> × | X50: =IF(X49>Y49,"○",IF(X49<Y49,"×",IF(X49=Y49,"△"))) -> ○ | Z50: =IF(Z49>AA49,"○",IF(Z49<AA49,"×",IF(Z49=AA49,"△"))) -> ×
A52: =A1 -> ■第1日 1月13日 | I52: =I1 -> 予選リーグ | T52: 第10会場 | X52: ='U11組合せ (抽選結果)'!AL111 -> 大松山運動公園多目的グランドＡＢ
I54: J | V54: JJ
C57: 1 | G57: 2 | K57: 3 | O57: 4 | R57: 5 | V57: 6 | Z57: 7
C58: ='U11組合せ (抽選結果)'!AJ125 -> 鹿沼西ＦＣ | G58: ='U11組合せ (抽選結果)'!AJ123 -> 那須野ヶ原ＦＣボンジボーラ セカンド | K58: ='U11組合せ (抽選結果)'!AJ121 -> ＣＡ．アトレチコ 佐野 | O58: ='U11組合せ (抽選結果)'!AJ119 -> ＳＵＧＡＯサッカークラブ | R58: ='U11組合せ (抽選結果)'!AJ116 -> 石橋ＦＣ | V58: ='U11組合せ (抽選結果)'!AJ114 -> 祖母井クラブ | Z58: ='U11組合せ (抽選結果)'!AJ112 -> ＦＣＲｉｓｏ
B66: ピッチ | AB66: ( | AC66: 主， | AD66: 副， | AE66: 副， | AF66: ４ｔｈ | AG66: )
B67: A | C67: ① | D67: 0.375 | G67: =C58 -> 鹿沼西ＦＣ | N67: =P67+P68 -> 0 | O67: （ | P67: 0 | Q67: - | R67: 0 | S67: ） | T67: =R67+R68 -> 0 | U67: =G58 -> 那須野ヶ原ＦＣボンジボーラ セカンド | AC67: 5, | AD67: 6, | AE67: 7, | AF67: 3
P68: 0 | Q68: - | R68: 0
B69: B | C69: ② | D69: 0.375 | G69: =K58 -> ＣＡ．アトレチコ 佐野 | N69: =P69+P70 -> 3 | O69: （ | P69: 2 | Q69: - | R69: 0 | S69: ） | T69: =R69+R70 -> 0 | U69: =O58 -> ＳＵＧＡＯサッカークラブ | AC69: 6, | AD69: 7, | AE69: 5, | AF69: 1
P70: 1 | Q70: - | R70: 0
B71: A | C71: ③ | D71: 0.40277778 | G71: =R58 -> 石橋ＦＣ | N71: =P71+P72 -> 0 | O71: （ | P71: 0 | Q71: - | R71: 0 | S71: ） | T71: =R71+R72 -> 0 | U71: =V58 -> 祖母井クラブ | AC71: 1, | AD71: 2, | AE71: 3, | AF71: 4
P72: 0 | Q72: - | R72: 0
B73: A | C73: ④ | D73: 0.43055556 | G73: =C58 -> 鹿沼西ＦＣ | N73: =P73+P74 -> 0 | O73: （ | P73: 0 | Q73: - | R73: 0 | S73: ） | T73: =R73+R74 -> 1 | U73: =K58 -> ＣＡ．アトレチコ 佐野 | AC73: 6, | AD73: 5, | AE73: 7, | AF73: 4
P74: 0 | Q74: - | R74: 1
B75: B | C75: ⑤ | D75: 0.43055556 | G75: =G58 -> 那須野ヶ原ＦＣボンジボーラ セカンド | N75: =P75+P76 -> 0 | O75: （ | P75: 0 | Q75: - | R75: 2 | S75: ） | T75: =R75+R76 -> 4 | U75: =O58 -> ＳＵＧＡＯサッカークラブ | AC75: 7, | AD75: 5, | AE75: 6, | AF75: 3
P76: 0 | Q76: - | R76: 2
B77: A | C77: ⑥ | D77: 0.45833333 | G77: =R58 -> 石橋ＦＣ | N77: =P77+P78 -> 0 | O77: （ | P77: 0 | Q77: - | R77: 1 | S77: ） | T77: =R77+R78 -> 2 | U77: =Z58 -> ＦＣＲｉｓｏ | AC77: 2, | AD77: 3, | AE77: 4, | AF77: 1
P78: 0 | Q78: - | R78: 1
B79: A | C79: ⑦ | D79: 0.48611111 | G79: =C58 -> 鹿沼西ＦＣ | N79: =P79+P80 -> 0 | O79: （ | P79: 0 | Q79: - | R79: 0 | S79: ） | T79: =R79+R80 -> 0 | U79: =O58 -> ＳＵＧＡＯサッカークラブ | AC79: 5, | AD79: 6, | AE79: 7, | AF79: 2
P80: 0 | Q80: - | R80: 0
B81: B | C81: ⑧ | D81: 0.48611111 | G81: =G58 -> 那須野ヶ原ＦＣボンジボーラ セカンド | N81: =P81+P82 -> 0 | O81: （ | P81: 0 | Q81: - | R81: 3 | S81: ） | T81: =R81+R82 -> 4 | U81: =K58 -> ＣＡ．アトレチコ 佐野 | AC81: 6, | AD81: 7, | AE81: 5, | AF81: 1
P82: 0 | Q82: - | R82: 1
B83: A | C83: ⑨ | D83: 0.51388889 | G83: =V58 -> 祖母井クラブ | N83: =P83+P84 -> 1 | O83: （ | P83: 0 | Q83: - | R83: 0 | S83: ） | T83: =R83+R84 -> 2 | U83: =Z58 -> ＦＣＲｉｓｏ | AC83: 3, | AD83: 4, | AE83: 1, | AF83: 2
P84: 1 | Q84: - | R84: 2
B86: =I54 -> J | F86: =C58 -> 鹿沼西ＦＣ | H86: =G58 -> 那須野ヶ原ＦＣボンジボーラ セカンド | J86: =K58 -> ＣＡ．アトレチコ 佐野 | L86: =O58 -> ＳＵＧＡＯサッカークラブ | N86: 勝点 | O86: 得失点 | P86: 順位 | R86: =V54 -> JJ | V86: =R58 -> 石橋ＦＣ | X86: =V58 -> 祖母井クラブ | Z86: =Z58 -> ＦＣＲｉｓｏ | AB86: 勝点 | AC86: 得失点 | AD86: 順位
B88: =C58 -> 鹿沼西ＦＣ | H88: =N67 -> 0 | I88: =T67 -> 0 | J88: =N73 -> 0 | K88: =T73 -> 1 | L88: =N79 -> 0 | M88: =T79 -> 0 | N88: =COUNTIF(F89:M89,"○")*3+COUNTIF(F89:M89,"△") -> 2 | O88: =F88-G88+H88-I88+J88-K88+L88-M88 -> -1 | P88: 3 | R88: =R58 -> 石橋ＦＣ | X88: =N71 -> 0 | Y88: =T71 -> 0 | Z88: =N77 -> 0 | AA88: =T77 -> 2 | AB88: =COUNTIF(V89:AA89,"○")*3+COUNTIF(V89:AA89,"△") -> 1 | AC88: =V88-W88+X88-Y88+Z88-AA88 -> -2 | AD88: 3
H89: =IF(H88>I88,"○",IF(H88<I88,"×",IF(H88=I88,"△"))) -> △ | J89: =IF(J88>K88,"○",IF(J88<K88,"×",IF(J88=K88,"△"))) -> × | L89: =IF(L88>M88,"○",IF(L88<M88,"×",IF(L88=M88,"△"))) -> △ | X89: =IF(X88>Y88,"○",IF(X88<Y88,"×",IF(X88=Y88,"△"))) -> △ | Z89: =IF(Z88>AA88,"○",IF(Z88<AA88,"×",IF(Z88=AA88,"△"))) -> ×
B90: =G58 -> 那須野ヶ原ＦＣボンジボーラ セカンド | F90: =T67 -> 0 | G90: =N67 -> 0 | J90: =N81 -> 0 | K90: =T81 -> 4 | L90: =N75 -> 0 | M90: =T75 -> 4 | N90: =COUNTIF(F91:M91,"○")*3+COUNTIF(F91:M91,"△") -> 1 | O90: =F90-G90+H90-I90+J90-K90+L90-M90 -> -8 | P90: 4 | R90: =V58 -> 祖母井クラブ | V90: =T71 -> 0 | W90: =N71 -> 0 | Z90: =N83 -> 1 | AA90: =T83 -> 2 | AB90: =COUNTIF(V91:AA91,"○")*3+COUNTIF(V91:AA91,"△") -> 1 | AC90: =V90-W90+X90-Y90+Z90-AA90 -> -1 | AD90: 2
F91: =IF(F90>G90,"○",IF(F90<G90,"×",IF(F90=G90,"△"))) -> △ | J91: =IF(J90>K90,"○",IF(J90<K90,"×",IF(J90=K90,"△"))) -> × | L91: =IF(L90>M90,"○",IF(L90<M90,"×",IF(L90=M90,"△"))) -> × | V91: =IF(V90>W90,"○",IF(V90<W90,"×",IF(V90=W90,"△"))) -> △ | Z91: =IF(Z90>AA90,"○",IF(Z90<AA90,"×",IF(Z90=AA90,"△"))) -> ×
B92: =K58 -> ＣＡ．アトレチコ 佐野 | F92: =T73 -> 1 | G92: =N73 -> 0 | H92: =T81 -> 4 | I92: =N81 -> 0 | L92: =N69 -> 3 | M92: =T69 -> 0 | N92: =COUNTIF(F93:M93,"○")*3+COUNTIF(F93:M93,"△") -> 9 | O92: =F92-G92+H92-I92+J92-K92+L92-M92 -> 8 | P92: 1 | R92: =Z58 -> ＦＣＲｉｓｏ | V92: =T77 -> 2 | W92: =N77 -> 0 | X92: =T83 -> 2 | Y92: =N83 -> 1 | AB92: =COUNTIF(V93:AA93,"○")*3+COUNTIF(V93:AA93,"△") -> 6 | AC92: =V92-W92+X92-Y92+Z92-AA92 -> 3 | AD92: 1
F93: =IF(F92>G92,"○",IF(F92<G92,"×",IF(F92=G92,"△"))) -> ○ | H93: =IF(H92>I92,"○",IF(H92<I92,"×",IF(H92=I92,"△"))) -> ○ | L93: =IF(L92>M92,"○",IF(L92<M92,"×",IF(L92=M92,"△"))) -> ○ | V93: =IF(V92>W92,"○",IF(V92<W92,"×",IF(V92=W92,"△"))) -> ○ | X93: =IF(X92>Y92,"○",IF(X92<Y92,"×",IF(X92=Y92,"△"))) -> ○
B94: =O58 -> ＳＵＧＡＯサッカークラブ | F94: =T79 -> 0 | G94: =N79 -> 0 | H94: =T75 -> 4 | I94: =N75 -> 0 | J94: =T69 -> 0 | K94: =N69 -> 3 | N94: =COUNTIF(F95:M95,"○")*3+COUNTIF(F95:M95,"△") -> 4 | O94: =F94-G94+H94-I94+J94-K94+L94-M94 -> 1 | P94: 2
F95: =IF(F94>G94,"○",IF(F94<G94,"×",IF(F94=G94,"△"))) -> △ | H95: =IF(H94>I94,"○",IF(H94<I94,"×",IF(H94=I94,"△"))) -> ○ | J95: =IF(J94>K94,"○",IF(J94<K94,"×",IF(J94=K94,"△"))) -> ×

Sheet KL
A1: ='U11組合せ (抽選結果)'!J3 -> ■第1日 1月13日 | I1: ='U11組合せ (抽選結果)'!S3 -> 予選リーグ | T1: 第11会場 | X1: ='U11組合せ (抽選結果)'!AL94 -> 大桶運動公園B
J3: K | W3: KK
F6: 1 | J6: 2 | N6: 3 | S6: 4 | W6: 5 | AA6: 6
F7: ='U11組合せ (抽選結果)'!AJ107 -> 今市ＦＣプログレス | J7: ='U11組合せ (抽選結果)'!AJ105 -> 大山フットボールクラブアミーゴ | N7: ='U11組合せ (抽選結果)'!AJ103 -> 大谷東フットボールクラブ | S7: ='U11組合せ (抽選結果)'!AJ99 -> ＦＣアネーロ宇都宮 | W7: ='U11組合せ (抽選結果)'!AJ97 -> ＢＬＵＥ ＴＨＵＮＤＥＲ | AA7: ='U11組合せ (抽選結果)'!AJ95 -> 茂木ＦＣ
AB15: ( | AC15: 主， | AD15: 副， | AE15: 副， | AF15: ４ｔｈ | AG15: )
B16: ① | C16: 0.375 | G16: =F7 -> 今市ＦＣプログレス | N16: =P16+P17 -> 1 | O16: （ | P16: 0 | Q16: － | R16: 0 | S16: ） | T16: =R16+R17 -> 0 | U16: =J7 -> 大山フットボールクラブアミーゴ | AC16: 6, | AD16: 4, | AE16: 5, | AF16: 6
P17: 1 | Q17: － | R17: 0
B19: ② | C19: 0.40277778 | G19: =S7 -> ＦＣアネーロ宇都宮 | N19: =P19+P20 -> 0 | O19: （ | P19: 0 | Q19: － | R19: 0 | S19: ） | T19: =R19+R20 -> 0 | U19: =W7 -> ＢＬＵＥ ＴＨＵＮＤＥＲ | AC19: 3, | AD19: 1, | AE19: 2, | AF19: 3
P20: 0 | Q20: － | R20: 0
B22: ③ | C22: 0.43055556 | G22: =F7 -> 今市ＦＣプログレス | N22: =P22+P23 -> 0 | O22: （ | P22: 0 | Q22: － | R22: 0 | S22: ） | T22: =R22+R23 -> 0 | U22: =N7 -> 大谷東フットボールクラブ | AC22: 5, | AD22: 6, | AE22: 4, | AF22: 5
P23: 0 | Q23: － | R23: 0
B25: ④ | C25: 0.45833333 | G25: =S7 -> ＦＣアネーロ宇都宮 | N25: =P25+P26 -> 0 | O25: （ | P25: 0 | Q25: － | R25: 3 | S25: ） | T25: =R25+R26 -> 5 | U25: =AA7 -> 茂木ＦＣ | AC25: 2, | AD25: 3, | AE25: 1, | AF25: 2
P26: 0 | Q26: － | R26: 2
B28: ⑤ | C28: 0.48611111 | G28: =J7 -> 大山フットボールクラブアミーゴ | N28: =P28+P29 -> 2 | O28: （ | P28: 1 | Q28: － | R28: 1 | S28: ） | T28: =R28+R29 -> 3 | U28: =N7 -> 大谷東フットボールクラブ | AC28: 4, | AD28: 5, | AE28: 6, | AF28: 4
P29: 1 | Q29: － | R29: 2
B31: ⑥ | C31: 0.51388889 | G31: =W7 -> ＢＬＵＥ ＴＨＵＮＤＥＲ | N31: =P31+P32 -> 0 | O31: （ | P31: 0 | Q31: － | R31: 4 | S31: ） | T31: =R31+R32 -> 6 | U31: =AA7 -> 茂木ＦＣ | AC31: 1, | AD31: 2, | AE31: 3, | AF31: 1
P32: 0 | Q32: － | R32: 2
C34: =J3 &"リーグ" -> Kリーグ | G34: =C36 -> 今市ＦＣプログレス | I34: =C38 -> 大山フットボールクラブアミーゴ | K34: =C40 -> 大谷東フットボールクラブ | M34: 勝点 | N34: 得失点 | O34: 総得点 | P34: 順位 | R34: =W3 &"リーグ" -> KKリーグ | V34: =R36 -> ＦＣアネーロ宇都宮 | X34: =R38 -> ＢＬＵＥ ＴＨＵＮＤＥＲ | Z34: =R40 -> 茂木ＦＣ | AB34: 勝点 | AC34: 得失点 | AD34: 総得点 | AE34: 順位
C36: =F7 -> 今市ＦＣプログレス | I36: =N16 -> 1 | J36: =T16 -> 0 | K36: =N22 -> 0 | L36: =T22 -> 0 | M36: =COUNTIF(G37:L37,"○")*3+COUNTIF(G37:L37,"△") -> 4 | N36: =O36-J36-L36 -> 1 | O36: =I36+K36 -> 1 | P36: 2 | R36: =S7 -> ＦＣアネーロ宇都宮 | X36: =N19 -> 0 | Y36: =T19 -> 0 | Z36: =N25 -> 0 | AA36: =T25 -> 5 | AB36: =COUNTIF(V37:AA37,"○")*3+COUNTIF(V37:AA37,"△") -> 1 | AC36: =AD36-Y36-AA36 -> -5 | AD36: =X36+Z36 -> 0 | AE36: 2
I37: =IF(I36>J36,"○",IF(I36<J36,"×",IF(I36=J36,"△"))) -> ○ | K37: =IF(K36>L36,"○",IF(K36<L36,"×",IF(K36=L36,"△"))) -> △ | X37: =IF(X36>Y36,"○",IF(X36<Y36,"×",IF(X36=Y36,"△"))) -> △ | Z37: =IF(Z36>AA36,"○",IF(Z36<AA36,"×",IF(Z36=AA36,"△"))) -> ×
C38: =J7 -> 大山フットボールクラブアミーゴ | G38: =J36 -> 0 | H38: =I36 -> 1 | K38: =N28 -> 2 | L38: =T28 -> 3 | M38: =COUNTIF(G39:L39,"○")*3+COUNTIF(G39:L39,"△") -> 0 | N38: =O38-H38-L38 -> -2 | O38: =G38+K38 -> 2 | P38: 3 | R38: =W7 -> ＢＬＵＥ ＴＨＵＮＤＥＲ | V38: =Y36 -> 0 | W38: =X36 -> 0 | Z38: =N31 -> 0 | AA38: =T31 -> 6 | AB38: =COUNTIF(V39:AA39,"○")*3+COUNTIF(V39:AA39,"△") -> 1 | AC38: =AD38-W38-AA38 -> -6 | AD38: =V38+Z38 -> 0 | AE38: 3
G39: =IF(G38>H38,"○",IF(G38<H38,"×",IF(G38=H38,"△"))) -> × | K39: =IF(K38>L38,"○",IF(K38<L38,"×",IF(K38=L38,"△"))) -> × | V39: =IF(V38>W38,"○",IF(V38<W38,"×",IF(V38=W38,"△"))) -> △ | Z39: =IF(Z38>AA38,"○",IF(Z38<AA38,"×",IF(Z38=AA38,"△"))) -> ×
C40: =N7 -> 大谷東フットボールクラブ | G40: =L36 -> 0 | H40: =K36 -> 0 | I40: =L38 -> 3 | J40: =K38 -> 2 | M40: =COUNTIF(G41:L41,"○")*3+COUNTIF(G41:L41,"△") -> 4 | N40: =O40-H40-J40 -> 1 | O40: =G40+I40 -> 3 | P40: 1 | R40: =AA7 -> 茂木ＦＣ | V40: =AA36 -> 5 | W40: =Z36 -> 0 | X40: =AA38 -> 6 | Y40: =Z38 -> 0 | AB40: =COUNTIF(V41:AA41,"○")*3+COUNTIF(V41:AA41,"△") -> 6 | AC40: =AD40-W40-Y40 -> 11 | AD40: =V40+X40 -> 11 | AE40: 1
G41: =IF(G40>H40,"○",IF(G40<H40,"×",IF(G40=H40,"△"))) -> △ | I41: =IF(I40>J40,"○",IF(I40<J40,"×",IF(I40=J40,"△"))) -> ○ | V41: =IF(V40>W40,"○",IF(V40<W40,"×",IF(V40=W40,"△"))) -> ○ | X41: =IF(X40>Y40,"○",IF(X40<Y40,"×",IF(X40=Y40,"△"))) -> ○
A44: =A1 -> ■第1日 1月13日 | I44: =I1 -> 予選リーグ | T44: 第12会場 | X44: ='U11組合せ (抽選結果)'!AL77 -> 足利本町緑地サッカー場Ｂ
J46: L | W46: LL
F49: 1 | J49: 2 | N49: 3 | S49: 4 | W49: 5 | AA49: 6
F50: ='U11組合せ (抽選結果)'!AJ90 -> 鹿沼東光ＦＣ | J50: ='U11組合せ (抽選結果)'!AJ88 -> ＫＯＨＡＲＵ ＰＲＯＵＤ栃木フットボールクラブ | N50: ='U11組合せ (抽選結果)'!AJ86 -> 壬生ＦＣユナイテッド | S50: ='U11組合せ (抽選結果)'!AJ82 -> 益子ＳＣ | W50: ='U11組合せ (抽選結果)'!AJ80 -> 御厨フットボールクラブ | AA50: ='U11組合せ (抽選結果)'!AJ78 -> ＦＣみらい
AB58: ( | AC58: 主， | AD58: 副， | AE58: 副， | AF58: ４ｔｈ | AG58: )
B59: ① | C59: 0.375 | G59: =F50 -> 鹿沼東光ＦＣ | N59: =P59+P60 -> 0 | O59: （ | P59: 0 | Q59: － | R59: 5 | S59: ） | T59: =R59+R60 -> 6 | U59: =J50 -> ＫＯＨＡＲＵ ＰＲＯＵＤ栃木フットボールクラブ | AC59: 6, | AD59: 4, | AE59: 5, | AF59: 6
P60: 0 | Q60: － | R60: 1
B62: ② | C62: 0.40277778 | G62: =S50 -> 益子ＳＣ | N62: =P62+P63 -> 1 | O62: （ | P62: 1 | Q62: － | R62: 0 | S62: ） | T62: =R62+R63 -> 0 | U62: =W50 -> 御厨フットボールクラブ | AC62: 3, | AD62: 1, | AE62: 2, | AF62: 3
P63: 0 | Q63: － | R63: 0
B65: ③ | C65: 0.43055556 | G65: =F50 -> 鹿沼東光ＦＣ | N65: =P65+P66 -> 0 | O65: （ | P65: 0 | Q65: － | R65: 1 | S65: ） | T65: =R65+R66 -> 2 | U65: =N50 -> 壬生ＦＣユナイテッド | AC65: 5, | AD65: 6, | AE65: 4, | AF65: 5
P66: 0 | Q66: － | R66: 1
B68: ④ | C68: 0.45833333 | G68: =S50 -> 益子ＳＣ | N68: =P68+P69 -> 1 | O68: （ | P68: 0 | Q68: － | R68: 0 | S68: ） | T68: =R68+R69 -> 2 | U68: =AA50 -> ＦＣみらい | AC68: 2, | AD68: 3, | AE68: 1, | AF68: 2
P69: 1 | Q69: － | R69: 2
B71: ⑤ | C71: 0.48611111 | G71: =J50 -> ＫＯＨＡＲＵ ＰＲＯＵＤ栃木フットボールクラブ | N71: =P71+P72 -> 8 | O71: （ | P71: 3 | Q71: － | R71: 0 | S71: ） | T71: =R71+R72 -> 0 | U71: =N50 -> 壬生ＦＣユナイテッド | AC71: 4, | AD71: 5, | AE71: 6, | AF71: 4
P72: 5 | Q72: － | R72: 0
B74: ⑥ | C74: 0.51388889 | G74: =W50 -> 御厨フットボールクラブ | N74: =P74+P75 -> 0 | O74: （ | P74: 0 | Q74: － | R74: 1 | S74: ） | T74: =R74+R75 -> 3 | U74: =AA50 -> ＦＣみらい | AC74: 1, | AD74: 2, | AE74: 3, | AF74: 1
P75: 0 | Q75: － | R75: 2
C77: =J46 &"リーグ" -> Lリーグ | G77: =C79 -> 鹿沼東光ＦＣ | I77: =C81 -> ＫＯＨＡＲＵ ＰＲＯＵＤ栃木フットボールクラブ | K77: =C83 -> 壬生ＦＣユナイテッド | M77: 勝点 | N77: 得失点 | O77: 総得点 | P77: 順位 | R77: =W46 &"リーグ" -> LLリーグ | V77: =R79 -> 益子ＳＣ | X77: =R81 -> 御厨フットボールクラブ | Z77: =R83 -> ＦＣみらい | AB77: 勝点 | AC77: 得失点 | AD77: 総得点 | AE77: 順位
C79: =F50 -> 鹿沼東光ＦＣ | I79: =N59 -> 0 | J79: =T59 -> 6 | K79: =N65 -> 0 | L79: =T65 -> 2 | M79: =COUNTIF(G80:L80,"○")*3+COUNTIF(G80:L80,"△") -> 0 | N79: =O79-J79-L79 -> -8 | O79: =I79+K79 -> 0 | P79: 3 | R79: =S50 -> 益子ＳＣ | X79: =N62 -> 1 | Y79: =T62 -> 0 | Z79: =N68 -> 1 | AA79: =T68 -> 2 | AB79: =COUNTIF(V80:AA80,"○")*3+COUNTIF(V80:AA80,"△") -> 3 | AC79: =AD79-Y79-AA79 -> 0 | AD79: =X79+Z79 -> 2 | AE79: 2
I80: =IF(I79>J79,"○",IF(I79<J79,"×",IF(I79=J79,"△"))) -> × | K80: =IF(K79>L79,"○",IF(K79<L79,"×",IF(K79=L79,"△"))) -> × | X80: =IF(X79>Y79,"○",IF(X79<Y79,"×",IF(X79=Y79,"△"))) -> ○ | Z80: =IF(Z79>AA79,"○",IF(Z79<AA79,"×",IF(Z79=AA79,"△"))) -> ×
C81: =J50 -> ＫＯＨＡＲＵ ＰＲＯＵＤ栃木フットボールクラブ | G81: =J79 -> 6 | H81: =I79 -> 0 | K81: =N71 -> 8 | L81: =T71 -> 0 | M81: =COUNTIF(G82:L82,"○")*3+COUNTIF(G82:L82,"△") -> 6 | N81: =O81-H81-L81 -> 14 | O81: =G81+K81 -> 14 | P81: 1 | R81: =W50 -> 御厨フットボールクラブ | V81: =Y79 -> 0 | W81: =X79 -> 1 | Z81: =N74 -> 0 | AA81: =T74 -> 3 | AB81: =COUNTIF(V82:AA82,"○")*3+COUNTIF(V82:AA82,"△") -> 0 | AC81: =AD81-W81-AA81 -> -4 | AD81: =V81+Z81 -> 0 | AE81: 3
G82: =IF(G81>H81,"○",IF(G81<H81,"×",IF(G81=H81,"△"))) -> ○ | K82: =IF(K81>L81,"○",IF(K81<L81,"×",IF(K81=L81,"△"))) -> ○ | V82: =IF(V81>W81,"○",IF(V81<W81,"×",IF(V81=W81,"△"))) -> × | Z82: =IF(Z81>AA81,"○",IF(Z81<AA81,"×",IF(Z81=AA81,"△"))) -> ×
C83: =N50 -> 壬生ＦＣユナイテッド | G83: =L79 -> 2 | H83: =K79 -> 0 | I83: =L81 -> 0 | J83: =K81 -> 8 | M83: =COUNTIF(G84:L84,"○")*3+COUNTIF(G84:L84,"△") -> 3 | N83: =O83-H83-J83 -> -6 | O83: =G83+I83 -> 2 | P83: 2 | R83: =AA50 -> ＦＣみらい | V83: =AA79 -> 2 | W83: =Z79 -> 1 | X83: =AA81 -> 3 | Y83: =Z81 -> 0 | AB83: =COUNTIF(V84:AA84,"○")*3+COUNTIF(V84:AA84,"△") -> 6 | AC83: =AD83-W83-Y83 -> 4 | AD83: =V83+X83 -> 5 | AE83: 1
G84: =IF(G83>H83,"○",IF(G83<H83,"×",IF(G83=H83,"△"))) -> ○ | I84: =IF(I83>J83,"○",IF(I83<J83,"×",IF(I83=J83,"△"))) -> × | V84: =IF(V83>W83,"○",IF(V83<W83,"×",IF(V83=W83,"△"))) -> ○ | X84: =IF(X83>Y83,"○",IF(X83<Y83,"×",IF(X83=Y83,"△"))) -> ○

Sheet MN
A1: ='U11組合せ (抽選結果)'!J3 -> ■第1日 1月13日 | I1: ='U11組合せ (抽選結果)'!S3 -> 予選リーグ | T1: 第13会場 | X1: ='U11組合せ (抽選結果)'!AL60 -> SAKURAグリーンフィールドAB
I3: M | X3: MM
C6: 1 | G6: 2 | K6: 3 | O6: 4 | R6: 5 | V6: 6 | Z6: 7 | AD6: 8
C7: ='U11組合せ (抽選結果)'!AJ74 -> ＮＰＯ法人サウス宇都宮スポーツクラブ | G7: ='U11組合せ (抽選結果)'!AJ72 -> 藤原ＦＣ | K7: ='U11組合せ (抽選結果)'!AJ70 -> ＪＦＣアミスタ市貝Ｂ | O7: ='U11組合せ (抽選結果)'!AJ68 -> 南イレブン | R7: ='U11組合せ (抽選結果)'!AJ66 -> さくらボン・ディ・ボーラ | V7: ='U11組合せ (抽選結果)'!AJ64 -> Ｐｅｇａｓｕｓ藤岡２００７ | Z7: ='U11組合せ (抽選結果)'!AJ62 -> 豊郷ＪＦＣ宇都宮 | AD7: ='U11組合せ (抽選結果)'!AJ60 -> 呑竜ＦＣ
B15: ピッチ | AB15: ( | AC15: 主， | AD15: 副， | AE15: 副， | AF15: ４ｔｈ | AG15: )
B16: Ａ | C16: ① | D16: 0.375 | G16: =C7 -> ＮＰＯ法人サウス宇都宮スポーツクラブ | N16: =P16+P17 -> 0 | O16: （ | P16: 0 | Q16: － | R16: 1 | S16: ） | T16: =R16+R17 -> 1 | U16: =G7 -> 藤原ＦＣ | AC16: 5, | AD16: 6, | AE16: 7, | AF16: 8
P17: 0 | Q17: － | R17: 0
B18: Ｂ | C18: ① | D18: 0.375 | G18: =K7 -> ＪＦＣアミスタ市貝Ｂ | N18: =P18+P19 -> 3 | O18: （ | P18: 0 | Q18: － | R18: 0 | S18: ） | T18: =R18+R19 -> 0 | U18: =O7 -> 南イレブン | AC18: 8, | AD18: 7, | AE18: 6, | AF18: 5
P19: 3 | Q19: － | R19: 0
B20: Ａ | C20: ② | D20: 0.40277778 | G20: =R7 -> さくらボン・ディ・ボーラ | N20: =P20+P21 -> 2 | O20: （ | P20: 1 | Q20: － | R20: 0 | S20: ） | T20: =R20+R21 -> 0 | U20: =V7 -> Ｐｅｇａｓｕｓ藤岡２００７ | AC20: 1, | AD20: 2, | AE20: 3, | AF20: 4
P21: 1 | Q21: － | R21: 0
B22: Ｂ | C22: ② | D22: 0.40277778 | G22: =Z7 -> 豊郷ＪＦＣ宇都宮 | N22: =P22+P23 -> 1 | O22: （ | P22: 0 | Q22: － | R22: 0 | S22: ） | T22: =R22+R23 -> 0 | U22: =AD7 -> 呑竜ＦＣ | AC22: 4, | AD22: 3, | AE22: 2, | AF22: 1
P23: 1 | Q23: － | R23: 0
B24: Ａ | C24: ③ | D24: 0.43055556 | G24: =C7 -> ＮＰＯ法人サウス宇都宮スポーツクラブ | N24: =P24+P25 -> 0 | O24: （ | P24: 0 | Q24: － | R24: 0 | S24: ） | T24: =R24+R25 -> 0 | U24: =K7 -> ＪＦＣアミスタ市貝Ｂ | AC24: 6, | AD24: 5, | AE24: 8, | AF24: 7
P25: 0 | Q25: － | R25: 0
B26: Ｂ | C26: ③ | D26: 0.43055556 | G26: =G7 -> 藤原ＦＣ | N26: =P26+P27 -> 3 | O26: （ | P26: 2 | Q26: － | R26: 0 | S26: ） | T26: =R26+R27 -> 0 | U26: =O7 -> 南イレブン | AC26: 7, | AD26: 8, | AE26: 5, | AF26: 6
P27: 1 | Q27: － | R27: 0
B28: Ａ | C28: ④ | D28: 0.45833333 | G28: =R7 -> さくらボン・ディ・ボーラ | N28: =P28+P29 -> 2 | O28: （ | P28: 1 | Q28: － | R28: 0 | S28: ） | T28: =R28+R29 -> 1 | U28: =Z7 -> 豊郷ＪＦＣ宇都宮 | AC28: 2, | AD28: 1, | AE28: 4, | AF28: 3
P29: 1 | Q29: － | R29: 1
B30: Ｂ | C30: ④ | D30: 0.45833333 | G30: =V7 -> Ｐｅｇａｓｕｓ藤岡２００７ | N30: =P30+P31 -> 4 | O30: （ | P30: 1 | Q30: － | R30: 0 | S30: ） | T30: =R30+R31 -> 0 | U30: =AD7 -> 呑竜ＦＣ | AC30: 3, | AD30: 4, | AE30: 1, | AF30: 2
P31: 3 | Q31: － | R31: 0
B32: Ａ | C32: ⑤ | D32: 0.48611111 | G32: =C7 -> ＮＰＯ法人サウス宇都宮スポーツクラブ | N32: =P32+P33 -> 4 | O32: （ | P32: 2 | Q32: － | R32: 0 | S32: ） | T32: =R32+R33 -> 0 | U32: =O7 -> 南イレブン | AC32: 5, | AD32: 6, | AE32: 7, | AF32: 8
P33: 2 | Q33: － | R33: 0
B34: Ｂ | C34: ⑤ | D34: 0.48611111 | G34: =G7 -> 藤原ＦＣ | N34: =P34+P35 -> 0 | O34: （ | P34: 0 | Q34: － | R34: 0 | S34: ） | T34: =R34+R35 -> 1 | U34: =K7 -> ＪＦＣアミスタ市貝Ｂ | AC34: 8, | AD34: 7, | AE34: 6, | AF34: 5
P35: 0 | Q35: － | R35: 1
B36: Ａ | C36: ⑥ | D36: 0.51388889 | G36: =R7 -> さくらボン・ディ・ボーラ | N36: =P36+P37 -> 4 | O36: （ | P36: 1 | Q36: － | R36: 0 | S36: ） | T36: =R36+R37 -> 0 | U36: =AD7 -> 呑竜ＦＣ | AC36: 1, | AD36: 2, | AE36: 3, | AF36: 4
P37: 3 | Q37: － | R37: 0
B38: Ｂ | C38: ⑥ | D38: 0.51388889 | G38: =V7 -> Ｐｅｇａｓｕｓ藤岡２００７ | N38: =P38+P39 -> 2 | O38: （ | P38: 2 | Q38: － | R38: 1 | S38: ） | T38: =R38+R39 -> 3 | U38: =Z7 -> 豊郷ＪＦＣ宇都宮 | AC38: 4, | AD38: 3, | AE38: 2, | AF38: 1
P39: 0 | Q39: － | R39: 2
B41: =I3 &"リーグ" -> Mリーグ | F41: =B43 -> ＮＰＯ法人サウス宇都宮スポーツクラブ | H41: =B45 -> 藤原ＦＣ | J41: =B47 -> ＪＦＣアミスタ市貝Ｂ | L41: =B49 -> 南イレブン | N41: 勝点 | O41: 得失点 | P41: 順位 | R41: =X3 &"リーグ" -> MMリーグ | V41: =R7 -> さくらボン・ディ・ボーラ | X41: =V7 -> Ｐｅｇａｓｕｓ藤岡２００７ | Z41: =Z7 -> 豊郷ＪＦＣ宇都宮 | AB41: =AD7 -> 呑竜ＦＣ | AD41: 勝点 | AE41: 得失点 | AF41: 順位
B43: =C7 -> ＮＰＯ法人サウス宇都宮スポーツクラブ | H43: =N16 -> 0 | I43: =T16 -> 1 | J43: =N24 -> 0 | K43: =T24 -> 0 | L43: =N32 -> 4 | M43: =T32 -> 0 | N43: =COUNTIF(F44:M44,"○")*3+COUNTIF(F44:M44,"△") -> 4 | O43: =H43-I43+J43-K43+L43-M43 -> 3 | P43: 3 | R43: =R7 -> さくらボン・ディ・ボーラ | X43: =N20 -> 2 | Y43: =T20 -> 0 | Z43: =N28 -> 2 | AA43: =T28 -> 1 | AB43: =N36 -> 4 | AC43: =T36 -> 0 | AD43: =COUNTIF(V44:AC44,"○")*3+COUNTIF(V44:AC44,"△") -> 9 | AE43: =X43-Y43+Z43-AA43+AB43-AC43 -> 7 | AF43: 1
H44: =IF(H43>I43,"○",IF(H43<I43,"×",IF(H43=I43,"△"))) -> × | J44: =IF(J43>K43,"○",IF(J43<K43,"×",IF(J43=K43,"△"))) -> △ | L44: =IF(L43>M43,"○",IF(L43<M43,"×",IF(L43=M43,"△"))) -> ○ | X44: =IF(X43>Y43,"○",IF(X43<Y43,"×",IF(X43=Y43,"△"))) -> ○ | Z44: =IF(Z43>AA43,"○",IF(Z43<AA43,"×",IF(Z43=AA43,"△"))) -> ○ | AB44: =IF(AB43>AC43,"○",IF(AB43<AC43,"×",IF(AB43=AC43,"△"))) -> ○
B45: =G7 -> 藤原ＦＣ | F45: =I43 -> 1 | G45: =H43 -> 0 | J45: =N34 -> 0 | K45: =T34 -> 1 | L45: =N26 -> 3 | M45: =T26 -> 0 | N45: =COUNTIF(F46:M46,"○")*3+COUNTIF(F46:M46,"△") -> 6 | O45: =F45-G45+J45-K45+L45-M45 -> 3 | P45: 2 | R45: =V7 -> Ｐｅｇａｓｕｓ藤岡２００７ | V45: =Y43 -> 0 | W45: =X43 -> 2 | Z45: =N38 -> 2 | AA45: =T38 -> 3 | AB45: =N30 -> 4 | AC45: =T30 -> 0 | AD45: =COUNTIF(V46:AC46,"○")*3+COUNTIF(V46:AC46,"△") -> 3 | AE45: =V45-W45+Z45-AA45+AB45-AC45 -> 1 | AF45: 3
F46: =IF(F45>G45,"○",IF(F45<G45,"×",IF(F45=G45,"△"))) -> ○ | J46: =IF(J45>K45,"○",IF(J45<K45,"×",IF(J45=K45,"△"))) -> × | L46: =IF(L45>M45,"○",IF(L45<M45,"×",IF(L45=M45,"△"))) -> ○ | V46: =IF(V45>W45,"○",IF(V45<W45,"×",IF(V45=W45,"△"))) -> × | Z46: =IF(Z45>AA45,"○",IF(Z45<AA45,"×",IF(Z45=AA45,"△"))) -> × | AB46: =IF(AB45>AC45,"○",IF(AB45<AC45,"×",IF(AB45=AC45,"△"))) -> ○
B47: =K7 -> ＪＦＣアミスタ市貝Ｂ | F47: =K43 -> 0 | G47: =J43 -> 0 | H47: =K45 -> 1 | I47: =J45 -> 0 | L47: =N18 -> 3 | M47: =T18 -> 0 | N47: =COUNTIF(F48:M48,"○")*3+COUNTIF(F48:M48,"△") -> 7 | O47: =F47-G47+H47-I47+L47-M47 -> 4 | P47: 1 | R47: =Z7 -> 豊郷ＪＦＣ宇都宮 | V47: =AA43 -> 1 | W47: =Z43 -> 2 | X47: =AA45 -> 3 | Y47: =Z45 -> 2 | AB47: =N22 -> 1 | AC47: =T22 -> 0 | AD47: =COUNTIF(V48:AC48,"○")*3+COUNTIF(V48:AC48,"△") -> 6 | AE47: =V47-W47+X47-Y47+AB47-AC47 -> 1 | AF47: 2
F48: =IF(F47>G47,"○",IF(F47<G47,"×",IF(F47=G47,"△"))) -> △ | H48: =IF(H47>I47,"○",IF(H47<I47,"×",IF(H47=I47,"△"))) -> ○ | L48: =IF(L47>M47,"○",IF(L47<M47,"×",IF(L47=M47,"△"))) -> ○ | V48: =IF(V47>W47,"○",IF(V47<W47,"×",IF(V47=W47,"△"))) -> × | X48: =IF(X47>Y47,"○",IF(X47<Y47,"×",IF(X47=Y47,"△"))) -> ○ | AB48: =IF(AB47>AC47,"○",IF(AB47<AC47,"×",IF(AB47=AC47,"△"))) -> ○
B49: =O7 -> 南イレブン | F49: =M43 -> 0 | G49: =L43 -> 4 | H49: =M45 -> 0 | I49: =L45 -> 3 | J49: =M47 -> 0 | K49: =L47 -> 3 | N49: =COUNTIF(F50:M50,"○")*3+COUNTIF(F50:M50,"△") -> 0 | O49: =F49-G49+H49-I49+J49-K49 -> -10 | P49: 4 | R49: =AD7 -> 呑竜ＦＣ | V49: =AC43 -> 0 | W49: =AB43 -> 4 | X49: =AC45 -> 0 | Y49: =AB45 -> 4 | Z49: =AC47 -> 0 | AA49: =AB47 -> 1 | AD49: =COUNTIF(V50:AC50,"○")*3+COUNTIF(V50:AC50,"△") -> 0 | AE49: =V49-W49+X49-Y49+Z49-AA49 -> -9 | AF49: 4
F50: =IF(F49>G49,"○",IF(F49<G49,"×",IF(F49=G49,"△"))) -> × | H50: =IF(H49>I49,"○",IF(H49<I49,"×",IF(H49=I49,"△"))) -> × | J50: =IF(J49>K49,"○",IF(J49<K49,"×",IF(J49=K49,"△"))) -> × | V50: =IF(V49>W49,"○",IF(V49<W49,"×",IF(V49=W49,"△"))) -> × | X50: =IF(X49>Y49,"○",IF(X49<Y49,"×",IF(X49=Y49,"△"))) -> × | Z50: =IF(Z49>AA49,"○",IF(Z49<AA49,"×",IF(Z49=AA49,"△"))) -> ×
A52: =A1 -> ■第1日 1月13日 | I52: =I1 -> 予選リーグ | T52: 第14会場 | X52: ='U11組合せ (抽選結果)'!AL43 -> 真岡鬼怒自然公園サッカー場（クレー）ＡＢ
J54: N | W54: NN
F57: 1 | J57: 2 | N57: 3 | S57: 4 | W57: 5 | AA57: 6
F58: ='U11組合せ (抽選結果)'!AJ56 -> 宇都宮フットボールクラブジュニア | J58: ='U11組合せ (抽選結果)'!AJ54 -> 喜連川ＦＣＪｒ | N58: ='U11組合せ (抽選結果)'!AJ52 -> ＦＣ黒羽 | S58: ='U11組合せ (抽選結果)'!AJ48 -> さつきが丘スポーツ少年団サッカー部 | W58: ='U11組合せ (抽選結果)'!AJ46 -> 久下田ＦＣ | AA58: ='U11組合せ (抽選結果)'!AJ44 -> 栃木Ｃｈａｒｍｅ．Ｆ．Ｃ
AB66: ( | AC66: 主， | AD66: 副， | AE66: 副， | AF66: ４ｔｈ | AG66: )
B67: ① | C67: 0.375 | G67: =F58 -> 宇都宮フットボールクラブジュニア | N67: =P67+P68 -> 13 | O67: （ | P67: 7 | Q67: － | R67: 0 | S67: ） | T67: =R67+R68 -> 0 | U67: =J58 -> 喜連川ＦＣＪｒ | AC67: 6, | AD67: 4, | AE67: 5, | AF67: 6
P68: 6 | Q68: － | R68: 0
B70: ② | C70: 0.40277778 | G70: =S58 -> さつきが丘スポーツ少年団サッカー部 | N70: =P70+P71 -> 0 | O70: （ | P70: 0 | Q70: － | R70: 2 | S70: ） | T70: =R70+R71 -> 7 | U70: =W58 -> 久下田ＦＣ | AC70: 3, | AD70: 1, | AE70: 2, | AF70: 3
P71: 0 | Q71: － | R71: 5
B73: ③ | C73: 0.43055556 | G73: =F58 -> 宇都宮フットボールクラブジュニア | N73: =P73+P74 -> 0 | O73: （ | P73: 0 | Q73: － | R73: 0 | S73: ） | T73: =R73+R74 -> 0 | U73: =N58 -> ＦＣ黒羽 | AC73: 5, | AD73: 6, | AE73: 4, | AF73: 5
P74: 0 | Q74: － | R74: 0
B76: ④ | C76: 0.45833333 | G76: =S58 -> さつきが丘スポーツ少年団サッカー部 | N76: =P76+P77 -> 0 | O76: （ | P76: 0 | Q76: － | R76: 0 | S76: ） | T76: =R76+R77 -> 2 | U76: =AA58 -> 栃木Ｃｈａｒｍｅ．Ｆ．Ｃ | AC76: 2, | AD76: 3, | AE76: 1, | AF76: 2
P77: 0 | Q77: － | R77: 2
B79: ⑤ | C79: 0.48611111 | G79: =J58 -> 喜連川ＦＣＪｒ | N79: =P79+P80 -> 0 | O79: （ | P79: 0 | Q79: － | R79: 7 | S79: ） | T79: =R79+R80 -> 11 | U79: =N58 -> ＦＣ黒羽 | AC79: 4, | AD79: 5, | AE79: 6, | AF79: 4
P80: 0 | Q80: － | R80: 4
B82: ⑥ | C82: 0.51388889 | G82: =W58 -> 久下田ＦＣ | N82: =P82+P83 -> 0 | O82: （ | P82: 0 | Q82: － | R82: 0 | S82: ） | T82: =R82+R83 -> 0 | U82: =AA58 -> 栃木Ｃｈａｒｍｅ．Ｆ．Ｃ | AC82: 1, | AD82: 2, | AE82: 3, | AF82: 1
P83: 0 | Q83: － | R83: 0
C85: =J54 &"リーグ" -> Nリーグ | G85: =C87 -> 宇都宮フットボールクラブジュニア | I85: =C89 -> 喜連川ＦＣＪｒ | K85: =C91 -> ＦＣ黒羽 | M85: 勝点 | N85: 得失点 | O85: 総得点 | P85: 順位 | R85: =W54 &"リーグ" -> NNリーグ | V85: =R87 -> さつきが丘スポーツ少年団サッカー部 | X85: =R89 -> 久下田ＦＣ | Z85: =R91 -> 栃木Ｃｈａｒｍｅ．Ｆ．Ｃ | AB85: 勝点 | AC85: 得失点 | AD85: 総得点 | AE85: 順位
C87: =F58 -> 宇都宮フットボールクラブジュニア | I87: =N67 -> 13 | J87: =T67 -> 0 | K87: =N73 -> 0 | L87: =T73 -> 0 | M87: =COUNTIF(G88:L88,"○")*3+COUNTIF(G88:L88,"△") -> 4 | N87: =O87-J87-L87 -> 13 | O87: =I87+K87 -> 13 | P87: 1 | R87: =S58 -> さつきが丘スポーツ少年団サッカー部 | X87: =N70 -> 0 | Y87: =T70 -> 7 | Z87: =N76 -> 0 | AA87: =T76 -> 2 | AB87: =COUNTIF(V88:AA88,"○")*3+COUNTIF(V88:AA88,"△") -> 0 | AC87: =AD87-Y87-AA87 -> -9 | AD87: =X87+Z87 -> 0 | AE87: 3
I88: =IF(I87>J87,"○",IF(I87<J87,"×",IF(I87=J87,"△"))) -> ○ | K88: =IF(K87>L87,"○",IF(K87<L87,"×",IF(K87=L87,"△"))) -> △ | X88: =IF(X87>Y87,"○",IF(X87<Y87,"×",IF(X87=Y87,"△"))) -> × | Z88: =IF(Z87>AA87,"○",IF(Z87<AA87,"×",IF(Z87=AA87,"△"))) -> ×
C89: =J58 -> 喜連川ＦＣＪｒ | G89: =J87 -> 0 | H89: =I87 -> 13 | K89: =N79 -> 0 | L89: =T79 -> 11 | M89: =COUNTIF(G90:L90,"○")*3+COUNTIF(G90:L90,"△") -> 0 | N89: =O89-H89-L89 -> -24 | O89: =G89+K89 -> 0 | P89: 3 | R89: =W58 -> 久下田ＦＣ | V89: =Y87 -> 7 | W89: =X87 -> 0 | Z89: =N82 -> 0 | AA89: =T82 -> 0 | AB89: =COUNTIF(V90:AA90,"○")*3+COUNTIF(V90:AA90,"△") -> 4 | AC89: =AD89-W89-AA89 -> 7 | AD89: =V89+Z89 -> 7 | AE89: 1
G90: =IF(G89>H89,"○",IF(G89<H89,"×",IF(G89=H89,"△"))) -> × | K90: =IF(K89>L89,"○",IF(K89<L89,"×",IF(K89=L89,"△"))) -> × | V90: =IF(V89>W89,"○",IF(V89<W89,"×",IF(V89=W89,"△"))) -> ○ | Z90: =IF(Z89>AA89,"○",IF(Z89<AA89,"×",IF(Z89=AA89,"△"))) -> △
C91: =N58 -> ＦＣ黒羽 | G91: =L87 -> 0 | H91: =K87 -> 0 | I91: =L89 -> 11 | J91: =K89 -> 0 | M91: =COUNTIF(G92:L92,"○")*3+COUNTIF(G92:L92,"△") -> 4 | N91: =O91-H91-J91 -> 11 | O91: =G91+I91 -> 11 | P91: 2 | R91: =AA58 -> 栃木Ｃｈａｒｍｅ．Ｆ．Ｃ | V91: =AA87 -> 2 | W91: =Z87 -> 0 | X91: =AA89 -> 0 | Y91: =Z89 -> 0 | AB91: =COUNTIF(V92:AA92,"○")*3+COUNTIF(V92:AA92,"△") -> 4 | AC91: =AD91-W91-Y91 -> 2 | AD91: =V91+X91 -> 2 | AE91: 2
G92: =IF(G91>H91,"○",IF(G91<H91,"×",IF(G91=H91,"△"))) -> △ | I92: =IF(I91>J91,"○",IF(I91<J91,"×",IF(I91=J91,"△"))) -> ○ | V92: =IF(V91>W91,"○",IF(V91<W91,"×",IF(V91=W91,"△"))) -> ○ | X92: =IF(X91>Y91,"○",IF(X91<Y91,"×",IF(X91=Y91,"△"))) -> △

Sheet OP
A1: ='U11組合せ (抽選結果)'!J3 -> ■第1日 1月13日 | I1: ='U11組合せ (抽選結果)'!S3 -> 予選リーグ | T1: 第15会場 | X1: ='U11組合せ (抽選結果)'!AL26 -> 真岡鬼怒自然公園サッカー場（クレー）ＡＡ
J3: O | W3: OO
F6: 1 | J6: 2 | N6: 3 | S6: 4 | W6: 5 | AA6: 6
F7: ='U11組合せ (抽選結果)'!AJ39 -> Ｆ．Ｃ．栃木ジュニア | J7: ='U11組合せ (抽選結果)'!AJ37 -> 清原陽東サッカースポーツ少年団 | N7: ='U11組合せ (抽選結果)'!AJ35 -> ＣＦＡ日光 | S7: ='U11組合せ (抽選結果)'!AJ31 -> 高林・青木フットボールクラブ | W7: ='U11組合せ (抽選結果)'!AJ29 -> 真岡西サッカークラブブリッツ | AA7: ='U11組合せ (抽選結果)'!AJ27 -> 合戦場フットボールクラブ
AB15: ( | AC15: 主， | AD15: 副， | AE15: 副， | AF15: ４ｔｈ | AG15: )
B16: ① | C16: 0.375 | G16: =F7 -> Ｆ．Ｃ．栃木ジュニア | N16: =P16+P17 -> 2 | O16: （ | P16: 1 | Q16: － | R16: 1 | S16: ） | T16: =R16+R17 -> 1 | U16: =J7 -> 清原陽東サッカースポーツ少年団 | AC16: 6, | AD16: 4, | AE16: 5, | AF16: 6
P17: 1 | Q17: － | R17: 0
B19: ② | C19: 0.40277778 | G19: =S7 -> 高林・青木フットボールクラブ | N19: =P19+P20 -> 0 | O19: （ | P19: 0 | Q19: － | R19: 0 | S19: ） | T19: =R19+R20 -> 0 | U19: =W7 -> 真岡西サッカークラブブリッツ | AC19: 3, | AD19: 1, | AE19: 2, | AF19: 3
P20: 0 | Q20: － | R20: 0
B22: ③ | C22: 0.43055556 | G22: =F7 -> Ｆ．Ｃ．栃木ジュニア | N22: =P22+P23 -> 4 | O22: （ | P22: 3 | Q22: － | R22: 0 | S22: ） | T22: =R22+R23 -> 0 | U22: =N7 -> ＣＦＡ日光 | AC22: 5, | AD22: 6, | AE22: 4, | AF22: 5
P23: 1 | Q23: － | R23: 0
B25: ④ | C25: 0.45833333 | G25: =S7 -> 高林・青木フットボールクラブ | N25: =P25+P26 -> 1 | O25: （ | P25: 0 | Q25: － | R25: 3 | S25: ） | T25: =R25+R26 -> 3 | U25: =AA7 -> 合戦場フットボールクラブ | AC25: 2, | AD25: 3, | AE25: 1, | AF25: 2
P26: 1 | Q26: － | R26: 0
B28: ⑤ | C28: 0.48611111 | G28: =J7 -> 清原陽東サッカースポーツ少年団 | N28: =P28+P29 -> 1 | O28: （ | P28: 1 | Q28: － | R28: 1 | S28: ） | T28: =R28+R29 -> 1 | U28: =N7 -> ＣＦＡ日光 | AC28: 4, | AD28: 5, | AE28: 6, | AF28: 4
P29: 0 | Q29: － | R29: 0
B31: ⑥ | C31: 0.51388889 | G31: =W7 -> 真岡西サッカークラブブリッツ | N31: =P31+P32 -> 0 | O31: （ | P31: 0 | Q31: － | R31: 0 | S31: ） | T31: =R31+R32 -> 0 | U31: =AA7 -> 合戦場フットボールクラブ | AC31: 1, | AD31: 2, | AE31: 3, | AF31: 1
P32: 0 | Q32: － | R32: 0
C34: =J3 &"リーグ" -> Oリーグ | G34: =C36 -> Ｆ．Ｃ．栃木ジュニア | I34: =C38 -> 清原陽東サッカースポーツ少年団 | K34: =C40 -> ＣＦＡ日光 | M34: 勝点 | N34: 得失点 | O34: 総得点 | P34: 順位 | R34: =W3 &"リーグ" -> OOリーグ | V34: =R36 -> 高林・青木フットボールクラブ | X34: =R38 -> 真岡西サッカークラブブリッツ | Z34: =R40 -> 合戦場フットボールクラブ | AB34: 勝点 | AC34: 得失点 | AD34: 総得点 | AE34: 順位
C36: =F7 -> Ｆ．Ｃ．栃木ジュニア | I36: =N16 -> 2 | J36: =T16 -> 1 | K36: =N22 -> 4 | L36: =T22 -> 0 | M36: =COUNTIF(G37:L37,"○")*3+COUNTIF(G37:L37,"△") -> 6 | N36: =O36-J36-L36 -> 5 | O36: =I36+K36 -> 6 | P36: 1 | R36: =S7 -> 高林・青木フットボールクラブ | X36: =N19 -> 0 | Y36: =T19 -> 0 | Z36: =N25 -> 1 | AA36: =T25 -> 3 | AB36: =COUNTIF(V37:AA37,"○")*3+COUNTIF(V37:AA37,"△") -> 1 | AC36: =AD36-Y36-AA36 -> -2 | AD36: =X36+Z36 -> 1 | AE36: 3
I37: =IF(I36>J36,"○",IF(I36<J36,"×",IF(I36=J36,"△"))) -> ○ | K37: =IF(K36>L36,"○",IF(K36<L36,"×",IF(K36=L36,"△"))) -> ○ | X37: =IF(X36>Y36,"○",IF(X36<Y36,"×",IF(X36=Y36,"△"))) -> △ | Z37: =IF(Z36>AA36,"○",IF(Z36<AA36,"×",IF(Z36=AA36,"△"))) -> ×
C38: =J7 -> 清原陽東サッカースポーツ少年団 | G38: =J36 -> 1 | H38: =I36 -> 2 | K38: =N28 -> 1 | L38: =T28 -> 1 | M38: =COUNTIF(G39:L39,"○")*3+COUNTIF(G39:L39,"△") -> 1 | N38: =O38-H38-L38 -> -1 | O38: =G38+K38 -> 2 | P38: 2 | R38: =W7 -> 真岡西サッカークラブブリッツ | V38: =Y36 -> 0 | W38: =X36 -> 0 | Z38: =N31 -> 0 | AA38: =T31 -> 0 | AB38: =COUNTIF(V39:AA39,"○")*3+COUNTIF(V39:AA39,"△") -> 2 | AC38: =AD38-W38-AA38 -> 0 | AD38: =V38+Z38 -> 0 | AE38: 2
G39: =IF(G38>H38,"○",IF(G38<H38,"×",IF(G38=H38,"△"))) -> × | K39: =IF(K38>L38,"○",IF(K38<L38,"×",IF(K38=L38,"△"))) -> △ | V39: =IF(V38>W38,"○",IF(V38<W38,"×",IF(V38=W38,"△"))) -> △ | Z39: =IF(Z38>AA38,"○",IF(Z38<AA38,"×",IF(Z38=AA38,"△"))) -> △
C40: =N7 -> ＣＦＡ日光 | G40: =L36 -> 0 | H40: =K36 -> 4 | I40: =L38 -> 1 | J40: =K38 -> 1 | M40: =COUNTIF(G41:L41,"○")*3+COUNTIF(G41:L41,"△") -> 1 | N40: =O40-H40-J40 -> -4 | O40: =G40+I40 -> 1 | P40: 3 | R40: =AA7 -> 合戦場フットボールクラブ | V40: =AA36 -> 3 | W40: =Z36 -> 1 | X40: =AA38 -> 0 | Y40: =Z38 -> 0 | AB40: =COUNTIF(V41:AA41,"○")*3+COUNTIF(V41:AA41,"△") -> 4 | AC40: =AD40-W40-Y40 -> 2 | AD40: =V40+X40 -> 3 | AE40: 1
G41: =IF(G40>H40,"○",IF(G40<H40,"×",IF(G40=H40,"△"))) -> × | I41: =IF(I40>J40,"○",IF(I40<J40,"×",IF(I40=J40,"△"))) -> △ | V41: =IF(V40>W40,"○",IF(V40<W40,"×",IF(V40=W40,"△"))) -> ○ | X41: =IF(X40>Y40,"○",IF(X40<Y40,"×",IF(X40=Y40,"△"))) -> △
A44: =A1 -> ■第1日 1月13日 | I44: =I1 -> 予選リーグ | T44: 第16会場 | X44: ='U11組合せ (抽選結果)'!AL9 -> 足利本町緑地サッカー場Ａ
J46: P | W46: PP
F49: 1 | J49: 2 | N49: 3 | S49: 4 | W49: 5 | AA49: 6
F50: ='U11組合せ (抽選結果)'!AJ22 -> 西那須野西ＳＣ | J50: ='U11組合せ (抽選結果)'!AJ20 -> 高根沢西フットボールクラブ | N50: ='U11組合せ (抽選結果)'!AJ18 -> 石井フットボールクラブ | S50: ='U11組合せ (抽選結果)'!AJ14 -> ＦＣプリメーロ | W50: ='U11組合せ (抽選結果)'!AJ12 -> Ｋ－ＷＥＳＴ．ＦＣ２００１ | AA50: ='U11組合せ (抽選結果)'!AJ10 -> 富士見サッカースポーツ少年団レッド
AB58: ( | AC58: 主， | AD58: 副， | AE58: 副， | AF58: ４ｔｈ | AG58: )
B59: ① | C59: 0.375 | G59: =F50 -> 西那須野西ＳＣ | N59: =P59+P60 -> 1 | O59: （ | P59: 1 | Q59: － | R59: 1 | S59: ） | T59: =R59+R60 -> 1 | U59: =J50 -> 高根沢西フットボールクラブ | AC59: 6, | AD59: 4, | AE59: 5, | AF59: 6
P60: 0 | Q60: － | R60: 0
B62: ② | C62: 0.40277778 | G62: =S50 -> ＦＣプリメーロ | N62: =P62+P63 -> 2 | O62: （ | P62: 0 | Q62: － | R62: 0 | S62: ） | T62: =R62+R63 -> 0 | U62: =W50 -> Ｋ－ＷＥＳＴ．ＦＣ２００１ | AC62: 3, | AD62: 1, | AE62: 2, | AF62: 3
P63: 2 | Q63: － | R63: 0
B65: ③ | C65: 0.43055556 | G65: =F50 -> 西那須野西ＳＣ | N65: =P65+P66 -> 0 | O65: （ | P65: 0 | Q65: － | R65: 0 | S65: ） | T65: =R65+R66 -> 0 | U65: =N50 -> 石井フットボールクラブ | AC65: 5, | AD65: 6, | AE65: 4, | AF65: 5
P66: 0 | Q66: － | R66: 0
B68: ④ | C68: 0.45833333 | G68: =S50 -> ＦＣプリメーロ | N68: =P68+P69 -> 9 | O68: （ | P68: 2 | Q68: － | R68: 0 | S68: ） | T68: =R68+R69 -> 0 | U68: =AA50 -> 富士見サッカースポーツ少年団レッド | AC68: 2, | AD68: 3, | AE68: 1, | AF68: 2
P69: 7 | Q69: － | R69: 0
B71: ⑤ | C71: 0.48611111 | G71: =J50 -> 高根沢西フットボールクラブ | N71: =P71+P72 -> 0 | O71: （ | P71: 0 | Q71: － | R71: 0 | S71: ） | T71: =R71+R72 -> 1 | U71: =N50 -> 石井フットボールクラブ | AC71: 4, | AD71: 5, | AE71: 6, | AF71: 4
P72: 0 | Q72: － | R72: 1
B74: ⑥ | C74: 0.51388889 | G74: =W50 -> Ｋ－ＷＥＳＴ．ＦＣ２００１ | N74: =P74+P75 -> 7 | O74: （ | P74: 6 | Q74: － | R74: 0 | S74: ） | T74: =R74+R75 -> 0 | U74: =AA50 -> 富士見サッカースポーツ少年団レッド | AC74: 1, | AD74: 2, | AE74: 3, | AF74: 1
P75: 1 | Q75: － | R75: 0
C77: =J46 &"リーグ" -> Pリーグ | G77: =C79 -> 西那須野西ＳＣ | I77: =C81 -> 高根沢西フットボールクラブ | K77: =C83 -> 石井フットボールクラブ | M77: 勝点 | N77: 得失点 | O77: 総得点 | P77: 順位 | R77: =W46 &"リーグ" -> PPリーグ | V77: =R79 -> ＦＣプリメーロ | X77: =R81 -> Ｋ－ＷＥＳＴ．ＦＣ２００１ | Z77: =R83 -> 富士見サッカースポーツ少年団レッド | AB77: 勝点 | AC77: 得失点 | AD77: 総得点 | AE77: 順位
C79: =F50 -> 西那須野西ＳＣ | I79: =N59 -> 1 | J79: =T59 -> 1 | K79: =N65 -> 0 | L79: =T65 -> 0 | M79: =COUNTIF(G80:L80,"○")*3+COUNTIF(G80:L80,"△") -> 2 | N79: =O79-J79-L79 -> 0 | O79: =I79+K79 -> 1 | P79: 2 | R79: =S50 -> ＦＣプリメーロ | X79: =N62 -> 2 | Y79: =T62 -> 0 | Z79: =N68 -> 9 | AA79: =T68 -> 0 | AB79: =COUNTIF(V80:AA80,"○")*3+COUNTIF(V80:AA80,"△") -> 6 | AC79: =AD79-Y79-AA79 -> 11 | AD79: =X79+Z79 -> 11 | AE79: 1
I80: =IF(I79>J79,"○",IF(I79<J79,"×",IF(I79=J79,"△"))) -> △ | K80: =IF(K79>L79,"○",IF(K79<L79,"×",IF(K79=L79,"△"))) -> △ | X80: =IF(X79>Y79,"○",IF(X79<Y79,"×",IF(X79=Y79,"△"))) -> ○ | Z80: =IF(Z79>AA79,"○",IF(Z79<AA79,"×",IF(Z79=AA79,"△"))) -> ○
C81: =J50 -> 高根沢西フットボールクラブ | G81: =J79 -> 1 | H81: =I79 -> 1 | K81: =N71 -> 0 | L81: =T71 -> 1 | M81: =COUNTIF(G82:L82,"○")*3+COUNTIF(G82:L82,"△") -> 1 | N81: =O81-H81-L81 -> -1 | O81: =G81+K81 -> 1 | P81: 3 | R81: =W50 -> Ｋ－ＷＥＳＴ．ＦＣ２００１ | V81: =Y79 -> 0 | W81: =X79 -> 2 | Z81: =N74 -> 7 | AA81: =T74 -> 0 | AB81: =COUNTIF(V82:AA82,"○")*3+COUNTIF(V82:AA82,"△") -> 3 | AC81: =AD81-W81-AA81 -> 5 | AD81: =V81+Z81 -> 7 | AE81: 2
G82: =IF(G81>H81,"○",IF(G81<H81,"×",IF(G81=H81,"△"))) -> △ | K82: =IF(K81>L81,"○",IF(K81<L81,"×",IF(K81=L81,"△"))) -> × | V82: =IF(V81>W81,"○",IF(V81<W81,"×",IF(V81=W81,"△"))) -> × | Z82: =IF(Z81>AA81,"○",IF(Z81<AA81,"×",IF(Z81=AA81,"△"))) -> ○
C83: =N50 -> 石井フットボールクラブ | G83: =L79 -> 0 | H83: =K79 -> 0 | I83: =L81 -> 1 | J83: =K81 -> 0 | M83: =COUNTIF(G84:L84,"○")*3+COUNTIF(G84:L84,"△") -> 4 | N83: =O83-H83-J83 -> 1 | O83: =G83+I83 -> 1 | P83: 1 | R83: =AA50 -> 富士見サッカースポーツ少年団レッド | V83: =AA79 -> 0 | W83: =Z79 -> 9 | X83: =AA81 -> 0 | Y83: =Z81 -> 7 | AB83: =COUNTIF(V84:AA84,"○")*3+COUNTIF(V84:AA84,"△") -> 0 | AC83: =AD83-W83-Y83 -> -16 | AD83: =V83+X83 -> 0 | AE83: 3
G84: =IF(G83>H83,"○",IF(G83<H83,"×",IF(G83=H83,"△"))) -> △ | I84: =IF(I83>J83,"○",IF(I83<J83,"×",IF(I83=J83,"△"))) -> ○ | V84: =IF(V83>W83,"○",IF(V83<W83,"×",IF(V83=W83,"△"))) -> × | X84: =IF(X83>Y83,"○",IF(X83<Y83,"×",IF(X83=Y83,"△"))) -> ×

Sheet ２日目ab
A1: ='U11組合せ (抽選結果)'!J4 -> ■第2日 1月14日 | M1: 第１会場 | R1: ='U11組合せ (抽選結果)'!L61 -> 県グリーンスタジアムサブグランド
D2: ='U11組合せ (抽選結果)'!S4 -> 決勝トーナメント１・２回戦・準々決勝
M4: A⑦
F5: A⑤ | K5: aブロック | T5: B⑤
C7: A① | I7: B① | Q7: A② | W7: B②
A9: a1 | D9: a2 | G9: a3 | J9: a4 | O9: a5 | R9: a6 | U9: a7 | X9: a8
A10: =AB!K7 -> Ｊ－ＳＰＯＲＴＳＦＯＯＴＢＡＬＬＣＬＵＢ | D10: =AB!V7 -> ヴェルフェ矢板Ｕ－１２ | G10: =AB!O58 -> ＦＣ真岡２１ファンタジー | J10: =AB!V58 -> 野原グランディオスＦＣ | O10: =CD!J7 -> 大田原城山サッカークラブ | R10: =CD!AA7 -> 東那須野ＦＣフェニックス | U10: =CD!F50 -> おおぞらＳＣ | X10: =CD!S50 -> ＦＣスポルト宇都宮
M21: B⑦
F22: A⑥ | K22: bブロック | T22: B⑥
C24: A③ | I24: B③ | Q24: A④ | W24: B④
A26: b1 | D26: b２ | G26: b３ | J26: b４ | O26: b５ | R26: b６ | U26: b７ | X26: b８
A27: =EF!O7 -> ＪＦＣファイターズ | D27: =EF!AD7 -> 間東ＦＣミラクルズ | G27: =EF!J58 -> 上松山クラブ | J27: =EF!S58 -> 亀山サッカークラブ | O27: =GH!F7 -> 富士見サッカースポーツ少年団ブルー | R27: =GH!AA7 -> 阿久津サッカークラブ | U27: =GH!F50 -> ＮＩＫＫＯ ＳＰＯＲＴＳ ＣＬＵＢ | X27: =GH!AA50 -> 大谷北ＦＣフォルテ
A37: ＜ピッチ＞ | V37: (主 副 副 4th)
A38: A | B38: ① | C38: 0.375 | E38: =A10 -> Ｊ－ＳＰＯＲＴＳＦＯＯＴＢＡＬＬＣＬＵＢ | J38: =L38+L39 -> 3 | K38: （ | L38: 0 | M38: － | N38: 0 | O38: ） | P38: =N38+N39 -> 0 | Q38: =D10 -> ヴェルフェ矢板Ｕ－１２ | V38: b1 b２ b３ b４
L39: 3 | M39: － | N39: 0
A41: B | B41: ① | C41: 0.375 | E41: =G10 -> ＦＣ真岡２１ファンタジー | J41: =L41+L42 -> 1 | K41: （ | L41: 1 | M41: － | N41: 0 | O41: ） | P41: =N41+N42 -> 0 | Q41: =J10 -> 野原グランディオスＦＣ | V41: b４ b３ b２ b1
L42: 0 | M42: － | N42: 0
A44: A | B44: ② | C44: 0.40277778 | E44: =O10 -> 大田原城山サッカークラブ | J44: =L44+L45 -> 0 | K44: （ | L44: 0 | M44: － | N44: 0 | O44: ） | P44: =N44+N45 -> 1 | Q44: =R10 -> 東那須野ＦＣフェニックス | V44: b５ b６ b７ b８
L45: 0 | M45: － | N45: 1
A47: B | B47: ② | C47: 0.40277778 | E47: =U10 -> おおぞらＳＣ | J47: =L47+L48 -> 1 | K47: （ | L47: 1 | M47: － | N47: 0 | O47: ） | P47: =N47+N48 -> 1 | Q47: =X10 -> ＦＣスポルト宇都宮 | V47: b８ b７ b６ b５
L48: 0 | M48: － | N48: 1
K49: PK | L49: 2 | M49: － | N49: 1
A51: A | B51: ③ | C51: 0.43055556 | E51: =A27 -> ＪＦＣファイターズ | J51: =L51+L52 -> 1 | K51: （ | L51: 1 | M51: － | N51: 1 | O51: ） | P51: =N51+N52 -> 2 | Q51: =D27 -> 間東ＦＣミラクルズ | V51: a1 a２ a３ a４
L52: 0 | M52: － | N52: 1
A54: B | B54: ③ | C54: 0.43055556 | E54: =G27 -> 上松山クラブ | J54: =L54+L55 -> 4 | K54: （ | L54: 2 | M54: － | N54: 0 | O54: ） | P54: =N54+N55 -> 0 | Q54: =J27 -> 亀山サッカークラブ | V54: a４ a３ a２ a1
L55: 2 | M55: － | N55: 0
A57: A | B57: ④ | C57: 0.45833333 | E57: =O27 -> 富士見サッカースポーツ少年団ブルー | J57: =L57+L58 -> 3 | K57: （ | L57: 0 | M57: － | N57: 0 | O57: ） | P57: =N57+N58 -> 0 | Q57: =R27 -> 阿久津サッカークラブ | V57: a５ a６ a７ a８
L58: 3 | M58: － | N58: 0
A60: B | B60: ④ | C60: 0.45833333 | E60: =U27 -> ＮＩＫＫＯ ＳＰＯＲＴＳ ＣＬＵＢ | J60: =L60+L61 -> 0 | K60: （ | L60: 0 | M60: － | N60: 0 | O60: ） | P60: =N60+N61 -> 1 | Q60: =X27 -> 大谷北ＦＣフォルテ | V60: a８ a７ a６ a５
L61: 0 | M61: － | N61: 1
A63: A | B63: ⑤ | C63: 0.48611111 | E63: =E38 -> Ｊ－ＳＰＯＲＴＳＦＯＯＴＢＡＬＬＣＬＵＢ | J63: =L63+L64 -> 5 | K63: （ | L63: 5 | M63: － | N63: 0 | O63: ） | P63: =N63+N64 -> 0 | Q63: =E41 -> ＦＣ真岡２１ファンタジー | V63: b２ b１ b４ b３
L64: 0 | M64: － | N64: 0
A66: B | B66: ⑤ | C66: 0.48611111 | E66: =Q44 -> 東那須野ＦＣフェニックス | J66: =L66+L67 -> 0 | K66: （ | L66: 0 | M66: － | N66: 0 | O66: ） | P66: =N66+N67 -> 3 | Q66: =E47 -> おおぞらＳＣ | V66: b６ b５ b８ b７
L67: 0 | M67: － | N67: 3
A69: A | B69: ⑥ | C69: 0.51388889 | E69: =Q51 -> 間東ＦＣミラクルズ | J69: =L69+L70 -> 1 | K69: （ | L69: 0 | M69: － | N69: 1 | O69: ） | P69: =N69+N70 -> 1 | Q69: =E54 -> 上松山クラブ | V69: a２ a１ a４ a３
L70: 1 | M70: － | N70: 0
K71: PK | L71: 0 | M71: － | N71: 2
A73: B | B73: ⑥ | C73: 0.51388889 | E73: =E57 -> 富士見サッカースポーツ少年団ブルー | J73: =L73+L74 -> 1 | K73: （ | L73: 0 | M73: － | N73: 0 | O73: ） | P73: =N73+N74 -> 0 | Q73: =Q60 -> 大谷北ＦＣフォルテ | V73: a６ a５ a８ a７
L74: 1 | M74: － | N74: 0
A76: A | B76: ⑦ | C76: 0.5625 | E76: =E63 -> Ｊ－ＳＰＯＲＴＳＦＯＯＴＢＡＬＬＣＬＵＢ | J76: =L76+L77 -> 4 | K76: （ | L76: 2 | M76: － | N76: 0 | O76: ） | P76: =N76+N77 -> 0 | Q76: =Q66 -> おおぞらＳＣ | V76: A⑤負・A⑥負・A⑥負・A⑤負
L77: 2 | M77: － | N77: 0
A79: B | B79: ⑦ | C79: 0.5625 | E79: =Q69 -> 上松山クラブ | J79: =L79+L80 -> 0 | K79: （ | L79: 0 | M79: － | N79: 1 | O79: ） | P79: =N79+N80 -> 1 | Q79: =E73 -> 富士見サッカースポーツ少年団ブルー | V79: B⑤負・B⑥負・B⑥負・B⑤負
L80: 0 | M80: － | N80: 0

Sheet ２日目cd
A1: ='U11組合せ (抽選結果)'!J4 -> ■第2日 1月14日 | M1: 第2会場 | R1: ='U11組合せ (抽選結果)'!Z61 -> 大桶運動公園
D2: ='U11組合せ (抽選結果)'!S4 -> 決勝トーナメント１・２回戦・準々決勝
M4: A⑦
F5: A⑤ | K5: cブロック | T5: B⑤
C7: A① | I7: B① | Q7: A② | W7: B②
A9: c1 | D9: c2 | G9: c3 | J9: c4 | O9: c5 | R9: c6 | U9: c7 | X9: c8
A10: =IJ!K7 -> 緑が丘ＹＦＣサッカー教室 | D10: =IJ!R7 -> ＪＦＣアミスタ市貝 | G10: =IJ!K58 -> ＣＡ．アトレチコ 佐野 | J10: =IJ!Z58 -> ＦＣＲｉｓｏ | O10: =KL!N7 -> 大谷東フットボールクラブ | R10: =KL!AA7 -> 茂木ＦＣ | U10: =KL!J50 -> ＫＯＨＡＲＵ ＰＲＯＵＤ栃木フットボールクラブ | X10: =KL!AA50 -> ＦＣみらい
M21: B⑦
F22: A⑥ | K22: dブロック | T22: B⑥
C24: A③ | I24: B③ | Q24: A④ | W24: B④
A26: d1 | D26: d２ | G26: d３ | J26: d４ | O26: d５ | R26: d６ | U26: d７ | X26: d８
A27: =MN!K7 -> ＪＦＣアミスタ市貝Ｂ | D27: =MN!R7 -> さくらボン・ディ・ボーラ | G27: =MN!F58 -> 宇都宮フットボールクラブジュニア | J27: =MN!W58 -> 久下田ＦＣ | O27: =OP!F7 -> Ｆ．Ｃ．栃木ジュニア | R27: =OP!AA7 -> 合戦場フットボールクラブ | U27: =OP!N50 -> 石井フットボールクラブ | X27: =OP!S50 -> ＦＣプリメーロ
A37: ＜ピッチ＞ | V37: (主 副 副 4th)
A38: A | B38: ① | C38: 0.375 | E38: =A10 -> 緑が丘ＹＦＣサッカー教室 | J38: =L38+L39 -> 0 | K38: （ | L38: 0 | M38: － | N38: 0 | O38: ） | P38: =N38+N39 -> 1 | Q38: =D10 -> ＪＦＣアミスタ市貝 | V38: d1 d２ d３ d４
L39: 0 | M39: － | N39: 1
A41: B | B41: ① | C41: 0.375 | E41: =G10 -> ＣＡ．アトレチコ 佐野 | J41: =L41+L42 -> 4 | K41: （ | L41: 2 | M41: － | N41: 0 | O41: ） | P41: =N41+N42 -> 0 | Q41: =J10 -> ＦＣＲｉｓｏ | V41: d４ d３ d２ d1
L42: 2 | M42: － | N42: 0
A44: A | B44: ② | C44: 0.40277778 | E44: =O10 -> 大谷東フットボールクラブ | J44: =L44+L45 -> 3 | K44: （ | L44: 1 | M44: － | N44: 0 | O44: ） | P44: =N44+N45 -> 0 | Q44: =R10 -> 茂木ＦＣ | V44: d５ d６ d７ d８
L45: 2 | M45: － | N45: 0
A47: B | B47: ② | C47: 0.40277778 | E47: =U10 -> ＫＯＨＡＲＵ ＰＲＯＵＤ栃木フットボールクラブ | J47: =L47+L48 -> 6 | K47: （ | L47: 2 | M47: － | N47: 0 | O47: ） | P47: =N47+N48 -> 0 | Q47: =X10 -> ＦＣみらい | V47: d８ d７ d６ d５
L48: 4 | M48: － | N48: 0
A50: A | B50: ③ | C50: 0.43055556 | E50: =A27 -> ＪＦＣアミスタ市貝Ｂ | J50: =L50+L51 -> 0 | K50: （ | L50: 0 | M50: － | N50: 0 | O50: ） | P50: =N50+N51 -> 2 | Q50: =D27 -> さくらボン・ディ・ボーラ | V50: c1 c２ c３ c４
L51: 0 | M51: － | N51: 2
A53: B | B53: ③ | C53: 0.43055556 | E53: =G27 -> 宇都宮フットボールクラブジュニア | J53: =L53+L54 -> 0 | K53: （ | L53: 0 | M53: － | N53: 0 | O53: ） | P53: =N53+N54 -> 1 | Q53: =J27 -> 久下田ＦＣ | V53: c４ c３ c２ c1
L54: 0 | M54: － | N54: 1
A56: A | B56: ④ | C56: 0.45833333 | E56: =O27 -> Ｆ．Ｃ．栃木ジュニア | J56: =L56+L57 -> 1 | K56: （ | L56: 0 | M56: － | N56: 0 | O56: ） | P56: =N56+N57 -> 2 | Q56: =R27 -> 合戦場フットボールクラブ | V56: c５ c６ c７ c８
L57: 1 | M57: － | N57: 2
A59: B | B59: ④ | C59: 0.45833333 | E59: =U27 -> 石井フットボールクラブ | J59: =L59+L60 -> 0 | K59: （ | L59: 0 | M59: － | N59: 3 | O59: ） | P59: =N59+N60 -> 3 | Q59: =X27 -> ＦＣプリメーロ | V59: c８ c７ c６ c５
L60: 0 | M60: － | N60: 0
A62: A | B62: ⑤ | C62: 0.48611111 | E62: =Q38 -> ＪＦＣアミスタ市貝 | J62: =L62+L63 -> 1 | K62: （ | L62: 0 | M62: － | N62: 1 | O62: ） | P62: =N62+N63 -> 1 | Q62: =E41 -> ＣＡ．アトレチコ 佐野 | V62: d２ d１ d４ d３
L63: 1 | M63: － | N63: 0
K64: PK | L64: 5 | M64: － | N64: 6
A66: B | B66: ⑤ | C66: 0.48611111 | E66: =E44 -> 大谷東フットボールクラブ | J66: =L66+L67 -> 0 | K66: （ | L66: 0 | M66: － | N66: 4 | O66: ） | P66: =N66+N67 -> 7 | Q66: =E47 -> ＫＯＨＡＲＵ ＰＲＯＵＤ栃木フットボールクラブ | V66: d６ d５ d８ d７
L67: 0 | M67: － | N67: 3
A69: A | B69: ⑥ | C69: 0.51388889 | E69: =Q50 -> さくらボン・ディ・ボーラ | J69: =L69+L70 -> 1 | K69: （ | L69: 1 | M69: － | N69: 0 | O69: ） | P69: =N69+N70 -> 0 | Q69: =Q53 -> 久下田ＦＣ | V69: c２ c１ c４ c３
L70: 0 | M70: － | N70: 0
A72: B | B72: ⑥ | C72: 0.51388889 | E72: =Q56 -> 合戦場フットボールクラブ | J72: =L72+L73 -> 2 | K72: （ | L72: 2 | M72: － | N72: 1 | O72: ） | P72: =N72+N73 -> 2 | Q72: =Q59 -> ＦＣプリメーロ | V72: c６ c５ c８ c７
L73: 0 | M73: － | N73: 1
K74: PK | L74: 2 | M74: － | N74: 1
A76: A | B76: ⑦ | C76: 0.5625 | E76: =Q62 -> ＣＡ．アトレチコ 佐野 | J76: =L76+L77 -> 1 | K76: （ | L76: 0 | M76: － | N76: 0 | O76: ） | P76: =N76+N77 -> 0 | Q76: =Q66 -> ＫＯＨＡＲＵ ＰＲＯＵＤ栃木フットボールクラブ | V76: A⑤負・A⑥負・A⑥負・A⑤負
L77: 1 | M77: － | N77: 0
A79: B | B79: ⑦ | C79: 0.5625 | E79: =E69 -> さくらボン・ディ・ボーラ | J79: =L79+L80 -> 0 | K79: （ | L79: 0 | M79: － | N79: 0 | O79: ） | P79: =N79+N80 -> 0 | Q79: =E72 -> 合戦場フットボールクラブ | V79: B⑤負・B⑥負・B⑥負・B⑤負
L80: 0 | M80: － | N80: 0
K81: PK | L81: 3 | M81: － | N81: 2

Sheet 3日目（準決勝・決勝） 
A1: ='U11組合せ (抽選結果)'!J5 -> ■第3日 1月20日 | G1: ='U11組合せ (抽選結果)'!S5 -> 準決勝・決勝 | M1: 会場 | Q1: ='U11組合せ (抽選結果)'!S78 -> ハートフル保険フィールド（佐野市運動公園第２多目的球技場）
K4: B②
F7: A① | P7: B①
D10: 1 | H10: 2 | N10: 3 | R10: 4
D11: =AB!K7 -> Ｊ－ＳＰＯＲＴＳＦＯＯＴＢＡＬＬＣＬＵＢ | H11: =GH!F7 -> 富士見サッカースポーツ少年団ブルー | N11: =IJ!K58 -> ＣＡ．アトレチコ 佐野 | R11: =MN!R7 -> さくらボン・ディ・ボーラ
B22: 準決勝
A23: ピッチ | T23: (主 副 副 4th)
A24: A | B24: ① | C24: 0.375 | E24: =D11 -> Ｊ－ＳＰＯＲＴＳＦＯＯＴＢＡＬＬＣＬＵＢ | I24: =K24+K25 -> 2 | J24: （ | K24: 1 | L24: － | M24: 0 | N24: ） | O24: =M24+M25 -> 0 | P24: =H11 -> 富士見サッカースポーツ少年団ブルー | T24: 審判委員会
K25: 1 | L25: － | M25: 0
A28: B | B28: ① | C28: 0.375 | E28: =N11 -> ＣＡ．アトレチコ 佐野 | I28: =K28+K29 -> 4 | J28: （ | K28: 1 | L28: － | M28: 0 | N28: ） | O28: =M28+M29 -> 0 | P28: =R11 -> さくらボン・ディ・ボーラ | T28: 審判委員会
K29: 3 | L29: － | M29: 0
B32: 決 勝
A34: A | B34: ② | C34: 0.45138889 | E34: =E24 -> Ｊ－ＳＰＯＲＴＳＦＯＯＴＢＡＬＬＣＬＵＢ | I34: =K34+K35 -> 2 | J34: （ | K34: 1 | L34: － | M34: 2 | N34: ） | O34: =M34+M35 -> 2 | P34: =E28 -> ＣＡ．アトレチコ 佐野 | T34: 審判委員会
K35: 1 | L35: － | M35: 0
J36: 延長 | K36: 0 | L36: － | M36: 0
J37: ＰＫ | K37: 3 | L37: － | M37: 2
A39: ■成 績
B41: 優 勝 | E41: =E34 -> Ｊ－ＳＰＯＲＴＳＦＯＯＴＢＡＬＬＣＬＵＢ
B45: 準優勝 | E45: =P34 -> ＣＡ．アトレチコ 佐野
B49: ３位 | E49: =P24 -> 富士見サッカースポーツ少年団ブルー
B53: ３位 | E53: =P28 -> さくらボン・ディ・ボーラ
