Workbook

Sheet 抽選結果
C1: 第41回栃木県U-11サッカ－選手権大会 U-11大会の部 抽選順
C2: 【会場担当チーム】
A3: =COUNTIF(B:B,B3) -> 1 | B3: M5 | C3: 1 | D3: さくらボン・ディ・ボーラ | F3: SAKURAグリーンフィールドAB
A4: =COUNTIF(B:B,B4) -> 1 | B4: B5 | C4: 2 | D4: ＫＳＣ鹿沼 | F4: サンエコ自然の森サッカー場ＡＢ
A5: =COUNTIF(B:B,B5) -> 1 | B5: I5 | C5: 3 | D5: ＪＦＣアミスタ市貝 | F5: 市貝町城見ヶ丘運動公園ＡＢ
A6: =COUNTIF(B:B,B6) -> 1 | B6: A5 | C6: 4 | D6: 南河内サッカースポーツ少年団 | F6: 別処山公園サッカー場ＡＢ
A7: =COUNTIF(B:B,B7) -> 1 | B7: J5 | C7: 5 | D7: 石橋ＦＣ | F7: 大松山運動公園多目的グランドＡＢ
A8: =COUNTIF(B:B,B8) -> 1 | B8: E5 | C8: 6 | D8: ＦＣ ＳＨＵＪＡＫＵ | F8: ハートフル保険フィールド（佐野市運動公園第２多目的球技場）ＡＢ
A9: =COUNTIF(B:B,B9) -> 1 | B9: D5 | C9: 7 | D9: ＦＣバジェルボ那須烏山 | F9: 大桶運動公園A
A10: =COUNTIF(B:B,B10) -> 1 | B10: K5 | C10: 8 | D10: ＢＬＵＥ ＴＨＵＮＤＥＲ | F10: 大桶運動公園B
A11: =COUNTIF(B:B,B11) -> 1 | B11: H5 | C11: 9 | D11: 国本ジュニアサッカークラブ | F11: 鬼怒グリーンパーク白沢Ａ
A12: =COUNTIF(B:B,B12) -> 1 | B12: F5 | C12: 10 | D12: 岡西ＦＣ | F12: 鬼怒グリーンパーク白沢Ｂ
A13: =COUNTIF(B:B,B13) -> 1 | B13: O5 | C13: 11 | D13: 真岡西サッカークラブブリッツ | F13: 真岡鬼怒自然公園サッカー場（クレー）ＡＡ
A14: =COUNTIF(B:B,B14) -> 1 | B14: N5 | C14: 12 | D14: 久下田ＦＣ | F14: 真岡鬼怒自然公園サッカー場（クレー）ＡＢ
... A18: =COUNTIF(B:B,B18) -> 1 | B18: L5 | C18: 16 | D18: 御厨フットボールクラブ | F18: 足利本町緑地サッカー場Ｂ
C20: 【塩谷・南那須地区】
A21: =COUNTIF(B:B,B21) -> 1 | B21: E1 | C21: 1 | D21: フットボールクラブ氏家
A22: =COUNTIF(B:B,B22) -> 1 | B22: F2 | C22: 2 | D22: 上松山クラブ
A23: =COUNTIF(B:B,B23) -> 1 | B23: G6 | C23: 3 | D23: 阿久津サッカークラブ
A24: =COUNTIF(B:B,B24) -> 1 | B24: P2 | C24: 4 | D24: 高根沢西フットボールクラブ
A25: =COUNTIF(B:B,B25) -> 1 | B25: N2 | C25: 5 | D25: 喜連川ＦＣＪｒ
A26: =COUNTIF(B:B,B26) -> 1 | B26: H2 | C26: 6 | D26: ＦＣ ＳＦｉＤＡ
A27: =COUNTIF(B:B,B27) -> 1 | B27: I2 | C27: 7 | D27: ＡＣ ＥＳＰＡＣＩＯ
A28: =COUNTIF(B:B,B28) -> 1 | B28: A6 | C28: 8 | D28: ヴェルフェ矢板Ｕ－１２
A29: =COUNTIF(B:B,B29) -> 1 | B29: B1 | C29: 9 | D29: ＹＵＺＵＨＡ ＦＣ ジュニア
C31: 【上都賀地区】
A32: =COUNTIF(B:B,B32) -> 1 | B32: L1 | C32: 1 | D32: 鹿沼東光ＦＣ
A33: =COUNTIF(B:B,B33) -> 1 | B33: J1 | C33: 2 | D33: 鹿沼西ＦＣ
A34: =COUNTIF(B:B,B34) -> 1 | B34: N4 | C34: 3 | D34: さつきが丘スポーツ少年団サッカー部
A35: =COUNTIF(B:B,B35) -> 1 | B35: E6 | C35: 4 | D35: 北押原ＦＣ
A36: =COUNTIF(B:B,B36) -> 1 | B36: G4 | C36: 5 | D36: ＦＣあわのレジェンド
A37: =COUNTIF(B:B,B37) -> 1 | B37: H1 | C37: 6 | D37: ＮＩＫＫＯ ＳＰＯＲＴＳ ＣＬＵＢ
A38: =COUNTIF(B:B,B38) -> 1 | B38: A4 | C38: 7 | D38: 今市ジュニオール
A39: =COUNTIF(B:B,B39) -> 1 | B39: K1 | C39: 8 | D39: 今市ＦＣプログレス
A40: =COUNTIF(B:B,B40) -> 1 | B40: D2 | C40: 9 | D40: 今市ＦＣプログレスセカンド
A41: =COUNTIF(B:B,B41) -> 1 | B41: I1 | C41: 10 | D41: Ｎ Ｆ Ｃ
A42: =COUNTIF(B:B,B42) -> 1 | B42: O3 | C42: 11 | D42: ＣＦＡ日光
A43: =COUNTIF(B:B,B43) -> 1 | B43: M2 | C43: 12 | D43: 藤原ＦＣ
C45: 【宇河地区】
A46: =COUNTIF(B:B,B46) -> 1 | B46: E7 | C46: 1 | D46: 宝木キッカーズ
...

Sheet U11組合せ (抽選結果)
A1: 第41回栃木県U-11サッカー選手権大会 U-11大会の部 組み合わせ表
J3: ■第1日 1月13日 | S3: 予選リーグ
J4: ■第2日 1月14日 | S4: 決勝トーナメント１・２回戦・準々決勝
J5: ■第3日 1月20日 | S5: 準決勝・決勝
A8: 44939 | G8: 44575 | O8: 44946 | Y8: =G8 -> 44575 | AG8: =A8 -> 44939
A9: =IFERROR(VLOOKUP("A5",抽選結果!$B:$F,5,FALSE),"") -> 別処山公園サッカー場ＡＢ | C9: =IFERROR(VLOOKUP($E$9&D9,抽選結果!$B:$D,3,FALSE),"") -> ＦＣスポルト宇都宮クラウド | D9: 1 | E9: A | AL9: =IFERROR(VLOOKUP("P5",抽選結果!$B:$F,5,FALSE),"") -> 足利本町緑地サッカー場Ａ
AH10: PP | AI10: 6 | AJ10: =IFERROR(VLOOKUP($AH$18&AI10,抽選結果!$B:$D,3,FALSE),"") -> 富士見サッカースポーツ少年団レッド
C11: =IFERROR(VLOOKUP($E$9&D11,抽選結果!$B:$D,3,FALSE),"") -> ＦＣ西那須２１アストロ | D11: 2
AI12: 5 | AJ12: =IFERROR(VLOOKUP($AH$18&AI12,抽選結果!$B:$D,3,FALSE),"") -> Ｋ－ＷＥＳＴ．ＦＣ２００１
C13: =IFERROR(VLOOKUP($E$9&D13,抽選結果!$B:$D,3,FALSE),"") -> Ｊ－ＳＰＯＲＴＳＦＯＯＴＢＡＬＬＣＬＵＢ | D13: 3
AI14: 4 | AJ14: =IFERROR(VLOOKUP($AH$18&AI14,抽選結果!$B:$D,3,FALSE),"") -> ＦＣプリメーロ
C15: =IFERROR(VLOOKUP($E$9&D15,抽選結果!$B:$D,3,FALSE),"") -> 今市ジュニオール | D15: 4
C17: =IFERROR(VLOOKUP($E$9&D17,抽選結果!$B:$D,3,FALSE),"") -> 南河内サッカースポーツ少年団 | D17: 5 | E17: AA
AH18: P | AI18: 3 | AJ18: =IFERROR(VLOOKUP($AH$18&AI18,抽選結果!$B:$D,3,FALSE),"") -> 石井フットボールクラブ
C19: =IFERROR(VLOOKUP($E$9&D19,抽選結果!$B:$D,3,FALSE),"") -> ヴェルフェ矢板Ｕ－１２ | D19: 6
AI20: 2 | AJ20: =IFERROR(VLOOKUP($AH$18&AI20,抽選結果!$B:$D,3,FALSE),"") -> 高根沢西フットボールクラブ
C21: =IFERROR(VLOOKUP($E$9&D21,抽選結果!$B:$D,3,FALSE),"") -> ＴＡＣ ＫＵＺＵＵ ＦＣ | D21: 7
AI22: 1 | AJ22: =IFERROR(VLOOKUP($AH$18&AI22,抽選結果!$B:$D,3,FALSE),"") -> 西那須野西ＳＣ
C23: =IFERROR(VLOOKUP($E$9&D23,抽選結果!$B:$D,3,FALSE),"") -> カテット白沢サッカースクール | D23: 8
A26: =IFERROR(VLOOKUP("B5",抽選結果!$B:$F,5,FALSE),"") -> サンエコ自然の森サッカー場ＡＢ | C26: =IFERROR(VLOOKUP($E$26&D26,抽選結果!$B:$D,3,FALSE),"") -> ＹＵＺＵＨＡ ＦＣ ジュニア | D26: 1 | E26: B | AL26: =IFERROR(VLOOKUP("O5",抽選結果!$B:$F,5,FALSE),"") -> 真岡鬼怒自然公園サッカー場（クレー）ＡＡ
AH27: OO | AI27: 6 | AJ27: =IFERROR(VLOOKUP($AH$35&AI27,抽選結果!$B:$D,3,FALSE),"") -> 合戦場フットボールクラブ
C28: =IFERROR(VLOOKUP($E$26&D28,抽選結果!$B:$D,3,FALSE),"") -> 昭和戸祭・細谷ＳＣ | D28: 2
AI29: 5 | AJ29: =IFERROR(VLOOKUP($AH$35&AI29,抽選結果!$B:$D,3,FALSE),"") -> 真岡西サッカークラブブリッツ
C30: =IFERROR(VLOOKUP($E$26&D30,抽選結果!$B:$D,3,FALSE),"") -> ＦＣ毛野 | D30: 3
AI31: 4 | AJ31: =IFERROR(VLOOKUP($AH$35&AI31,抽選結果!$B:$D,3,FALSE),"") -> 高林・青木フットボールクラブ
C32: =IFERROR(VLOOKUP($E$26&D32,抽選結果!$B:$D,3,FALSE),"") -> ＦＣ真岡２１ファンタジー | D32: 4
C34: =IFERROR(VLOOKUP($E$26&D34,抽選結果!$B:$D,3,FALSE),"") -> ＫＳＣ鹿沼 | D34: 5 | E34: BB
AH35: O | AI35: 3 | AJ35: =IFERROR(VLOOKUP($AH$35&AI35,抽選結果!$B:$D,3,FALSE),"") -> ＣＦＡ日光
C36: =IFERROR(VLOOKUP($E$26&D36,抽選結果!$B:$D,3,FALSE),"") -> 野原グランディオスＦＣ | D36: 6
AI37: 2 | AJ37: =IFERROR(VLOOKUP($AH$35&AI37,抽選結果!$B:$D,3,FALSE),"") -> 清原陽東サッカースポーツ少年団
C38: =IFERROR(VLOOKUP($E$26&D38,抽選結果!$B:$D,3,FALSE),"") -> 栃木ウーヴァＦＣ・Ｕ－１２ | D38: 7
AI39: 1 | AJ39: =IFERROR(VLOOKUP($AH$35&AI39,抽選結果!$B:$D,3,FALSE),"") -> Ｆ．Ｃ．栃木ジュニア
C40: =IFERROR(VLOOKUP($E$26&D40,抽選結果!$B:$D,3,FALSE),"") -> みはらサッカークラブジュニア | D40: 8
J41: a | AB41: d
A43: =IFERROR(VLOOKUP("C5",抽選結果!$B:$F,5,FALSE),"") -> 真岡鬼怒自然公園サッカー場（クレー）BB | AL43: =IFERROR(VLOOKUP("N5",抽選結果!$B:$F,5,FALSE),"") -> 真岡鬼怒自然公園サッカー場（クレー）ＡＢ
C44: =IFERROR(VLOOKUP($E$44&D44,抽選結果!$B:$D,3,FALSE),"") -> クレアＦＣアルドーレ | D44: 1 | E44: C | AH44: NN | AI44: 6 | AJ44: =IFERROR(VLOOKUP($AH$52&AI44,抽選結果!$B:$D,3,FALSE),"") -> 栃木Ｃｈａｒｍｅ．Ｆ．Ｃ
C46: =IFERROR(VLOOKUP($E$44&D46,抽選結果!$B:$D,3,FALSE),"") -> 大田原城山サッカークラブ | D46: 2 | AI46: 5 | AJ46: =IFERROR(VLOOKUP($AH$52&AI46,抽選結果!$B:$D,3,FALSE),"") -> 久下田ＦＣ
C48: =IFERROR(VLOOKUP($E$44&D48,抽選結果!$B:$D,3,FALSE),"") -> ＦＣブロケード | D48: 3 | AI48: 4 | AJ48: =IFERROR(VLOOKUP($AH$52&AI48,抽選結果!$B:$D,3,FALSE),"") -> さつきが丘スポーツ少年団サッカー部
C52: =IFERROR(VLOOKUP($E$44&D52,抽選結果!$B:$D,3,FALSE),"") -> 野木ＳＳＳ | D52: 4 | E52: CC | S52: =C13 -> Ｊ－ＳＰＯＲＴＳＦＯＯＴＢＡＬＬＣＬＵＢ | AH52: N | AI52: 3 | AJ52: =IFERROR(VLOOKUP($AH$52&AI52,抽選結果!$B:$D,3,FALSE),"") -> ＦＣ黒羽
C54: =IFERROR(VLOOKUP($E$44&D54,抽選結果!$B:$D,3,FALSE),"") -> ＦＣ中村Ｕ－１１ | D54: 5 | AI54: 2 | AJ54: =IFERROR(VLOOKUP($AH$52&AI54,抽選結果!$B:$D,3,FALSE),"") -> 喜連川ＦＣＪｒ
...

Sheet U11組合せ
A1: 第41回栃木県U-11サッカー選手権大会 U-11大会の部 組み合わせ表
J3: ■第1日 1月13日 | S3: 予選リーグ
J4: ■第2日 1月14日 | S4: 決勝トーナメント１・２回戦・準々決勝
J5: ■第3日 1月20日 | S5: 準決勝・決勝
A8: 44939 | G8: 44575 | O8: 44946 | Y8: =G8 -> 44575 | AG8: =A8 -> 44939
A9: A会場 | C9: A1 | D9: 1 | E9: A | AL9: P会場
AH10: PP | AI10: 6 | AJ10: P6
C11: A2 | D11: 2
AI12: 5 | AJ12: P5
C13: A3 | D13: 3
AI14: 4 | AJ14: P4
C15: A4 | D15: 4
C17: A5 | D17: 5 | E17: AA
AH18: P | AI18: 3 | AJ18: P3
C19: A6 | D19: 6
AI20: 2 | AJ20: P2
C21: A7 | D21: 7
AI22: 1 | AJ22: P1
C23: A8 | D23: 8
A26: B会場 | C26: B1 | D26: 1 | E26: B | AL26: O会場
AH27: OO | AI27: 6 | AJ27: O6
C28: B2 | D28: 2
AI29: 5 | AJ29: O5
C30: B3 | D30: 3
AI31: 4 | AJ31: O4
C32: B4 | D32: 4
C34: B5 | D34: 5 | E34: BB
AH35: O | AI35: 3 | AJ35: O3
C36: B6 | D36: 6
AI37: 2 | AJ37: O2
C38: B7 | D38: 7
AI39: 1 | AJ39: O1
C40: B8 | D40: 8
J41: a | AB41: d
A43: C会場 | AL43: N会場
C44: C1 | D44: 1 | E44: C | AH44: NN | AI44: 6 | AJ44: N6
C46: C2 | D46: 2 | AI46: 5 | AJ46: N5
C48: C3 | D48: 3 | AI48: 4 | AJ48: N4
C52: C4 | D52: 4 | E52: CC | AH52: N | AI52: 3 | AJ52: N3
C54: C5 | D54: 5 | AI54: 2 | AJ54: N2
...

Sheet AB
A1: ='U11組合せ (抽選結果)'!J3 -> ■第1日 1月13日 | I1: ='U11組合せ (抽選結果)'!S3 -> 予選リーグ | T1: 第1会場 | X1: ='U11組合せ (抽選結果)'!A9 -> 別処山公園サッカー場ＡＢ
I3: A | X3: AA
C6: 1 | G6: 2 | K6: 3 | O6: 4 | R6: 5 | V6: 6 | Z6: 7 | AD6: 8
C7: ='U11組合せ (抽選結果)'!C9 -> ＦＣスポルト宇都宮クラウド | G7: ='U11組合せ (抽選結果)'!C11 -> ＦＣ西那須２１アストロ | K7: ='U11組合せ (抽選結果)'!C13 -> Ｊ－ＳＰＯＲＴＳＦＯＯＴＢＡＬＬＣＬＵＢ | O7: ='U11組合せ (抽選結果)'!C15 -> 今市ジュニオール | R7: ='U11組合せ (抽選結果)'!C17 -> 南河内サッカースポーツ少年団 | V7: ='U11組合せ (抽選結果)'!C19 -> ヴェルフェ矢板Ｕ－１２ | Z7: ='U11組合せ (抽選結果)'!C21 -> ＴＡＣ ＫＵＺＵＵ ＦＣ | AD7: ='U11組合せ (抽選結果)'!C23 -> カテット白沢サッカースクール
B15: ピッチ | AB15: ( | AC15: 主， | AD15: 副， | AE15: 副， | AF15: ４ｔｈ | AG15: )
B16: Ａ | C16: ① | D16: 0.375 | G16: =C7 -> ＦＣスポルト宇都宮クラウド | N16: =P16+P17 -> 0 | O16: （ | P16: 0 | Q16: － | R16: 2 | S16: ） | T16: =R16+R17 -> 5 | U16: =G7 -> ＦＣ西那須２１アストロ | AC16: 5, | AD16: 6, | AE16: 7, | AF16: 8
P17: 0 | Q17: － | R17: 3
B18: Ｂ | C18: ① | D18: 0.375 | G18: =K7 -> Ｊ－ＳＰＯＲＴＳＦＯＯＴＢＡＬＬＣＬＵＢ | N18: =P18+P19 -> 14 | O18: （ | P18: 5 | Q18: － | R18: 0 | S18: ） | T18: =R18+R19 -> 0 | U18: =O7 -> 今市ジュニオール | AC18: 8, | AD18: 7, | AE18: 6, | AF18: 5
P19: 9 | Q19: － | R19: 0
B20: Ａ | C20: ② | D20: 0.40277778 | G20: =R7 -> 南河内サッカースポーツ少年団 | N20: =P20+P21 -> 0 | O20: （ | P20: 0 | Q20: － | R20: 5 | S20: ） | T20: =R20+R21 -> 5 | U20: =V7 -> ヴェルフェ矢板Ｕ－１２ | AC20: 1, | AD20: 2, | AE20: 3, | AF20: 4
P21: 0 | Q21: － | R21: 0
B22: Ｂ | C22: ② | D22: 0.40277778 | G22: =Z7 -> ＴＡＣ ＫＵＺＵＵ ＦＣ | N22: =P22+P23 -> 2 | O22: （ | P22: 1 | Q22: － | R22: 1 | S22: ） | T22: =R22+R23 -> 2 | U22: =AD7 -> カテット白沢サッカースクール | AC22: 4, | AD22: 3, | AE22: 2, | AF22: 1
P23: 1 | Q23: － | R23: 1
B24: Ａ | C24: ③ | D24: 0.43055556 | G24: =C7 -> ＦＣスポルト宇都宮クラウド | N24: =P24+P25 -> 0 | O24: （ | P24: 0 | Q24: － | R24: 4 | S24: ） | T24: =R24+R25 -> 7 | U24: =K7 -> Ｊ－ＳＰＯＲＴＳＦＯＯＴＢＡＬＬＣＬＵＢ | AC24: 6, | AD24: 5, | AE24: 8, | AF24: 7
P25: 0 | Q25: － | R25: 3
B26: Ｂ | C26: ③ | D26: 0.43055556 | G26: =G7 -> ＦＣ西那須２１アストロ | N26: =P26+P27 -> 7 | O26: （ | P26: 6 | Q26: － | R26: 0 | S26: ） | T26: =R26+R27 -> 0 | U26: =O7 -> 今市ジュニオール | AC26: 7, | AD26: 8, | AE26: 5, | AF26: 6
P27: 1 | Q27: － | R27: 0
B28: Ａ | C28: ④ | D28: 0.45833333 | G28: =R7 -> 南河内サッカースポーツ少年団 | N28: =P28+P29 -> 1 | O28: （ | P28: 0 | Q28: － | R28: 0 | S28: ） | T28: =R28+R29 -> 0 | U28: =Z7 -> ＴＡＣ ＫＵＺＵＵ ＦＣ | AC28: 2, | AD28: 1, | AE28: 4, | AF28: 3
P29: 1 | Q29: － | R29: 0
B30: Ｂ | C30: ④ | D30: 0.45833333 | G30: =V7 -> ヴェルフェ矢板Ｕ－１２ | N30: =P30+P31 -> 0 | O30: （ | P30: 0 | Q30: － | R30: 0 | S30: ） | T30: =R30+R31 -> 0 | U30: =AD7 -> カテット白沢サッカースクール | AC30: 3, | AD30: 4, | AE30: 1, | AF30: 2
P31: 0 | Q31: － | R31: 0
B32: Ａ | C32: ⑤ | D32: 0.48611111 | G32: =C7 -> ＦＣスポルト宇都宮クラウド | N32: =P32+P33 -> 3 | O32: （ | P32: 1 | Q32: － | R32: 0 | S32: ） | T32: =R32+R33 -> 0 | U32: =O7 -> 今市ジュニオール | AC32: 5, | AD32: 6, | AE32: 7, | AF32: 8
P33: 2 | Q33: － | R33: 0
B34: Ｂ | C34: ⑤ | D34: 0.48611111 | G34: =G7 -> ＦＣ西那須２１アストロ | N34: =P34+P35 -> 0 | O34: （ | P34: 0 | Q34: － | R34: 0 | S34: ） | T34: =R34+R35 -> 0 | U34: =K7 -> Ｊ－ＳＰＯＲＴＳＦＯＯＴＢＡＬＬＣＬＵＢ | AC34: 8, | AD34: 7, | AE34: 6, | AF34: 5
P35: 0 | Q35: － | R35: 0
B36: Ａ | C36: ⑥ | D36: 0.51388889 | G36: =R7 -> 南河内サッカースポーツ少年団 | N36: =P36+P37 -> 0 | O36: （ | P36: 0 | Q36: － | R36: 1 | S36: ） | T36: =R36+R37 -> 3 | U36: =AD7 -> カテット白沢サッカースクール | AC36: 1, | AD36: 2, | AE36: 3, | AF36: 4
P37: 0 | Q37: － | R37: 2
B38: Ｂ | C38: ⑥ | D38: 0.51388889 | G38: =V7 -> ヴェルフェ矢板Ｕ－１２ | N38: =P38+P39 -> 6 | O38: （ | P38: 2 | Q38: － | R38: 0 | S38: ） | T38: =R38+R39 -> 0 | U38: =Z7 -> ＴＡＣ ＫＵＺＵＵ ＦＣ | AC38: 4, | AD38: 3, | AE38: 2, | AF38: 1
P39: 4 | Q39: － | R39: 0
B41: =I3 &"リーグ" -> Aリーグ | F41: =B43 -> ＦＣスポルト宇都宮クラウド | H41: =B45 -> ＦＣ西那須２１アストロ | J41: =B47 -> Ｊ－ＳＰＯＲＴＳＦＯＯＴＢＡＬＬＣＬＵＢ | L41: =B49 -> 今市ジュニオール | N41: 勝点 | O41: 得失点 | P41: 順位 | R41: =X3 &"リーグ" -> AAリーグ | V41: =R7 -> 南河内サッカースポーツ少年団 | X41: =V7 -> ヴェルフェ矢板Ｕ－１２ | Z41: =Z7 -> ＴＡＣ ＫＵＺＵＵ ＦＣ | AB41: =AD7 -> カテット白沢サッカースクール | AD41: 勝点 | AE41: 得失点 | AF41: 順位
B43: =C7 -> ＦＣスポルト宇都宮クラウド | H43: =N16 -> 0 | I43: =T16 -> 5 | J43: =N24 -> 0 | K43: =T24 -> 7 | L43: =N32 -> 3 | M43: =T32 -> 0 | N43: =COUNTIF(F44:M44,"○")*3+COUNTIF(F44:M44,"△") -> 3 | O43: =H43-I43+J43-K43+L43-M43 -> -9 | P43: 3 | R43: =R7 -> 南河内サッカースポーツ少年団 | X43: =N20 -> 0 | Y43: =T20 -> 5 | Z43: =N28 -> 1 | AA43: =T28 -> 0 | AB43: =N36 -> 0 | AC43: =T36 -> 3 | AD43: =COUNTIF(V44:AC44,"○")*3+COUNTIF(V44:AC44,"△") -> 3 | AE43: =X43-Y43+Z43-AA43+AB43-AC43 -> -7 | AF43: 3
H44: =IF(H43>I43,"○",IF(H43<I43,"×",IF(H43=I43,"△"))) -> × | J44: =IF(J43>K43,"○",IF(J43<K43,"×",IF(J43=K43,"△"))) -> × | L44: =IF(L43>M43,"○",IF(L43<M43,"×",IF(L43=M43,"△"))) -> ○ | X44: =IF(X43>Y43,"○",IF(X43<Y43,"×",IF(X43=Y43,"△"))) -> × | Z44: =IF(Z43>AA43,"○",IF(Z43<AA43,"×",IF(Z43=AA43,"△"))) -> ○ | AB44: =IF(AB43>AC43,"○",IF(AB43<AC43,"×",IF(AB43=AC43,"△"))) -> ×
B45: =G7 -> ＦＣ西那須２１アストロ | F45: =I43 -> 5 | G45: =H43 -> 0 | J45: =N34 -> 0 | K45: =T34 -> 0 | L45: =N26 -> 7 | M45: =T26 -> 0 | N45: =COUNTIF(F46:M46,"○")*3+COUNTIF(F46:M46,"△") -> 7 | O45: =F45-G45+J45-K45+L45-M45 -> 12 | P45: 2 | R45: =V7 -> ヴェルフェ矢板Ｕ－１２ | V45: =Y43 -> 5 | W45: =X43 -> 0 | Z45: =N38 -> 6 | AA45: =T38 -> 0 | AB45: =N30 -> 0 | AC45: =T30 -> 0 | AD45: =COUNTIF(V46:AC46,"○")*3+COUNTIF(V46:AC46,"△") -> 7 | AE45: =V45-W45+Z45-AA45+AB45-AC45 -> 11 | AF45: 1
F46: =IF(F45>G45,"○",IF(F45<G45,"×",IF(F45=G45,"△"))) -> ○ | J46: =IF(J45>K45,"○",IF(J45<K45,"×",IF(J45=K45,"△"))) -> △ | L46: =IF(L45>M45,"○",IF(L45<M45,"×",IF(L45=M45,"△"))) -> ○ | V46: =IF(V45>W45,"○",IF(V45<W45,"×",IF(V45=W45,"△"))) -> ○ | Z46: =IF(Z45>AA45,"○",IF(Z45<AA45,"×",IF(Z45=AA45,"△"))) -> ○ | AB46: =IF(AB45>AC45,"○",IF(AB45<AC45,"×",IF(AB45=AC45,"△"))) -> △
B47: =K7 -> Ｊ－ＳＰＯＲＴＳＦＯＯＴＢＡＬＬＣＬＵＢ | F47: =K43 -> 7 | G47: =J43 -> 0 | H47: =K45 -> 0 | I47: =J45 -> 0 | L47: =N18 -> 14 | M47: =T18 -> 0 | N47: =COUNTIF(F48:M48,"○")*3+COUNTIF(F48:M48,"△") -> 7 | O47: =F47-G47+H47-I47+L47-M47 -> 21 | P47: 1 | R47: =Z7 -> ＴＡＣ ＫＵＺＵＵ ＦＣ | V47: =AA43 -> 0 | W47: =Z43 -> 1 | X47: =AA45 -> 0 | Y47: =Z45 -> 6 | AB47: =N22 -> 2 | AC47: =T22 -> 2 | AD47: =COUNTIF(V48:AC48,"○")*3+COUNTIF(V48:AC48,"△") -> 1 | AE47: =V47-W47+X47-Y47+AB47-AC47 -> -7 | AF47: 4
F48: =IF(F47>G47,"○",IF(F47<G47,"×",IF(F47=G47,"△"))) -> ○ | H48: =IF(H47>I47,"○",IF(H47<I47,"×",IF(H47=I47,"△"))) -> △ | L48: =IF(L47>M47,"○",IF(L47<M47,"×",IF(L47=M47,"△"))) -> ○ | V48: =IF(V47>W47,"○",IF(V47<W47,"×",IF(V47=W47,"△"))) -> × | X48: =IF(X47>Y47,"○",IF(X47<Y47,"×",IF(X47=Y47,"△"))) -> × | AB48: =IF(AB47>AC47,"○",IF(AB47<AC47,"×",IF(AB47=AC47,"△"))) -> △
B49: =O7 -> 今市ジュニオール | F49: =M43 -> 0 | G49: =L43 -> 3 | H49: =M45 -> 0 | I49: =L45 -> 7 | J49: =M47 -> 0 | K49: =L47 -> 14 | N49: =COUNTIF(F50:M50,"○")*3+COUNTIF(F50:M50,"△") -> 0 | O49: =F49-G49+H49-I49+J49-K49 -> -24 | P49: 4 | R49: =AD7 -> カテット白沢サッカースクール | V49: =AC43 -> 3 | W49: =AB43 -> 0 | X49: =AC45 -> 0 | Y49: =AB45 -> 0 | Z49: =AC47 -> 2 | AA49: =AB47 -> 2 | AD49: =COUNTIF(V50:AC50,"○")*3+COUNTIF(V50:AC50,"△") -> 5 | AE49: =V49-W49+X49-Y49+Z49-AA49 -> 3 | AF49: 2
F50: =IF(F49>G49,"○",IF(F49<G49,"×",IF(F49=G49,"△"))) -> × | H50: =IF(H49>I49,"○",IF(H49<I49,"×",IF(H49=I49,"△"))) -> × | J50: =IF(J49>K49,"○",IF(J49<K49,"×",IF(J49=K49,"△"))) -> × | V50: =IF(V49>W49,"○",IF(V49<W49,"×",IF(V49=W49,"△"))) -> ○ | X50: =IF(X49>Y49,"○",IF(X49<Y49,"×",IF(X49=Y49,"△"))) -> △ | Z50: =IF(Z49>AA49,"○",IF(Z49<AA49,"×",IF(Z49=AA49,"△"))) -> △
A52: =A1 -> ■第1日 1月13日 | I52: =I1 -> 予選リーグ | T52: 第2会場 | X52: ='U11組合せ (抽選結果)'!A26 -> サンエコ自然の森サッカー場ＡＢ
I54: B | X54: BB
...

Sheet CD
A1: ='U11組合せ (抽選結果)'!J3 -> ■第1日 1月13日 | I1: ='U11組合せ (抽選結果)'!S3 -> 予選リーグ | T1: 第3会場 | X1: ='U11組合せ (抽選結果)'!A43 -> 真岡鬼怒自然公園サッカー場（クレー）BB
J3: C | W3: CC
F6: 1 | J6: 2 | N6: 3 | S6: 4 | W6: 5 | AA6: 6
F7: ='U11組合せ (抽選結果)'!C44 -> クレアＦＣアルドーレ | J7: ='U11組合せ (抽選結果)'!C46 -> 大田原城山サッカークラブ | N7: ='U11組合せ (抽選結果)'!C48 -> ＦＣブロケード | S7: ='U11組合せ (抽選結果)'!C52 -> 野木ＳＳＳ | W7: ='U11組合せ (抽選結果)'!C54 -> ＦＣ中村Ｕ－１１ | AA7: ='U11組合せ (抽選結果)'!C56 -> 東那須野ＦＣフェニックス
AB15: ( | AC15: 主， | AD15: 副， | AE15: 副， | AF15: ４ｔｈ | AG15: )
B16: ① | C16: 0.375 | G16: =F7 -> クレアＦＣアルドーレ | N16: =P16+P17 -> 0 | O16: （ | P16: 0 | Q16: － | R16: 0 | S16: ） | T16: =R16+R17 -> 0 | U16: =J7 -> 大田原城山サッカークラブ | AC16: 6, | AD16: 4, | AE16: 5, | AF16: 6
P17: 0 | Q17: － | R17: 0
B19: ② | C19: 0.40277778 | G19: =S7 -> 野木ＳＳＳ | N19: =P19+P20 -> 4 | O19: （ | P19: 0 | Q19: － | R19: 0 | S19: ） | T19: =R19+R20 -> 1 | U19: =W7 -> ＦＣ中村Ｕ－１１ | AC19: 3, | AD19: 1, | AE19: 2, | AF19: 3
P20: 4 | Q20: － | R20: 1
B22: ③ | C22: 0.43055556 | G22: =F7 -> クレアＦＣアルドーレ | N22: =P22+P23 -> 2 | O22: （ | P22: 1 | Q22: － | R22: 1 | S22: ） | T22: =R22+R23 -> 1 | U22: =N7 -> ＦＣブロケード | AC22: 5, | AD22: 6, | AE22: 4, | AF22: 5
P23: 1 | Q23: － | R23: 0
B25: ④ | C25: 0.45833333 | G25: =S7 -> 野木ＳＳＳ | N25: =P25+P26 -> 0 | O25: （ | P25: 0 | Q25: － | R25: 1 | S25: ） | T25: =R25+R26 -> 1 | U25: =AA7 -> 東那須野ＦＣフェニックス | AC25: 2, | AD25: 3, | AE25: 1, | AF25: 2
P26: 0 | Q26: － | R26: 0
B28: ⑤ | C28: 0.48611111 | G28: =J7 -> 大田原城山サッカークラブ | N28: =P28+P29 -> 4 | O28: （ | P28: 4 | Q28: － | R28: 0 | S28: ） | T28: =R28+R29 -> 0 | U28: =N7 -> ＦＣブロケード | AC28: 4, | AD28: 5, | AE28: 6, | AF28: 4
P29: 0 | Q29: － | R29: 0
B31: ⑥ | C31: 0.51388889 | G31: =W7 -> ＦＣ中村Ｕ－１１ | N31: =P31+P32 -> 0 | O31: （ | P31: 0 | Q31: － | R31: 2 | S31: ） | T31: =R31+R32 -> 4 | U31: =AA7 -> 東那須野ＦＣフェニックス | AC31: 1, | AD31: 2, | AE31: 3, | AF31: 1
P32: 0 | Q32: － | R32: 2
C34: =J3 &"リーグ" -> Cリーグ | G34: =C36 -> クレアＦＣアルドーレ | I34: =C38 -> 大田原城山サッカークラブ | K34: =C40 -> ＦＣブロケード | M34: 勝点 | N34: 得失点 | O34: 総得点 | P34: 順位 | R34: =W3 &"リーグ" -> CCリーグ | V34: =R36 -> 野木ＳＳＳ | X34: =R38 -> ＦＣ中村Ｕ－１１ | Z34: =R40 -> 東那須野ＦＣフェニックス | AB34: 勝点 | AC34: 得失点 | AD34: 総得点 | AE34: 順位
C36: =F7 -> クレアＦＣアルドーレ | I36: =N16 -> 0 | J36: =T16 -> 0 | K36: =N22 -> 2 | L36: =T22 -> 1 | M36: =COUNTIF(G37:L37,"○")*3+COUNTIF(G37:L37,"△") -> 4 | N36: =O36-J36-L36 -> 1 | O36: =I36+K36 -> 2 | P36: 2 | R36: =S7 -> 野木ＳＳＳ | X36: =N19 -> 4 | Y36: =T19 -> 1 | Z36: =N25 -> 0 | AA36: =T25 -> 1 | AB36: =COUNTIF(V37:AA37,"○")*3+COUNTIF(V37:AA37,"△") -> 3 | AC36: =AD36-Y36-AA36 -> 2 | AD36: =X36+Z36 -> 4 | AE36: 2
I37: =IF(I36>J36,"○",IF(I36<J36,"×",IF(I36=J36,"△"))) -> △ | K37: =IF(K36>L36,"○",IF(K36<L36,"×",IF(K36=L36,"△"))) -> ○ | X37: =IF(X36>Y36,"○",IF(X36<Y36,"×",IF(X36=Y36,"△"))) -> ○ | Z37: =IF(Z36>AA36,"○",IF(Z36<AA36,"×",IF(Z36=AA36,"△"))) -> ×
C38: =J7 -> 大田原城山サッカークラブ | G38: =J36 -> 0 | H38: =I36 -> 0 | K38: =N28 -> 4 | L38: =T28 -> 0 | M38: =COUNTIF(G39:L39,"○")*3+COUNTIF(G39:L39,"△") -> 4 | N38: =O38-H38-L38 -> 4 | O38: =G38+K38 -> 4 | P38: 1 | R38: =W7 -> ＦＣ中村Ｕ－１１ | V38: =Y36 -> 1 | W38: =X36 -> 4 | Z38: =N31 -> 0 | AA38: =T31 -> 4 | AB38: =COUNTIF(V39:AA39,"○")*3+COUNTIF(V39:AA39,"△") -> 0 | AC38: =AD38-W38-AA38 -> -7 | AD38: =V38+Z38 -> 1 | AE38: 3
G39: =IF(G38>H38,"○",IF(G38<H38,"×",IF(G38=H38,"△"))) -> △ | K39: =IF(K38>L38,"○",IF(K38<L38,"×",IF(K38=L38,"△"))) -> ○ | V39: =IF(V38>W38,"○",IF(V38<W38,"×",IF(V38=W38,"△"))) -> × | Z39: =IF(Z38>AA38,"○",IF(Z38<AA38,"×",IF(Z38=AA38,"△"))) -> ×
C40: =N7 -> ＦＣブロケード | G40: =L36 -> 1 | H40: =K36 -> 2 | I40: =L38 -> 0 | J40: =K38 -> 4 | M40: =COUNTIF(G41:L41,"○")*3+COUNTIF(G41:L41,"△") -> 0 | N40: =O40-H40-J40 -> -5 | O40: =G40+I40 -> 1 | P40: 3 | R40: =AA7 -> 東那須野ＦＣフェニックス | V40: =AA36 -> 1 | W40: =Z36 -> 0 | X40: =AA38 -> 4 | Y40: =Z38 -> 0 | AB40: =COUNTIF(V41:AA41,"○")*3+COUNTIF(V41:AA41,"△") -> 6 | AC40: =AD40-W40-Y40 -> 5 | AD40: =V40+X40 -> 5 | AE40: 1
G41: =IF(G40>H40,"○",IF(G40<H40,"×",IF(G40=H40,"△"))) -> × | I41: =IF(I40>J40,"○",IF(I40<J40,"×",IF(I40=J40,"△"))) -> × | V41: =IF(V40>W40,"○",IF(V40<W40,"×",IF(V40=W40,"△"))) -> ○ | X41: =IF(X40>Y40,"○",IF(X40<Y40,"×",IF(X40=Y40,"△"))) -> ○
A44: =A1 -> ■第1日 1月13日 | I44: =I1 -> 予選リーグ | T44: 第4会場 | X44: ='U11組合せ (抽選結果)'!A60 -> 大桶運動公園A
J46: D | W46: DD
F49: 1 | J49: 2 | N49: 3 | S49: 4 | W49: 5 | AA49: 6
F50: ='U11組合せ (抽選結果)'!C61 -> おおぞらＳＣ | J50: ='U11組合せ (抽選結果)'!C63 -> 今市ＦＣプログレスセカンド | N50: ='U11組合せ (抽選結果)'!C65 -> 西原ＦＣ | S50: ='U11組合せ (抽選結果)'!C69 -> ＦＣスポルト宇都宮 | W50: ='U11組合せ (抽選結果)'!C71 -> ＦＣバジェルボ那須烏山 | AA50: ='U11組合せ (抽選結果)'!C73 -> 栃木ジュニオール
AB58: ( | AC58: 主， | AD58: 副， | AE58: 副， | AF58: ４ｔｈ | AG58: )
B59: ① | C59: 0.375 | G59: =F50 -> おおぞらＳＣ | N59: =P59+P60 -> 6 | O59: （ | P59: 5 | Q59: － | R59: 0 | S59: ） | T59: =R59+R60 -> 0 | U59: =J50 -> 今市ＦＣプログレスセカンド | AC59: 6, | AD59: 4, | AE59: 5, | AF59: 6
P60: 1 | Q60: － | R60: 0
B62: ② | C62: 0.40277778 | G62: =S50 -> ＦＣスポルト宇都宮 | N62: =P62+P63 -> 3 | O62: （ | P62: 1 | Q62: － | R62: 0 | S62: ） | T62: =R62+R63 -> 0 | U62: =W50 -> ＦＣバジェルボ那須烏山 | AC62: 3, | AD62: 1, | AE62: 2, | AF62: 3
P63: 2 | Q63: － | R63: 0
B65: ③ | C65: 0.43055556 | G65: =F50 -> おおぞらＳＣ | N65: =P65+P66 -> 8 | O65: （ | P65: 4 | Q65: － | R65: 0 | S65: ） | T65: =R65+R66 -> 0 | U65: =N50 -> 西原ＦＣ | AC65: 5, | AD65: 6, | AE65: 4, | AF65: 5
P66: 4 | Q66: － | R66: 0
B68: ④ | C68: 0.45833333 | G68: =S50 -> ＦＣスポルト宇都宮 | N68: =P68+P69 -> 2 | O68: （ | P68: 1 | Q68: － | R68: 0 | S68: ） | T68: =R68+R69 -> 0 | U68: =AA50 -> 栃木ジュニオール | AC68: 2, | AD68: 3, | AE68: 1, | AF68: 2
P69: 1 | Q69: － | R69: 0
B71: ⑤ | C71: 0.48611111 | G71: =J50 -> 今市ＦＣプログレスセカンド | N71: =P71+P72 -> 0 | O71: （ | P71: 0 | Q71: － | R71: 0 | S71: ） | T71: =R71+R72 -> 1 | U71: =N50 -> 西原ＦＣ | AC71: 4, | AD71: 5, | AE71: 6, | AF71: 4
P72: 0 | Q72: － | R72: 1
B74: ⑥ | C74: 0.51388889 | G74: =W50 -> ＦＣバジェルボ那須烏山 | N74: =P74+P75 -> 1 | O74: （ | P74: 0 | Q74: － | R74: 0 | S74: ） | T74: =R74+R75 -> 0 | U74: =AA50 -> 栃木ジュニオール | AC74: 1, | AD74: 2, | AE74: 3, | AF74: 1
...

Sheet EF
A1: ='U11組合せ (抽選結果)'!J3 -> ■第1日 1月13日 | I1: ='U11組合せ (抽選結果)'!S3 -> 予選リーグ | T1: 第5会場 | X1: ='U11組合せ (抽選結果)'!A77 -> ハートフル保険フィールド（佐野市運動公園第２多目的球技場）ＡＢ
I3: E | X3: EE
C6: 1 | G6: 2 | K6: 3 | O6: 4 | R6: 5 | V6: 6 | Z6: 7 | AD6: 8
C7: ='U11組合せ (抽選結果)'!C77 -> フットボールクラブ氏家 | G7: ='U11組合せ (抽選結果)'!C79 -> 上三川サッカークラブ | K7: ='U11組合せ (抽選結果)'!C81 -> ＦＣ Ａｖａｎｃｅ | O7: ='U11組合せ (抽選結果)'!C83 -> ＪＦＣファイターズ | R7: ='U11組合せ (抽選結果)'!C85 -> ＦＣ ＳＨＵＪＡＫＵ | V7: ='U11組合せ (抽選結果)'!C87 -> 北押原ＦＣ | Z7: ='U11組合せ (抽選結果)'!C89 -> 宝木キッカーズ | AD7: ='U11組合せ (抽選結果)'!C91 -> 間東ＦＣミラクルズ
B15: ピッチ | AB15: ( | AC15: 主， | AD15: 副， | AE15: 副， | AF15: ４ｔｈ | AG15: )
B16: Ａ | C16: ① | D16: 0.375 | G16: =C7 -> フットボールクラブ氏家 | N16: =P16+P17 -> 2 | O16: （ | P16: 1 | Q16: － | R16: 0 | S16: ） | T16: =R16+R17 -> 0 | U16: =G7 -> 上三川サッカークラブ | AC16: 5, | AD16: 6, | AE16: 7, | AF16: 8
P17: 1 | Q17: － | R17: 0
B18: Ｂ | C18: ① | D18: 0.375 | G18: =K7 -> ＦＣ Ａｖａｎｃｅ | N18: =P18+P19 -> 1 | O18: （ | P18: 0 | Q18: － | R18: 1 | S18: ） | T18: =R18+R19 -> 1 | U18: =O7 -> ＪＦＣファイターズ | AC18: 8, | AD18: 7, | AE18: 6, | AF18: 5
P19: 1 | Q19: － | R19: 0
B20: Ａ | C20: ② | D20: 0.40277778 | G20: =R7 -> ＦＣ ＳＨＵＪＡＫＵ | N20: =P20+P21 -> 1 | O20: （ | P20: 1 | Q20: － | R20: 1 | S20: ） | T20: =R20+R21 -> 1 | U20: =V7 -> 北押原ＦＣ | AC20: 1, | AD20: 2, | AE20: 3, | AF20: 4
P21: 0 | Q21: － | R21: 0
B22: Ｂ | C22: ② | D22: 0.40277778 | G22: =Z7 -> 宝木キッカーズ | N22: =P22+P23 -> 0 | O22: （ | P22: 0 | Q22: － | R22: 2 | S22: ） | T22: =R22+R23 -> 4 | U22: =AD7 -> 間東ＦＣミラクルズ | AC22: 4, | AD22: 3, | AE22: 2, | AF22: 1
P23: 0 | Q23: － | R23: 2
B24: Ａ | C24: ③ | D24: 0.43055556 | G24: =C7 -> フットボールクラブ氏家 | N24: =P24+P25 -> 0 | O24: （ | P24: 0 | Q24: － | R24: 1 | S24: ） | T24: =R24+R25 -> 3 | U24: =K7 -> ＦＣ Ａｖａｎｃｅ | AC24: 6, | AD24: 5, | AE24: 8, | AF24: 7
P25: 0 | Q25: － | R25: 2
B26: Ｂ | C26: ③ | D26: 0.43055556 | G26: =G7 -> 上三川サッカークラブ | N26: =P26+P27 -> 0 | O26: （ | P26: 0 | Q26: － | R26: 5 | S26: ） | T26: =R26+R27 -> 8 | U26: =O7 -> ＪＦＣファイターズ | AC26: 7, | AD26: 8, | AE26: 5, | AF26: 6
P27: 0 | Q27: － | R27: 3
B28: Ａ | C28: ④ | D28: 0.45833333 | G28: =R7 -> ＦＣ ＳＨＵＪＡＫＵ | N28: =P28+P29 -> 4 | O28: （ | P28: 2 | Q28: － | R28: 0 | S28: ） | T28: =R28+R29 -> 0 | U28: =Z7 -> 宝木キッカーズ | AC28: 2, | AD28: 1, | AE28: 4, | AF28: 3
P29: 2 | Q29: － | R29: 0
B30: Ｂ | C30: ④ | D30: 0.45833333 | G30: =V7 -> 北押原ＦＣ | N30: =P30+P31 -> 0 | O30: （ | P30: 0 | Q30: － | R30: 4 | S30: ） | T30: =R30+R31 -> 5 | U30: =AD7 -> 間東ＦＣミラクルズ | AC30: 3, | AD30: 4, | AE30: 1, | AF30: 2
P31: 0 | Q31: － | R31: 1
B32: Ａ | C32: ⑤ | D32: 0.48611111 | G32: =C7 -> フットボールクラブ氏家 | N32: =P32+P33 -> 0 | O32: （ | P32: 0 | Q32: － | R32: 1 | S32: ） | T32: =R32+R33 -> 4 | U32: =O7 -> ＪＦＣファイターズ | AC32: 5, | AD32: 6, | AE32: 7, | AF32: 8
P33: 0 | Q33: － | R33: 3
B34: Ｂ | C34: ⑤ | D34: 0.48611111 | G34: =G7 -> 上三川サッカークラブ | N34: =P34+P35 -> 0 | O34: （ | P34: 0 | Q34: － | R34: 5 | S34: ） | T34: =R34+R35 -> 8 | U34: =K7 -> ＦＣ Ａｖａｎｃｅ | AC34: 8, | AD34: 7, | AE34: 6, | AF34: 5
P35: 0 | Q35: － | R35: 3
B36: Ａ | C36: ⑥ | D36: 0.51388889 | G36: =R7 -> ＦＣ ＳＨＵＪＡＫＵ | N36: =P36+P37 -> 0 | O36: （ | P36: 0 | Q36: － | R36: 2 | S36: ） | T36: =R36+R37 -> 2 | U36: =AD7 -> 間東ＦＣミラクルズ | AC36: 1, | AD36: 2, | AE36: 3, | AF36: 4
P37: 0 | Q37: － | R37: 0
B38: Ｂ | C38: ⑥ | D38: 0.51388889 | G38: =V7 -> 北押原ＦＣ | N38: =P38+P39 -> 4 | O38: （ | P38: 3 | Q38: － | R38: 1 | S38: ） | T38: =R38+R39 -> 1 | U38: =Z7 -> 宝木キッカーズ | AC38: 4, | AD38: 3, | AE38: 2, | AF38: 1
P39: 1 | Q39: － | R39: 0
B41: =I3 &"リーグ" -> Eリーグ | F41: =B43 -> フットボールクラブ氏家 | H41: =B45 -> 上三川サッカークラブ | J41: =B47 -> ＦＣ Ａｖａｎｃｅ | L41: =B49 -> ＪＦＣファイターズ | N41: 勝点 | O41: 得失点 | P41: 順位 | R41: =X3 &"リーグ" -> EEリーグ | V41: =R7 -> ＦＣ ＳＨＵＪＡＫＵ | X41: =V7 -> 北押原ＦＣ | Z41: =Z7 -> 宝木キッカーズ | AB41: =AD7 -> 間東ＦＣミラクルズ | AD41: 勝点 | AE41: 得失点 | AF41: 順位
B43: =C7 -> フットボールクラブ氏家 | H43: =N16 -> 2 | I43: =T16 -> 0 | J43: =N24 -> 0 | K43: =T24 -> 3 | L43: =N32 -> 0 | M43: =T32 -> 4 | N43: =COUNTIF(F44:M44,"○")*3+COUNTIF(F44:M44,"△") -> 3 | O43: =H43-I43+J43-K43+L43-M43 -> -5 | P43: 3 | R43: =R7 -> ＦＣ ＳＨＵＪＡＫＵ | X43: =N20 -> 1 | Y43: =T20 -> 1 | Z43: =N28 -> 4 | AA43: =T28 -> 0 | AB43: =N36 -> 0 | AC43: =T36 -> 2 | AD43: =COUNTIF(V44:AC44,"○")*3+COUNTIF(V44:AC44,"△") -> 4 | AE43: =X43-Y43+Z43-AA43+AB43-AC43 -> 2 | AF43: 3
H44: =IF(H43>I43,"○",IF(H43<I43,"×",IF(H43=I43,"△"))) -> ○ | J44: =IF(J43>K43,"○",IF(J43<K43,"×",IF(J43=K43,"△"))) -> × | L44: =IF(L43>M43,"○",IF(L43<M43,"×",IF(L43=M43,"△"))) -> × | X44: =IF(X43>Y43,"○",IF(X43<Y43,"×",IF(X43=Y43,"△"))) -> △ | Z44: =IF(Z43>AA43,"○",IF(Z43<AA43,"×",IF(Z43=AA43,"△"))) -> ○ | AB44: =IF(AB43>AC43,"○",IF(AB43<AC43,"×",IF(AB43=AC43,"△"))) -> ×
B45: =G7 -> 上三川サッカークラブ | F45: =I43 -> 0 | G45: =H43 -> 2 | J45: =N34 -> 0 | K45: =T34 -> 8 | L45: =N26 -> 0 | M45: =T26 -> 8 | N45: =COUNTIF(F46:M46,"○")*3+COUNTIF(F46:M46,"△") -> 0 | O45: =F45-G45+J45-K45+L45-M45 -> -18 | P45: 4 | R45: =V7 -> 北押原ＦＣ | V45: =Y43 -> 1 | W45: =X43 -> 1 | Z45: =N38 -> 4 | AA45: =T38 -> 1 | AB45: =N30 -> 0 | AC45: =T30 -> 5 | AD45: =COUNTIF(V46:AC46,"○")*3+COUNTIF(V46:AC46,"△") -> 4 | AE45: =V45-W45+Z45-AA45+AB45-AC45 -> -2 | AF45: 4
F46: =IF(F45>G45,"○",IF(F45<G45,"×",IF(F45=G45,"△"))) -> × | J46: =IF(J45>K45,"○",IF(J45<K45,"×",IF(J45=K45,"△"))) -> × | L46: =IF(L45>M45,"○",IF(L45<M45,"×",IF(L45=M45,"△"))) -> × | V46: =IF(V45>W45,"○",IF(V45<W45,"×",IF(V45=W45,"△"))) -> △ | Z46: =IF(Z45>AA45,"○",IF(Z45<AA45,"×",IF(Z45=AA45,"△"))) -> ○ | AB46: =IF(AB45>AC45,"○",IF(AB45<AC45,"×",IF(AB45=AC45,"△"))) -> ×
B47: =K7 -> ＦＣ Ａｖａｎｃｅ | F47: =K43 -> 3 | G47: =J43 -> 0 | H47: =K45 -> 8 | I47: =J45 -> 0 | L47: =N18 -> 1 | M47: =T18 -> 1 | N47: =COUNTIF(F48:M48,"○")*3+COUNTIF(F48:M48,"△") -> 7 | O47: =F47-G47+H47-I47+L47-M47 -> 11 | P47: 2 | R47: =Z7 -> 宝木キッカーズ | V47: =AA43 -> 0 | W47: =Z43 -> 4 | X47: =AA45 -> 1 | Y47: =Z45 -> 4 | AB47: =N22 -> 0 | AC47: =T22 -> 4 | AD47: =COUNTIF(V48:AC48,"○")*3+COUNTIF(V48:AC48,"△") -> 0 | AE47: =V47-W47+X47-Y47+AB47-AC47 -> -11 | AF47: 4
F48: =IF(F47>G47,"○",IF(F47<G47,"×",IF(F47=G47,"△"))) -> ○ | H48: =IF(H47>I47,"○",IF(H47<I47,"×",IF(H47=I47,"△"))) -> ○ | L48: =IF(L47>M47,"○",IF(L47<M47,"×",IF(L47=M47,"△"))) -> △ | V48: =IF(V47>W47,"○",IF(V47<W47,"×",IF(V47=W47,"△"))) -> × | X48: =IF(X47>Y47,"○",IF(X47<Y47,"×",IF(X47=Y47,"△"))) -> × | AB48: =IF(AB47>AC47,"○",IF(AB47<AC47,"×",IF(AB47=AC47,"△"))) -> ×
B49: =O7 -> ＪＦＣファイターズ | F49: =M43 -> 4 | G49: =L43 -> 0 | H49: =M45 -> 8 | I49: =L45 -> 0 | J49: =M47 -> 1 | K49: =L47 -> 1 | N49: =COUNTIF(F50:M50,"○")*3+COUNTIF(F50:M50,"△") -> 7 | O49: =F49-G49+H49-I49+J49-K49 -> 12 | P49: 1 | R49: =AD7 -> 間東ＦＣミラクルズ | V49: =AC43 -> 2 | W49: =AB43 -> 0 | X49: =AC45 -> 5 | Y49: =AB45 -> 0 | Z49: =AC47 -> 4 | AA49: =AB47 -> 0 | AD49: =COUNTIF(V50:AC50,"○")*3+COUNTIF(V50:AC50,"△") -> 9 | AE49: =V49-W49+X49-Y49+Z49-AA49 -> 11 | AF49: 1
F50: =IF(F49>G49,"○",IF(F49<G49,"×",IF(F49=G49,"△"))) -> ○ | H50: =IF(H49>I49,"○",IF(H49<I49,"×",IF(H49=I49,"△"))) -> ○ | J50: =IF(J49>K49,"○",IF(J49<K49,"×",IF(J49=K49,"△"))) -> △ | V50: =IF(V49>W49,"○",IF(V49<W49,"×",IF(V49=W49,"△"))) -> ○ | X50: =IF(X49>Y49,"○",IF(X49<Y49,"×",IF(X49=Y49,"△"))) -> ○ | Z50: =IF(Z49>AA49,"○",IF(Z49<AA49,"×",IF(Z49=AA49,"△"))) -> ○
A52: =A1 -> ■第1日 1月13日 | I52: =I1 -> 予選リーグ | T52: 第6会場 | X52: ='U11組合せ (抽選結果)'!A94 -> 鬼怒グリーンパーク白沢Ｂ
J54: F | W54: FF
...

Sheet GH
A1: ='U11組合せ (抽選結果)'!J3 -> ■第1日 1月13日 | I1: ='U11組合せ (抽選結果)'!S3 -> 予選リーグ | T1: 第7会場 | X1: ='U11組合せ (抽選結果)'!A111 -> 真岡鬼怒自然公園サッカー場（クレー）ＢＡ
J3: G | W3: GG
F6: 1 | J6: 2 | N6: 3 | S6: 4 | W6: 5 | AA6: 6
F7: ='U11組合せ (抽選結果)'!C112 -> 富士見サッカースポーツ少年団ブルー | J7: ='U11組合せ (抽選結果)'!C114 -> 小山三小 ＦＣ | N7: ='U11組合せ (抽選結果)'!C116 -> ＦＣ ＷＩＬＬＥ | S7: ='U11組合せ (抽選結果)'!C120 -> ＦＣあわのレジェンド | W7: ='U11組合せ (抽選結果)'!C122 -> エスペランサＭＯＫＡ | AA7: ='U11組合せ (抽選結果)'!C124 -> 阿久津サッカークラブ
AB15: ( | AC15: 主， | AD15: 副， | AE15: 副， | AF15: ４ｔｈ | AG15: )
B16: ① | C16: 0.375 | G16: =F7 -> 富士見サッカースポーツ少年団ブルー | N16: =P16+P17 -> 1 | O16: （ | P16: 0 | Q16: － | R16: 0 | S16: ） | T16: =R16+R17 -> 0 | U16: =J7 -> 小山三小 ＦＣ | AC16: 6, | AD16: 4, | AE16: 5, | AF16: 6
P17: 1 | Q17: － | R17: 0
B19: ② | C19: 0.40277778 | G19: =S7 -> ＦＣあわのレジェンド | N19: =P19+P20 -> 0 | O19: （ | P19: 0 | Q19: － | R19: 0 | S19: ） | T19: =R19+R20 -> 1 | U19: =W7 -> エスペランサＭＯＫＡ | AC19: 3, | AD19: 1, | AE19: 2, | AF19: 3
P20: 0 | Q20: － | R20: 1
B22: ③ | C22: 0.43055556 | G22: =F7 -> 富士見サッカースポーツ少年団ブルー | N22: =P22+P23 -> 1 | O22: （ | P22: 0 | Q22: － | R22: 0 | S22: ） | T22: =R22+R23 -> 0 | U22: =N7 -> ＦＣ ＷＩＬＬＥ | AC22: 5, | AD22: 6, | AE22: 4, | AF22: 5
P23: 1 | Q23: － | R23: 0
B25: ④ | C25: 0.45833333 | G25: =S7 -> ＦＣあわのレジェンド | N25: =P25+P26 -> 0 | O25: （ | P25: 0 | Q25: － | R25: 2 | S25: ） | T25: =R25+R26 -> 3 | U25: =AA7 -> 阿久津サッカークラブ | AC25: 2, | AD25: 3, | AE25: 1, | AF25: 2
P26: 0 | Q26: － | R26: 1
B28: ⑤ | C28: 0.48611111 | G28: =J7 -> 小山三小 ＦＣ | N28: =P28+P29 -> 6 | O28: （ | P28: 2 | Q28: － | R28: 0 | S28: ） | T28: =R28+R29 -> 1 | U28: =N7 -> ＦＣ ＷＩＬＬＥ | AC28: 4, | AD28: 5, | AE28: 6, | AF28: 4
P29: 4 | Q29: － | R29: 1
B31: ⑥ | C31: 0.51388889 | G31: =W7 -> エスペランサＭＯＫＡ | N31: =P31+P32 -> 0 | O31: （ | P31: 0 | Q31: － | R31: 1 | S31: ） | T31: =R31+R32 -> 3 | U31: =AA7 -> 阿久津サッカークラブ | AC31: 1, | AD31: 2, | AE31: 3, | AF31: 1
P32: 0 | Q32: － | R32: 2
C34: =J3 &"リーグ" -> Gリーグ | G34: =C36 -> 富士見サッカースポーツ少年団ブルー | I34: =C38 -> 小山三小 ＦＣ | K34: =C40 -> ＦＣ ＷＩＬＬＥ | M34: 勝点 | N34: 得失点 | O34: 総得点 | P34: 順位 | R34: =W3 &"リーグ" -> GGリーグ | V34: =R36 -> ＦＣあわのレジェンド | X34: =R38 -> エスペランサＭＯＫＡ | Z34: =R40 -> 阿久津サッカークラブ | AB34: 勝点 | AC34: 得失点 | AD34: 総得点 | AE34: 順位
C36: =F7 -> 富士見サッカースポーツ少年団ブルー | I36: =N16 -> 1 | J36: =T16 -> 0 | K36: =N22 -> 1 | L36: =T22 -> 0 | M36: =COUNTIF(G37:L37,"○")*3+COUNTIF(G37:L37,"△") -> 6 | N36: =O36-J36-L36 -> 2 | O36: =I36+K36 -> 2 | P36: 1 | R36: =S7 -> ＦＣあわのレジェンド | X36: =N19 -> 0 | Y36: =T19 -> 1 | Z36: =N25 -> 0 | AA36: =T25 -> 3 | AB36: =COUNTIF(V37:AA37,"○")*3+COUNTIF(V37:AA37,"△") -> 0 | AC36: =AD36-Y36-AA36 -> -4 | AD36: =X36+Z36 -> 0 | AE36: 3
I37: =IF(I36>J36,"○",IF(I36<J36,"×",IF(I36=J36,"△"))) -> ○ | K37: =IF(K36>L36,"○",IF(K36<L36,"×",IF(K36=L36,"△"))) -> ○ | X37: =IF(X36>Y36,"○",IF(X36<Y36,"×",IF(X36=Y36,"△"))) -> × | Z37: =IF(Z36>AA36,"○",IF(Z36<AA36,"×",IF(Z36=AA36,"△"))) -> ×
C38: =J7 -> 小山三小 ＦＣ | G38: =J36 -> 0 | H38: =I36 -> 1 | K38: =N28 -> 6 | L38: =T28 -> 1 | M38: =COUNTIF(G39:L39,"○")*3+COUNTIF(G39:L39,"△") -> 3 | N38: =O38-H38-L38 -> 4 | O38: =G38+K38 -> 6 | P38: 2 | R38: =W7 -> エスペランサＭＯＫＡ | V38: =Y36 -> 1 | W38: =X36 -> 0 | Z38: =N31 -> 0 | AA38: =T31 -> 3 | AB38: =COUNTIF(V39:AA39,"○")*3+COUNTIF(V39:AA39,"△") -> 3 | AC38: =AD38-W38-AA38 -> -2 | AD38: =V38+Z38 -> 1 | AE38: 2
G39: =IF(G38>H38,"○",IF(G38<H38,"×",IF(G38=H38,"△"))) -> × | K39: =IF(K38>L38,"○",IF(K38<L38,"×",IF(K38=L38,"△"))) -> ○ | V39: =IF(V38>W38,"○",IF(V38<W38,"×",IF(V38=W38,"△"))) -> ○ | Z39: =IF(Z38>AA38,"○",IF(Z38<AA38,"×",IF(Z38=AA38,"△"))) -> ×
C40: =N7 -> ＦＣ ＷＩＬＬＥ | G40: =L36 -> 0 | H40: =K36 -> 1 | I40: =L38 -> 1 | J40: =K38 -> 6 | M40: =COUNTIF(G41:L41,"○")*3+COUNTIF(G41:L41,"△") -> 0 | N40: =O40-H40-J40 -> -6 | O40: =G40+I40 -> 1 | P40: 3 | R40: =AA7 -> 阿久津サッカークラブ | V40: =AA36 -> 3 | W40: =Z36 -> 0 | X40: =AA38 -> 3 | Y40: =Z38 -> 0 | AB40: =COUNTIF(V41:AA41,"○")*3+COUNTIF(V41:AA41,"△") -> 6 | AC40: =AD40-W40-Y40 -> 6 | AD40: =V40+X40 -> 6 | AE40: 1
G41: =IF(G40>H40,"○",IF(G40<H40,"×",IF(G40=H40,"△"))) -> × | I41: =IF(I40>J40,"○",IF(I40<J40,"×",IF(I40=J40,"△"))) -> × | V41: =IF(V40>W40,"○",IF(V40<W40,"×",IF(V40=W40,"△"))) -> ○ | X41: =IF(X40>Y40,"○",IF(X40<Y40,"×",IF(X40=Y40,"△"))) -> ○
A44: =A1 -> ■第1日 1月13日 | I44: =I1 -> 予選リーグ | T44: 第8会場 | X44: ='U11組合せ (抽選結果)'!A128 -> 鬼怒グリーンパーク白沢Ａ
J46: H | W46: HH
F49: 1 | J49: 2 | N49: 3 | S49: 4 | W49: 5 | AA49: 6
F50: ='U11組合せ (抽選結果)'!C129 -> ＮＩＫＫＯ ＳＰＯＲＴＳ ＣＬＵＢ | J50: ='U11組合せ (抽選結果)'!C131 -> ＦＣ ＳＦｉＤＡ | N50: ='U11組合せ (抽選結果)'!C133 -> ＪＦＣ 足利ラトゥール | S50: ='U11組合せ (抽選結果)'!C137 -> フットボールクラブガナドール大田原Ｕ１２ | W50: ='U11組合せ (抽選結果)'!C139 -> 国本ジュニアサッカークラブ | AA50: ='U11組合せ (抽選結果)'!C141 -> 大谷北ＦＣフォルテ
AB58: ( | AC58: 主， | AD58: 副， | AE58: 副， | AF58: ４ｔｈ | AG58: )
B59: ① | C59: 0.375 | G59: =F50 -> ＮＩＫＫＯ ＳＰＯＲＴＳ ＣＬＵＢ | N59: =P59+P60 -> 1 | O59: （ | P59: 1 | Q59: － | R59: 0 | S59: ） | T59: =R59+R60 -> 0 | U59: =J50 -> ＦＣ ＳＦｉＤＡ | AC59: 6, | AD59: 4, | AE59: 5, | AF59: 6
P60: 0 | Q60: － | R60: 0
B62: ② | C62: 0.40277778 | G62: =S50 -> フットボールクラブガナドール大田原Ｕ１２ | N62: =P62+P63 -> 0 | O62: （ | P62: 0 | Q62: － | R62: 2 | S62: ） | T62: =R62+R63 -> 3 | U62: =W50 -> 国本ジュニアサッカークラブ | AC62: 3, | AD62: 1, | AE62: 2, | AF62: 3
P63: 0 | Q63: － | R63: 1
B65: ③ | C65: 0.43055556 | G65: =F50 -> ＮＩＫＫＯ ＳＰＯＲＴＳ ＣＬＵＢ | N65: =P65+P66 -> 1 | O65: （ | P65: 1 | Q65: － | R65: 0 | S65: ） | T65: =R65+R66 -> 0 | U65: =N50 -> ＪＦＣ 足利ラトゥール | AC65: 5, | AD65: 6, | AE65: 4, | AF65: 5
P66: 0 | Q66: － | R66: 0
B68: ④ | C68: 0.45833333 | G68: =S50 -> フットボールクラブガナドール大田原Ｕ１２ | N68: =P68+P69 -> 0 | O68: （ | P68: 0 | Q68: － | R68: 3 | S68: ） | T68: =R68+R69 -> 5 | U68: =AA50 -> 大谷北ＦＣフォルテ | AC68: 2, | AD68: 3, | AE68: 1, | AF68: 2
P69: 0 | Q69: － | R69: 2
B71: ⑤ | C71: 0.48611111 | G71: =J50 -> ＦＣ ＳＦｉＤＡ | N71: =P71+P72 -> 1 | O71: （ | P71: 1 | Q71: － | R71: 0 | S71: ） | T71: =R71+R72 -> 0 | U71: =N50 -> ＪＦＣ 足利ラトゥール | AC71: 4, | AD71: 5, | AE71: 6, | AF71: 4
P72: 0 | Q72: － | R72: 0
B74: ⑥ | C74: 0.51388889 | G74: =W50 -> 国本ジュニアサッカークラブ | N74: =P74+P75 -> 1 | O74: （ | P74: 0 | Q74: － | R74: 0 | S74: ） | T74: =R74+R75 -> 1 | U74: =AA50 -> 大谷北ＦＣフォルテ | AC74: 1, | AD74: 2, | AE74: 3, | AF74: 1
...

Sheet IJ
A1: ='U11組合せ (抽選結果)'!J3 -> ■第1日 1月13日 | I1: ='U11組合せ (抽選結果)'!S3 -> 予選リーグ | T1: 第9会場 | X1: ='U11組合せ (抽選結果)'!AL128 -> 市貝町城見ヶ丘運動公園ＡＢ
I3: I | X3: II
C6: 1 | G6: 2 | K6: 3 | O6: 4 | R6: 5 | V6: 6 | Z6: 7 | AD6: 8
C7: ='U11組合せ (抽選結果)'!AJ142 -> Ｎ Ｆ Ｃ | G7: ='U11組合せ (抽選結果)'!AJ140 -> ＡＣ ＥＳＰＡＣＩＯ | K7: ='U11組合せ (抽選結果)'!AJ138 -> 緑が丘ＹＦＣサッカー教室 | O7: ='U11組合せ (抽選結果)'!AJ136 -> ジヴェルチード那須 | R7: ='U11組合せ (抽選結果)'!AJ134 -> ＪＦＣアミスタ市貝 | V7: ='U11組合せ (抽選結果)'!AJ132 -> 坂西ジュニオール | Z7: ='U11組合せ (抽選結果)'!AJ130 -> ＦＣグラシアス | AD7: ='U11組合せ (抽選結果)'!AJ128 -> ＦＣ城東
B15: ピッチ | AB15: ( | AC15: 主， | AD15: 副， | AE15: 副， | AF15: ４ｔｈ | AG15: )
B16: Ａ | C16: ① | D16: 0.375 | G16: =C7 -> Ｎ Ｆ Ｃ | N16: =P16+P17 -> 4 | O16: （ | P16: 2 | Q16: － | R16: 0 | S16: ） | T16: =R16+R17 -> 0 | U16: =G7 -> ＡＣ ＥＳＰＡＣＩＯ | AC16: 5, | AD16: 6, | AE16: 7, | AF16: 8
P17: 2 | Q17: － | R17: 0
B18: Ｂ | C18: ① | D18: 0.375 | G18: =K7 -> 緑が丘ＹＦＣサッカー教室 | N18: =P18+P19 -> 7 | O18: （ | P18: 2 | Q18: － | R18: 0 | S18: ） | T18: =R18+R19 -> 0 | U18: =O7 -> ジヴェルチード那須 | AC18: 8, | AD18: 7, | AE18: 6, | AF18: 5
P19: 5 | Q19: － | R19: 0
B20: Ａ | C20: ② | D20: 0.40277778 | G20: =R7 -> ＪＦＣアミスタ市貝 | N20: =P20+P21 -> 4 | O20: （ | P20: 3 | Q20: － | R20: 0 | S20: ） | T20: =R20+R21 -> 0 | U20: =V7 -> 坂西ジュニオール | AC20: 1, | AD20: 2, | AE20: 3, | AF20: 4
P21: 1 | Q21: － | R21: 0
B22: Ｂ | C22: ② | D22: 0.40277778 | G22: =Z7 -> ＦＣグラシアス | N22: =P22+P23 -> 5 | O22: （ | P22: 3 | Q22: － | R22: 0 | S22: ） | T22: =R22+R23 -> 0 | U22: =AD7 -> ＦＣ城東 | AC22: 4, | AD22: 3, | AE22: 2, | AF22: 1
P23: 2 | Q23: － | R23: 0
B24: Ａ | C24: ③ | D24: 0.43055556 | G24: =C7 -> Ｎ Ｆ Ｃ | N24: =P24+P25 -> 1 | O24: （ | P24: 0 | Q24: － | R24: 1 | S24: ） | T24: =R24+R25 -> 2 | U24: =K7 -> 緑が丘ＹＦＣサッカー教室 | AC24: 6, | AD24: 5, | AE24: 8, | AF24: 7
P25: 1 | Q25: － | R25: 1
B26: Ｂ | C26: ③ | D26: 0.43055556 | G26: =G7 -> ＡＣ ＥＳＰＡＣＩＯ | N26: =P26+P27 -> 0 | O26: （ | P26: 0 | Q26: － | R26: 1 | S26: ） | T26: =R26+R27 -> 3 | U26: =O7 -> ジヴェルチード那須 | AC26: 7, | AD26: 8, | AE26: 5, | AF26: 6
P27: 0 | Q27: － | R27: 2
B28: Ａ | C28: ④ | D28: 0.45833333 | G28: =R7 -> ＪＦＣアミスタ市貝 | N28: =P28+P29 -> 3 | O28: （ | P28: 0 | Q28: － | R28: 0 | S28: ） | T28: =R28+R29 -> 0 | U28: =Z7 -> ＦＣグラシアス | AC28: 2, | AD28: 1, | AE28: 4, | AF28: 3
P29: 3 | Q29: － | R29: 0
B30: Ｂ | C30: ④ | D30: 0.45833333 | G30: =V7 -> 坂西ジュニオール | N30: =P30+P31 -> 0 | O30: （ | P30: 0 | Q30: － | R30: 0 | S30: ） | T30: =R30+R31 -> 2 | U30: =AD7 -> ＦＣ城東 | AC30: 3, | AD30: 4, | AE30: 1, | AF30: 2
P31: 0 | Q31: － | R31: 2
B32: Ａ | C32: ⑤ | D32: 0.48611111 | G32: =C7 -> Ｎ Ｆ Ｃ | N32: =P32+P33 -> 1 | O32: （ | P32: 1 | Q32: － | R32: 1 | S32: ） | T32: =R32+R33 -> 2 | U32: =O7 -> ジヴェルチード那須 | AC32: 5, | AD32: 6, | AE32: 7, | AF32: 8
P33: 0 | Q33: － | R33: 1
B34: Ｂ | C34: ⑤ | D34: 0.48611111 | G34: =G7 -> ＡＣ ＥＳＰＡＣＩＯ | N34: =P34+P35 -> 0 | O34: （ | P34: 0 | Q34: － | R34: 1 | S34: ） | T34: =R34+R35 -> 1 | U34: =K7 -> 緑が丘ＹＦＣサッカー教室 | AC34: 8, | AD34: 7, | AE34: 6, | AF34: 5
P35: 0 | Q35: － | R35: 0
B36: Ａ | C36: ⑥ | D36: 0.51388889 | G36: =R7 -> ＪＦＣアミスタ市貝 | N36: =P36+P37 -> 5 | O36: （ | P36: 3 | Q36: － | R36: 0 | S36: ） | T36: =R36+R37 -> 0 | U36: =AD7 -> ＦＣ城東 | AC36: 1, | AD36: 2, | AE36: 3, | AF36: 4
P37: 2 | Q37: － | R37: 0
B38: Ｂ | C38: ⑥ | D38: 0.51388889 | G38: =V7 -> 坂西ジュニオール | N38: =P38+P39 -> 0 | O38: （ | P38: 0 | Q38: － | R38: 4 | S38: ） | T38: =R38+R39 -> 6 | U38: =Z7 -> ＦＣグラシアス | AC38: 4, | AD38: 3, | AE38: 2, | AF38: 1
P39: 0 | Q39: － | R39: 2
B41: =I3 -> I | F41: =B43 -> Ｎ Ｆ Ｃ | H41: =B45 -> ＡＣ ＥＳＰＡＣＩＯ | J41: =B47 -> 緑が丘ＹＦＣサッカー教室 | L41: =B49 -> ジヴェルチード那須 | N41: 勝点 | O41: 得失点 | P41: 順位 | R41: =X3 -> II | V41: =R7 -> ＪＦＣアミスタ市貝 | X41: =V7 -> 坂西ジュニオール | Z41: =Z7 -> ＦＣグラシアス | AB41: =AD7 -> ＦＣ城東 | AD41: 勝点 | AE41: 得失点 | AF41: 順位
B43: =C7 -> Ｎ Ｆ Ｃ | H43: =N16 -> 4 | I43: =T16 -> 0 | J43: =N24 -> 1 | K43: =T24 -> 2 | L43: =N32 -> 1 | M43: =T32 -> 2 | N43: =COUNTIF(F44:M44,"○")*3+COUNTIF(F44:M44,"△") -> 3 | O43: =H43-I43+J43-K43+L43-M43 -> 2 | P43: 3 | R43: =R7 -> ＪＦＣアミスタ市貝 | X43: =N20 -> 4 | Y43: =T20 -> 0 | Z43: =N28 -> 3 | AA43: =T28 -> 0 | AB43: =N36 -> 5 | AC43: =T36 -> 0 | AD43: =COUNTIF(V44:AC44,"○")*3+COUNTIF(V44:AC44,"△") -> 9 | AE43: =X43-Y43+Z43-AA43+AB43-AC43 -> 12 | AF43: 1
H44: =IF(H43>I43,"○",IF(H43<I43,"×",IF(H43=I43,"△"))) -> ○ | J44: =IF(J43>K43,"○",IF(J43<K43,"×",IF(J43=K43,"△"))) -> × | L44: =IF(L43>M43,"○",IF(L43<M43,"×",IF(L43=M43,"△"))) -> × | X44: =IF(X43>Y43,"○",IF(X43<Y43,"×",IF(X43=Y43,"△"))) -> ○ | Z44: =IF(Z43>AA43,"○",IF(Z43<AA43,"×",IF(Z43=AA43,"△"))) -> ○ | AB44: =IF(AB43>AC43,"○",IF(AB43<AC43,"×",IF(AB43=AC43,"△"))) -> ○
B45: =G7 -> ＡＣ ＥＳＰＡＣＩＯ | F45: =I43 -> 0 | G45: =H43 -> 4 | J45: =N34 -> 0 | K45: =T34 -> 1 | L45: =N26 -> 0 | M45: =T26 -> 3 | N45: =COUNTIF(F46:M46,"○")*3+COUNTIF(F46:M46,"△") -> 0 | O45: =F45-G45+J45-K45+L45-M45 -> -8 | P45: 4 | R45: =V7 -> 坂西ジュニオール | V45: =Y43 -> 0 | W45: =X43 -> 4 | Z45: =N38 -> 0 | AA45: =T38 -> 6 | AB45: =N30 -> 0 | AC45: =T30 -> 2 | AD45: =COUNTIF(V46:AC46,"○")*3+COUNTIF(V46:AC46,"△") -> 0 | AE45: =V45-W45+Z45-AA45+AB45-AC45 -> -12 | AF45: 4
F46: =IF(F45>G45,"○",IF(F45<G45,"×",IF(F45=G45,"△"))) -> × | J46: =IF(J45>K45,"○",IF(J45<K45,"×",IF(J45=K45,"△"))) -> × | L46: =IF(L45>M45,"○",IF(L45<M45,"×",IF(L45=M45,"△"))) -> × | V46: =IF(V45>W45,"○",IF(V45<W45,"×",IF(V45=W45,"△"))) -> × | Z46: =IF(Z45>AA45,"○",IF(Z45<AA45,"×",IF(Z45=AA45,"△"))) -> × | AB46: =IF(AB45>AC45,"○",IF(AB45<AC45,"×",IF(AB45=AC45,"△"))) -> ×
B47: =K7 -> 緑が丘ＹＦＣサッカー教室 | F47: =K43 -> 2 | G47: =J43 -> 1 | H47: =K45 -> 1 | I47: =J45 -> 0 | L47: =N18 -> 7 | M47: =T18 -> 0 | N47: =COUNTIF(F48:M48,"○")*3+COUNTIF(F48:M48,"△") -> 9 | O47: =F47-G47+H47-I47+L47-M47 -> 9 | P47: 1 | R47: =Z7 -> ＦＣグラシアス | V47: =AA43 -> 0 | W47: =Z43 -> 3 | X47: =AA45 -> 6 | Y47: =Z45 -> 0 | AB47: =N22 -> 5 | AC47: =T22 -> 0 | AD47: =COUNTIF(V48:AC48,"○")*3+COUNTIF(V48:AC48,"△") -> 6 | AE47: =V47-W47+X47-Y47+AB47-AC47 -> 8 | AF47: 2
F48: =IF(F47>G47,"○",IF(F47<G47,"×",IF(F47=G47,"△"))) -> ○ | H48: =IF(H47>I47,"○",IF(H47<I47,"×",IF(H47=I47,"△"))) -> ○ | L48: =IF(L47>M47,"○",IF(L47<M47,"×",IF(L47=M47,"△"))) -> ○ | V48: =IF(V47>W47,"○",IF(V47<W47,"×",IF(V47=W47,"△"))) -> × | X48: =IF(X47>Y47,"○",IF(X47<Y47,"×",IF(X47=Y47,"△"))) -> ○ | AB48: =IF(AB47>AC47,"○",IF(AB47<AC47,"×",IF(AB47=AC47,"△"))) -> ○
B49: =O7 -> ジヴェルチード那須 | F49: =M43 -> 2 | G49: =L43 -> 1 | H49: =M45 -> 3 | I49: =L45 -> 0 | J49: =M47 -> 0 | K49: =L47 -> 7 | N49: =COUNTIF(F50:M50,"○")*3+COUNTIF(F50:M50,"△") -> 6 | O49: =F49-G49+H49-I49+J49-K49 -> -3 | P49: 2 | R49: =AD7 -> ＦＣ城東 | V49: =AC43 -> 0 | W49: =AB43 -> 5 | X49: =AC45 -> 2 | Y49: =AB45 -> 0 | Z49: =AC47 -> 0 | AA49: =AB47 -> 5 | AD49: =COUNTIF(V50:AC50,"○")*3+COUNTIF(V50:AC50,"△") -> 3 | AE49: =V49-W49+X49-Y49+Z49-AA49 -> -8 | AF49: 3
F50: =IF(F49>G49,"○",IF(F49<G49,"×",IF(F49=G49,"△"))) -> ○ | H50: =IF(H49>I49,"○",IF(H49<I49,"×",IF(H49=I49,"△"))) -> ○ | J50: =IF(J49>K49,"○",IF(J49<K49,"×",IF(J49=K49,"△"))) -> × | V50: =IF(V49>W49,"○",IF(V49<W49,"×",IF(V49=W49,"△"))) -> × | X50: =IF(X49>Y49,"○",IF(X49<Y49,"×",IF(X49=Y49,"△"))) -> ○ | Z50: =IF(Z49>AA49,"○",IF(Z49<AA49,"×",IF(Z49=AA49,"△"))) -> ×
A52: =A1 -> ■第1日 1月13日 | I52: =I1 -> 予選リーグ | T52: 第10会場 | X52: ='U11組合せ (抽選結果)'!AL111 -> 大松山運動公園多目的グランドＡＢ
I54: J | V54: JJ
...

Sheet KL
A1: ='U11組合せ (抽選結果)'!J3 -> ■第1日 1月13日 | I1: ='U11組合せ (抽選結果)'!S3 -> 予選リーグ | T1: 第11会場 | X1: ='U11組合せ (抽選結果)'!AL94 -> 大桶運動公園B
J3: K | W3: KK
F6: 1 | J6: 2 | N6: 3 | S6: 4 | W6: 5 | AA6: 6
F7: ='U11組合せ (抽選結果)'!AJ107 -> 今市ＦＣプログレス | J7: ='U11組合せ (抽選結果)'!AJ105 -> 大山フットボールクラブアミーゴ | N7: ='U11組合せ (抽選結果)'!AJ103 -> 大谷東フットボールクラブ | S7: ='U11組合せ (抽選結果)'!AJ99 -> ＦＣアネーロ宇都宮 | W7: ='U11組合せ (抽選結果)'!AJ97 -> ＢＬＵＥ ＴＨＵＮＤＥＲ | AA7: ='U11組合せ (抽選結果)'!AJ95 -> 茂木ＦＣ
AB15: ( | AC15: 主， | AD15: 副， | AE15: 副， | AF15: ４ｔｈ | AG15: )
B16: ① | C16: 0.375 | G16: =F7 -> 今市ＦＣプログレス | N16: =P16+P17 -> 1 | O16: （ | P16: 0 | Q16: － | R16: 0 | S16: ） | T16: =R16+R17 -> 0 | U16: =J7 -> 大山フットボールクラブアミーゴ | AC16: 6, | AD16: 4, | AE16: 5, | AF16: 6
P17: 1 | Q17: － | R17: 0
B19: ② | C19: 0.40277778 | G19: =S7 -> ＦＣアネーロ宇都宮 | N19: =P19+P20 -> 0 | O19: （ | P19: 0 | Q19: － | R19: 0 | S19: ） | T19: =R19+R20 -> 0 | U19: =W7 -> ＢＬＵＥ ＴＨＵＮＤＥＲ | AC19: 3, | AD19: 1, | AE19: 2, | AF19: 3
P20: 0 | Q20: － | R20: 0
B22: ③ | C22: 0.43055556 | G22: =F7 -> 今市ＦＣプログレス | N22: =P22+P23 -> 0 | O22: （ | P22: 0 | Q22: － | R22: 0 | S22: ） | T22: =R22+R23 -> 0 | U22: =N7 -> 大谷東フットボールクラブ | AC22: 5, | AD22: 6, | AE22: 4, | AF22: 5
P23: 0 | Q23: － | R23: 0
B25: ④ | C25: 0.45833333 | G25: =S7 -> ＦＣアネーロ宇都宮 | N25: =P25+P26 -> 0 | O25: （ | P25: 0 | Q25: － | R25: 3 | S25: ） | T25: =R25+R26 -> 5 | U25: =AA7 -> 茂木ＦＣ | AC25: 2, | AD25: 3, | AE25: 1, | AF25: 2
P26: 0 | Q26: － | R26: 2
B28: ⑤ | C28: 0.48611111 | G28: =J7 -> 大山フットボールクラブアミーゴ | N28: =P28+P29 -> 2 | O28: （ | P28: 1 | Q28: － | R28: 1 | S28: ） | T28: =R28+R29 -> 3 | U28: =N7 -> 大谷東フットボールクラブ | AC28: 4, | AD28: 5, | AE28: 6, | AF28: 4
P29: 1 | Q29: － | R29: 2
B31: ⑥ | C31: 0.51388889 | G31: =W7 -> ＢＬＵＥ ＴＨＵＮＤＥＲ | N31: =P31+P32 -> 0 | O31: （ | P31: 0 | Q31: － | R31: 4 | S31: ） | T31: =R31+R32 -> 6 | U31: =AA7 -> 茂木ＦＣ | AC31: 1, | AD31: 2, | AE31: 3, | AF31: 1
P32: 0 | Q32: － | R32: 2
C34: =J3 &"リーグ" -> Kリーグ | G34: =C36 -> 今市ＦＣプログレス | I34: =C38 -> 大山フットボールクラブアミーゴ | K34: =C40 -> 大谷東フットボールクラブ | M34: 勝点 | N34: 得失点 | O34: 総得点 | P34: 順位 | R34: =W3 &"リーグ" -> KKリーグ | V34: =R36 -> ＦＣアネーロ宇都宮 | X34: =R38 -> ＢＬＵＥ ＴＨＵＮＤＥＲ | Z34: =R40 -> 茂木ＦＣ | AB34: 勝点 | AC34: 得失点 | AD34: 総得点 | AE34: 順位
C36: =F7 -> 今市ＦＣプログレス | I36: =N16 -> 1 | J36: =T16 -> 0 | K36: =N22 -> 0 | L36: =T22 -> 0 | M36: =COUNTIF(G37:L37,"○")*3+COUNTIF(G37:L37,"△") -> 4 | N36: =O36-J36-L36 -> 1 | O36: =I36+K36 -> 1 | P36: 2 | R36: =S7 -> ＦＣアネーロ宇都宮 | X36: =N19 -> 0 | Y36: =T19 -> 0 | Z36: =N25 -> 0 | AA36: =T25 -> 5 | AB36: =COUNTIF(V37:AA37,"○")*3+COUNTIF(V37:AA37,"△") -> 1 | AC36: =AD36-Y36-AA36 -> -5 | AD36: =X36+Z36 -> 0 | AE36: 2
I37: =IF(I36>J36,"○",IF(I36<J36,"×",IF(I36=J36,"△"))) -> ○ | K37: =IF(K36>L36,"○",IF(K36<L36,"×",IF(K36=L36,"△"))) -> △ | X37: =IF(X36>Y36,"○",IF(X36<Y36,"×",IF(X36=Y36,"△"))) -> △ | Z37: =IF(Z36>AA36,"○",IF(Z36<AA36,"×",IF(Z36=AA36,"△"))) -> ×
C38: =J7 -> 大山フットボールクラブアミーゴ | G38: =J36 -> 0 | H38: =I36 -> 1 | K38: =N28 -> 2 | L38: =T28 -> 3 | M38: =COUNTIF(G39:L39,"○")*3+COUNTIF(G39:L39,"△") -> 0 | N38: =O38-H38-L38 -> -2 | O38: =G38+K38 -> 2 | P38: 3 | R38: =W7 -> ＢＬＵＥ ＴＨＵＮＤＥＲ | V38: =Y36 -> 0 | W38: =X36 -> 0 | Z38: =N31 -> 0 | AA38: =T31 -> 6 | AB38: =COUNTIF(V39:AA39,"○")*3+COUNTIF(V39:AA39,"△") -> 1 | AC38: =AD38-W38-AA38 -> -6 | AD38: =V38+Z38 -> 0 | AE38: 3
G39: =IF(G38>H38,"○",IF(G38<H38,"×",IF(G38=H38,"△"))) -> × | K39: =IF(K38>L38,"○",IF(K38<L38,"×",IF(K38=L38,"△"))) -> × | V39: =IF(V38>W38,"○",IF(V38<W38,"×",IF(V38=W38,"△"))) -> △ | Z39: =IF(Z38>AA38,"○",IF(Z38<AA38,"×",IF(Z38=AA38,"△"))) -> ×
C40: =N7 -> 大谷東フットボールクラブ | G40: =L36 -> 0 | H40: =K36 -> 0 | I40: =L38 -> 3 | J40: =K38 -> 2 | M40: =COUNTIF(G41:L41,"○")*3+COUNTIF(G41:L41,"△") -> 4 | N40: =O40-H40-J40 -> 1 | O40: =G40+I40 -> 3 | P40: 1 | R40: =AA7 -> 茂木ＦＣ | V40: =AA36 -> 5 | W40: =Z36 -> 0 | X40: =AA38 -> 6 | Y40: =Z38 -> 0 | AB40: =COUNTIF(V41:AA41,"○")*3+COUNTIF(V41:AA41,"△") -> 6 | AC40: =AD40-W40-Y40 -> 11 | AD40: =V40+X40 -> 11 | AE40: 1
G41: =IF(G40>H40,"○",IF(G40<H40,"×",IF(G40=H40,"△"))) -> △ | I41: =IF(I40>J40,"○",IF(I40<J40,"×",IF(I40=J40,"△"))) -> ○ | V41: =IF(V40>W40,"○",IF(V40<W40,"×",IF(V40=W40,"△"))) -> ○ | X41: =IF(X40>Y40,"○",IF(X40<Y40,"×",IF(X40=Y40,"△"))) -> ○
A44: =A1 -> ■第1日 1月13日 | I44: =I1 -> 予選リーグ | T44: 第12会場 | X44: ='U11組合せ (抽選結果)'!AL77 -> 足利本町緑地サッカー場Ｂ
J46: L | W46: LL
F49: 1 | J49: 2 | N49: 3 | S49: 4 | W49: 5 | AA49: 6
F50: ='U11組合せ (抽選結果)'!AJ90 -> 鹿沼東光ＦＣ | J50: ='U11組合せ (抽選結果)'!AJ88 -> ＫＯＨＡＲＵ ＰＲＯＵＤ栃木フットボールクラブ | N50: ='U11組合せ (抽選結果)'!AJ86 -> 壬生ＦＣユナイテッド | S50: ='U11組合せ (抽選結果)'!AJ82 -> 益子ＳＣ | W50: ='U11組合せ (抽選結果)'!AJ80 -> 御厨フットボールクラブ | AA50: ='U11組合せ (抽選結果)'!AJ78 -> ＦＣみらい
AB58: ( | AC58: 主， | AD58: 副， | AE58: 副， | AF58: ４ｔｈ | AG58: )
B59: ① | C59: 0.375 | G59: =F50 -> 鹿沼東光ＦＣ | N59: =P59+P60 -> 0 | O59: （ | P59: 0 | Q59: － | R59: 5 | S59: ） | T59: =R59+R60 -> 6 | U59: =J50 -> ＫＯＨＡＲＵ ＰＲＯＵＤ栃木フットボールクラブ | AC59: 6, | AD59: 4, | AE59: 5, | AF59: 6
P60: 0 | Q60: － | R60: 1
B62: ② | C62: 0.40277778 | G62: =S50 -> 益子ＳＣ | N62: =P62+P63 -> 1 | O62: （ | P62: 1 | Q62: － | R62: 0 | S62: ） | T62: =R62+R63 -> 0 | U62: =W50 -> 御厨フットボールクラブ | AC62: 3, | AD62: 1, | AE62: 2, | AF62: 3
P63: 0 | Q63: － | R63: 0
B65: ③ | C65: 0.43055556 | G65: =F50 -> 鹿沼東光ＦＣ | N65: =P65+P66 -> 0 | O65: （ | P65: 0 | Q65: － | R65: 1 | S65: ） | T65: =R65+R66 -> 2 | U65: =N50 -> 壬生ＦＣユナイテッド | AC65: 5, | AD65: 6, | AE65: 4, | AF65: 5
P66: 0 | Q66: － | R66: 1
B68: ④ | C68: 0.45833333 | G68: =S50 -> 益子ＳＣ | N68: =P68+P69 -> 1 | O68: （ | P68: 0 | Q68: － | R68: 0 | S68: ） | T68: =R68+R69 -> 2 | U68: =AA50 -> ＦＣみらい | AC68: 2, | AD68: 3, | AE68: 1, | AF68: 2
P69: 1 | Q69: － | R69: 2
B71: ⑤ | C71: 0.48611111 | G71: =J50 -> ＫＯＨＡＲＵ ＰＲＯＵＤ栃木フットボールクラブ | N71: =P71+P72 -> 8 | O71: （ | P71: 3 | Q71: － | R71: 0 | S71: ） | T71: =R71+R72 -> 0 | U71: =N50 -> 壬生ＦＣユナイテッド | AC71: 4, | AD71: 5, | AE71: 6, | AF71: 4
P72: 5 | Q72: － | R72: 0
B74: ⑥ | C74: 0.51388889 | G74: =W50 -> 御厨フットボールクラブ | N74: =P74+P75 -> 0 | O74: （ | P74: 0 | Q74: － | R74: 1 | S74: ） | T74: =R74+R75 -> 3 | U74: =AA50 -> ＦＣみらい | AC74: 1, | AD74: 2, | AE74: 3, | AF74: 1
...

Sheet MN
A1: ='U11組合せ (抽選結果)'!J3 -> ■第1日 1月13日 | I1: ='U11組合せ (抽選結果)'!S3 -> 予選リーグ | T1: 第13会場 | X1: ='U11組合せ (抽選結果)'!AL60 -> SAKURAグリーンフィールドAB
I3: M | X3: MM
C6: 1 | G6: 2 | K6: 3 | O6: 4 | R6: 5 | V6: 6 | Z6: 7 | AD6: 8
C7: ='U11組合せ (抽選結果)'!AJ74 -> ＮＰＯ法人サウス宇都宮スポーツクラブ | G7: ='U11組合せ (抽選結果)'!AJ72 -> 藤原ＦＣ | K7: ='U11組合せ (抽選結果)'!AJ70 -> ＪＦＣアミスタ市貝Ｂ | O7: ='U11組合せ (抽選結果)'!AJ68 -> 南イレブン | R7: ='U11組合せ (抽選結果)'!AJ66 -> さくらボン・ディ・ボーラ | V7: ='U11組合せ (抽選結果)'!AJ64 -> Ｐｅｇａｓｕｓ藤岡２００７ | Z7: ='U11組合せ (抽選結果)'!AJ62 -> 豊郷ＪＦＣ宇都宮 | AD7: ='U11組合せ (抽選結果)'!AJ60 -> 呑竜ＦＣ
B15: ピッチ | AB15: ( | AC15: 主， | AD15: 副， | AE15: 副， | AF15: ４ｔｈ | AG15: )
B16: Ａ | C16: ① | D16: 0.375 | G16: =C7 -> ＮＰＯ法人サウス宇都宮スポーツクラブ | N16: =P16+P17 -> 0 | O16: （ | P16: 0 | Q16: － | R16: 1 | S16: ） | T16: =R16+R17 -> 1 | U16: =G7 -> 藤原ＦＣ | AC16: 5, | AD16: 6, | AE16: 7, | AF16: 8
P17: 0 | Q17: － | R17: 0
B18: Ｂ | C18: ① | D18: 0.375 | G18: =K7 -> ＪＦＣアミスタ市貝Ｂ | N18: =P18+P19 -> 3 | O18: （ | P18: 0 | Q18: － | R18: 0 | S18: ） | T18: =R18+R19 -> 0 | U18: =O7 -> 南イレブン | AC18: 8, | AD18: 7, | AE18: 6, | AF18: 5
P19: 3 | Q19: － | R19: 0
B20: Ａ | C20: ② | D20: 0.40277778 | G20: =R7 -> さくらボン・ディ・ボーラ | N20: =P20+P21 -> 2 | O20: （ | P20: 1 | Q20: － | R20: 0 | S20: ） | T20: =R20+R21 -> 0 | U20: =V7 -> Ｐｅｇａｓｕｓ藤岡２００７ | AC20: 1, | AD20: 2, | AE20: 3, | AF20: 4
P21: 1 | Q21: － | R21: 0
B22: Ｂ | C22: ② | D22: 0.40277778 | G22: =Z7 -> 豊郷ＪＦＣ宇都宮 | N22: =P22+P23 -> 1 | O22: （ | P22: 0 | Q22: － | R22: 0 | S22: ） | T22: =R22+R23 -> 0 | U22: =AD7 -> 呑竜ＦＣ | AC22: 4, | AD22: 3, | AE22: 2, | AF22: 1
P23: 1 | Q23: － | R23: 0
B24: Ａ | C24: ③ | D24: 0.43055556 | G24: =C7 -> ＮＰＯ法人サウス宇都宮スポーツクラブ | N24: =P24+P25 -> 0 | O24: （ | P24: 0 | Q24: － | R24: 0 | S24: ） | T24: =R24+R25 -> 0 | U24: =K7 -> ＪＦＣアミスタ市貝Ｂ | AC24: 6, | AD24: 5, | AE24: 8, | AF24: 7
P25: 0 | Q25: － | R25: 0
B26: Ｂ | C26: ③ | D26: 0.43055556 | G26: =G7 -> 藤原ＦＣ | N26: =P26+P27 -> 3 | O26: （ | P26: 2 | Q26: － | R26: 0 | S26: ） | T26: =R26+R27 -> 0 | U26: =O7 -> 南イレブン | AC26: 7, | AD26: 8, | AE26: 5, | AF26: 6
P27: 1 | Q27: － | R27: 0
B28: Ａ | C28: ④ | D28: 0.45833333 | G28: =R7 -> さくらボン・ディ・ボーラ | N28: =P28+P29 -> 2 | O28: （ | P28: 1 | Q28: － | R28: 0 | S28: ） | T28: =R28+R29 -> 1 | U28: =Z7 -> 豊郷ＪＦＣ宇都宮 | AC28: 2, | AD28: 1, | AE28: 4, | AF28: 3
P29: 1 | Q29: － | R29: 1
B30: Ｂ | C30: ④ | D30: 0.45833333 | G30: =V7 -> Ｐｅｇａｓｕｓ藤岡２００７ | N30: =P30+P31 -> 4 | O30: （ | P30: 1 | Q30: － | R30: 0 | S30: ） | T30: =R30+R31 -> 0 | U30: =AD7 -> 呑竜ＦＣ | AC30: 3, | AD30: 4, | AE30: 1, | AF30: 2
P31: 3 | Q31: － | R31: 0
B32: Ａ | C32: ⑤ | D32: 0.48611111 | G32: =C7 -> ＮＰＯ法人サウス宇都宮スポーツクラブ | N32: =P32+P33 -> 4 | O32: （ | P32: 2 | Q32: － | R32: 0 | S32: ） | T32: =R32+R33 -> 0 | U32: =O7 -> 南イレブン | AC32: 5, | AD32: 6, | AE32: 7, | AF32: 8
P33: 2 | Q33: － | R33: 0
B34: Ｂ | C34: ⑤ | D34: 0.48611111 | G34: =G7 -> 藤原ＦＣ | N34: =P34+P35 -> 0 | O34: （ | P34: 0 | Q34: － | R34: 0 | S34: ） | T34: =R34+R35 -> 1 | U34: =K7 -> ＪＦＣアミスタ市貝Ｂ | AC34: 8, | AD34: 7, | AE34: 6, | AF34: 5
P35: 0 | Q35: － | R35: 1
B36: Ａ | C36: ⑥ | D36: 0.51388889 | G36: =R7 -> さくらボン・ディ・ボーラ | N36: =P36+P37 -> 4 | O36: （ | P36: 1 | Q36: － | R36: 0 | S36: ） | T36: =R36+R37 -> 0 | U36: =AD7 -> 呑竜ＦＣ | AC36: 1, | AD36: 2, | AE36: 3, | AF36: 4
P37: 3 | Q37: － | R37: 0
B38: Ｂ | C38: ⑥ | D38: 0.51388889 | G38: =V7 -> Ｐｅｇａｓｕｓ藤岡２００７ | N38: =P38+P39 -> 2 | O38: （ | P38: 2 | Q38: － | R38: 1 | S38: ） | T38: =R38+R39 -> 3 | U38: =Z7 -> 豊郷ＪＦＣ宇都宮 | AC38: 4, | AD38: 3, | AE38: 2, | AF38: 1
P39: 0 | Q39: － | R39: 2
B41: =I3 &"リーグ" -> Mリーグ | F41: =B43 -> ＮＰＯ法人サウス宇都宮スポーツクラブ | H41: =B45 -> 藤原ＦＣ | J41: =B47 -> ＪＦＣアミスタ市貝Ｂ | L41: =B49 -> 南イレブン | N41: 勝点 | O41: 得失点 | P41: 順位 | R41: =X3 &"リーグ" -> MMリーグ | V41: =R7 -> さくらボン・ディ・ボーラ | X41: =V7 -> Ｐｅｇａｓｕｓ藤岡２００７ | Z41: =Z7 -> 豊郷ＪＦＣ宇都宮 | AB41: =AD7 -> 呑竜ＦＣ | AD41: 勝点 | AE41: 得失点 | AF41: 順位
B43: =C7 -> ＮＰＯ法人サウス宇都宮スポーツクラブ | H43: =N16 -> 0 | I43: =T16 -> 1 | J43: =N24 -> 0 | K43: =T24 -> 0 | L43: =N32 -> 4 | M43: =T32 -> 0 | N43: =COUNTIF(F44:M44,"○")*3+COUNTIF(F44:M44,"△") -> 4 | O43: =H43-I43+J43-K43+L43-M43 -> 3 | P43: 3 | R43: =R7 -> さくらボン・ディ・ボーラ | X43: =N20 -> 2 | Y43: =T20 -> 0 | Z43: =N28 -> 2 | AA43: =T28 -> 1 | AB43: =N36 -> 4 | AC43: =T36 -> 0 | AD43: =COUNTIF(V44:AC44,"○")*3+COUNTIF(V44:AC44,"△") -> 9 | AE43: =X43-Y43+Z43-AA43+AB43-AC43 -> 7 | AF43: 1
H44: =IF(H43>I43,"○",IF(H43<I43,"×",IF(H43=I43,"△"))) -> × | J44: =IF(J43>K43,"○",IF(J43<K43,"×",IF(J43=K43,"△"))) -> △ | L44: =IF(L43>M43,"○",IF(L43<M43,"×",IF(L43=M43,"△"))) -> ○ | X44: =IF(X43>Y43,"○",IF(X43<Y43,"×",IF(X43=Y43,"△"))) -> ○ | Z44: =IF(Z43>AA43,"○",IF(Z43<AA43,"×",IF(Z43=AA43,"△"))) -> ○ | AB44: =IF(AB43>AC43,"○",IF(AB43<AC43,"×",IF(AB43=AC43,"△"))) -> ○
B45: =G7 -> 藤原ＦＣ | F45: =I43 -> 1 | G45: =H43 -> 0 | J45: =N34 -> 0 | K45: =T34 -> 1 | L45: =N26 -> 3 | M45: =T26 -> 0 | N45: =COUNTIF(F46:M46,"○")*3+COUNTIF(F46:M46,"△") -> 6 | O45: =F45-G45+J45-K45+L45-M45 -> 3 | P45: 2 | R45: =V7 -> Ｐｅｇａｓｕｓ藤岡２００７ | V45: =Y43 -> 0 | W45: =X43 -> 2 | Z45: =N38 -> 2 | AA45: =T38 -> 3 | AB45: =N30 -> 4 | AC45: =T30 -> 0 | AD45: =COUNTIF(V46:AC46,"○")*3+COUNTIF(V46:AC46,"△") -> 3 | AE45: =V45-W45+Z45-AA45+AB45-AC45 -> 1 | AF45: 3
F46: =IF(F45>G45,"○",IF(F45<G45,"×",IF(F45=G45,"△"))) -> ○ | J46: =IF(J45>K45,"○",IF(J45<K45,"×",IF(J45=K45,"△"))) -> × | L46: =IF(L45>M45,"○",IF(L45<M45,"×",IF(L45=M45,"△"))) -> ○ | V46: =IF(V45>W45,"○",IF(V45<W45,"×",IF(V45=W45,"△"))) -> × | Z46: =IF(Z45>AA45,"○",IF(Z45<AA45,"×",IF(Z45=AA45,"△"))) -> × | AB46: =IF(AB45>AC45,"○",IF(AB45<AC45,"×",IF(AB45=AC45,"△"))) -> ○
B47: =K7 -> ＪＦＣアミスタ市貝Ｂ | F47: =K43 -> 0 | G47: =J43 -> 0 | H47: =K45 -> 1 | I47: =J45 -> 0 | L47: =N18 -> 3 | M47: =T18 -> 0 | N47: =COUNTIF(F48:M48,"○")*3+COUNTIF(F48:M48,"△") -> 7 | O47: =F47-G47+H47-I47+L47-M47 -> 4 | P47: 1 | R47: =Z7 -> 豊郷ＪＦＣ宇都宮 | V47: =AA43 -> 1 | W47: =Z43 -> 2 | X47: =AA45 -> 3 | Y47: =Z45 -> 2 | AB47: =N22 -> 1 | AC47: =T22 -> 0 | AD47: =COUNTIF(V48:AC48,"○")*3+COUNTIF(V48:AC48,"△") -> 6 | AE47: =V47-W47+X47-Y47+AB47-AC47 -> 1 | AF47: 2
F48: =IF(F47>G47,"○",IF(F47<G47,"×",IF(F47=G47,"△"))) -> △ | H48: =IF(H47>I47,"○",IF(H47<I47,"×",IF(H47=I47,"△"))) -> ○ | L48: =IF(L47>M47,"○",IF(L47<M47,"×",IF(L47=M47,"△"))) -> ○ | V48: =IF(V47>W47,"○",IF(V47<W47,"×",IF(V47=W47,"△"))) -> × | X48: =IF(X47>Y47,"○",IF(X47<Y47,"×",IF(X47=Y47,"△"))) -> ○ | AB48: =IF(AB47>AC47,"○",IF(AB47<AC47,"×",IF(AB47=AC47,"△"))) -> ○
B49: =O7 -> 南イレブン | F49: =M43 -> 0 | G49: =L43 -> 4 | H49: =M45 -> 0 | I49: =L45 -> 3 | J49: =M47 -> 0 | K49: =L47 -> 3 | N49: =COUNTIF(F50:M50,"○")*3+COUNTIF(F50:M50,"△") -> 0 | O49: =F49-G49+H49-I49+J49-K49 -> -10 | P49: 4 | R49: =AD7 -> 呑竜ＦＣ | V49: =AC43 -> 0 | W49: =AB43 -> 4 | X49: =AC45 -> 0 | Y49: =AB45 -> 4 | Z49: =AC47 -> 0 | AA49: =AB47 -> 1 | AD49: =COUNTIF(V50:AC50,"○")*3+COUNTIF(V50:AC50,"△") -> 0 | AE49: =V49-W49+X49-Y49+Z49-AA49 -> -9 | AF49: 4
F50: =IF(F49>G49,"○",IF(F49<G49,"×",IF(F49=G49,"△"))) -> × | H50: =IF(H49>I49,"○",IF(H49<I49,"×",IF(H49=I49,"△"))) -> × | J50: =IF(J49>K49,"○",IF(J49<K49,"×",IF(J49=K49,"△"))) -> × | V50: =IF(V49>W49,"○",IF(V49<W49,"×",IF(V49=W49,"△"))) -> × | X50: =IF(X49>Y49,"○",IF(X49<Y49,"×",IF(X49=Y49,"△"))) -> × | Z50: =IF(Z49>AA49,"○",IF(Z49<AA49,"×",IF(Z49=AA49,"△"))) -> ×
A52: =A1 -> ■第1日 1月13日 | I52: =I1 -> 予選リーグ | T52: 第14会場 | X52: ='U11組合せ (抽選結果)'!AL43 -> 真岡鬼怒自然公園サッカー場（クレー）ＡＢ
J54: N | W54: NN
...

Sheet OP
A1: ='U11組合せ (抽選結果)'!J3 -> ■第1日 1月13日 | I1: ='U11組合せ (抽選結果)'!S3 -> 予選リーグ | T1: 第15会場 | X1: ='U11組合せ (抽選結果)'!AL26 -> 真岡鬼怒自然公園サッカー場（クレー）ＡＡ
J3: O | W3: OO
F6: 1 | J6: 2 | N6: 3 | S6: 4 | W6: 5 | AA6: 6
F7: ='U11組合せ (抽選結果)'!AJ39 -> Ｆ．Ｃ．栃木ジュニア | J7: ='U11組合せ (抽選結果)'!AJ37 -> 清原陽東サッカースポーツ少年団 | N7: ='U11組合せ (抽選結果)'!AJ35 -> ＣＦＡ日光 | S7: ='U11組合せ (抽選結果)'!AJ31 -> 高林・青木フットボールクラブ | W7: ='U11組合せ (抽選結果)'!AJ29 -> 真岡西サッカークラブブリッツ | AA7: ='U11組合せ (抽選結果)'!AJ27 -> 合戦場フットボールクラブ
AB15: ( | AC15: 主， | AD15: 副， | AE15: 副， | AF15: ４ｔｈ | AG15: )
B16: ① | C16: 0.375 | G16: =F7 -> Ｆ．Ｃ．栃木ジュニア | N16: =P16+P17 -> 2 | O16: （ | P16: 1 | Q16: － | R16: 1 | S16: ） | T16: =R16+R17 -> 1 | U16: =J7 -> 清原陽東サッカースポーツ少年団 | AC16: 6, | AD16: 4, | AE16: 5, | AF16: 6
P17: 1 | Q17: － | R17: 0
B19: ② | C19: 0.40277778 | G19: =S7 -> 高林・青木フットボールクラブ | N19: =P19+P20 -> 0 | O19: （ | P19: 0 | Q19: － | R19: 0 | S19: ） | T19: =R19+R20 -> 0 | U19: =W7 -> 真岡西サッカークラブブリッツ | AC19: 3, | AD19: 1, | AE19: 2, | AF19: 3
P20: 0 | Q20: － | R20: 0
B22: ③ | C22: 0.43055556 | G22: =F7 -> Ｆ．Ｃ．栃木ジュニア | N22: =P22+P23 -> 4 | O22: （ | P22: 3 | Q22: － | R22: 0 | S22: ） | T22: =R22+R23 -> 0 | U22: =N7 -> ＣＦＡ日光 | AC22: 5, | AD22: 6, | AE22: 4, | AF22: 5
P23: 1 | Q23: － | R23: 0
B25: ④ | C25: 0.45833333 | G25: =S7 -> 高林・青木フットボールクラブ | N25: =P25+P26 -> 1 | O25: （ | P25: 0 | Q25: － | R25: 3 | S25: ） | T25: =R25+R26 -> 3 | U25: =AA7 -> 合戦場フットボールクラブ | AC25: 2, | AD25: 3, | AE25: 1, | AF25: 2
P26: 1 | Q26: － | R26: 0
B28: ⑤ | C28: 0.48611111 | G28: =J7 -> 清原陽東サッカースポーツ少年団 | N28: =P28+P29 -> 1 | O28: （ | P28: 1 | Q28: － | R28: 1 | S28: ） | T28: =R28+R29 -> 1 | U28: =N7 -> ＣＦＡ日光 | AC28: 4, | AD28: 5, | AE28: 6, | AF28: 4
P29: 0 | Q29: － | R29: 0
B31: ⑥ | C31: 0.51388889 | G31: =W7 -> 真岡西サッカークラブブリッツ | N31: =P31+P32 -> 0 | O31: （ | P31: 0 | Q31: － | R31: 0 | S31: ） | T31: =R31+R32 -> 0 | U31: =AA7 -> 合戦場フットボールクラブ | AC31: 1, | AD31: 2, | AE31: 3, | AF31: 1
P32: 0 | Q32: － | R32: 0
C34: =J3 &"リーグ" -> Oリーグ | G34: =C36 -> Ｆ．Ｃ．栃木ジュニア | I34: =C38 -> 清原陽東サッカースポーツ少年団 | K34: =C40 -> ＣＦＡ日光 | M34: 勝点 | N34: 得失点 | O34: 総得点 | P34: 順位 | R34: =W3 &"リーグ" -> OOリーグ | V34: =R36 -> 高林・青木フットボールクラブ | X34: =R38 -> 真岡西サッカークラブブリッツ | Z34: =R40 -> 合戦場フットボールクラブ | AB34: 勝点 | AC34: 得失点 | AD34: 総得点 | AE34: 順位
C36: =F7 -> Ｆ．Ｃ．栃木ジュニア | I36: =N16 -> 2 | J36: =T16 -> 1 | K36: =N22 -> 4 | L36: =T22 -> 0 | M36: =COUNTIF(G37:L37,"○")*3+COUNTIF(G37:L37,"△") -> 6 | N36: =O36-J36-L36 -> 5 | O36: =I36+K36 -> 6 | P36: 1 | R36: =S7 -> 高林・青木フットボールクラブ | X36: =N19 -> 0 | Y36: =T19 -> 0 | Z36: =N25 -> 1 | AA36: =T25 -> 3 | AB36: =COUNTIF(V37:AA37,"○")*3+COUNTIF(V37:AA37,"△") -> 1 | AC36: =AD36-Y36-AA36 -> -2 | AD36: =X36+Z36 -> 1 | AE36: 3
I37: =IF(I36>J36,"○",IF(I36<J36,"×",IF(I36=J36,"△"))) -> ○ | K37: =IF(K36>L36,"○",IF(K36<L36,"×",IF(K36=L36,"△"))) -> ○ | X37: =IF(X36>Y36,"○",IF(X36<Y36,"×",IF(X36=Y36,"△"))) -> △ | Z37: =IF(Z36>AA36,"○",IF(Z36<AA36,"×",IF(Z36=AA36,"△"))) -> ×
C38: =J7 -> 清原陽東サッカースポーツ少年団 | G38: =J36 -> 1 | H38: =I36 -> 2 | K38: =N28 -> 1 | L38: =T28 -> 1 | M38: =COUNTIF(G39:L39,"○")*3+COUNTIF(G39:L39,"△") -> 1 | N38: =O38-H38-L38 -> -1 | O38: =G38+K38 -> 2 | P38: 2 | R38: =W7 -> 真岡西サッカークラブブリッツ | V38: =Y36 -> 0 | W38: =X36 -> 0 | Z38: =N31 -> 0 | AA38: =T31 -> 0 | AB38: =COUNTIF(V39:AA39,"○")*3+COUNTIF(V39:AA39,"△") -> 2 | AC38: =AD38-W38-AA38 -> 0 | AD38: =V38+Z38 -> 0 | AE38: 2
G39: =IF(G38>H38,"○",IF(G38<H38,"×",IF(G38=H38,"△"))) -> × | K39: =IF(K38>L38,"○",IF(K38<L38,"×",IF(K38=L38,"△"))) -> △ | V39: =IF(V38>W38,"○",IF(V38<W38,"×",IF(V38=W38,"△"))) -> △ | Z39: =IF(Z38>AA38,"○",IF(Z38<AA38,"×",IF(Z38=AA38,"△"))) -> △
C40: =N7 -> ＣＦＡ日光 | G40: =L36 -> 0 | H40: =K36 -> 4 | I40: =L38 -> 1 | J40: =K38 -> 1 | M40: =COUNTIF(G41:L41,"○")*3+COUNTIF(G41:L41,"△") -> 1 | N40: =O40-H40-J40 -> -4 | O40: =G40+I40 -> 1 | P40: 3 | R40: =AA7 -> 合戦場フットボールクラブ | V40: =AA36 -> 3 | W40: =Z36 -> 1 | X40: =AA38 -> 0 | Y40: =Z38 -> 0 | AB40: =COUNTIF(V41:AA41,"○")*3+COUNTIF(V41:AA41,"△") -> 4 | AC40: =AD40-W40-Y40 -> 2 | AD40: =V40+X40 -> 3 | AE40: 1
G41: =IF(G40>H40,"○",IF(G40<H40,"×",IF(G40=H40,"△"))) -> × | I41: =IF(I40>J40,"○",IF(I40<J40,"×",IF(I40=J40,"△"))) -> △ | V41: =IF(V40>W40,"○",IF(V40<W40,"×",IF(V40=W40,"△"))) -> ○ | X41: =IF(X40>Y40,"○",IF(X40<Y40,"×",IF(X40=Y40,"△"))) -> △
A44: =A1 -> ■第1日 1月13日 | I44: =I1 -> 予選リーグ | T44: 第16会場 | X44: ='U11組合せ (抽選結果)'!AL9 -> 足利本町緑地サッカー場Ａ
J46: P | W46: PP
F49: 1 | J49: 2 | N49: 3 | S49: 4 | W49: 5 | AA49: 6
F50: ='U11組合せ (抽選結果)'!AJ22 -> 西那須野西ＳＣ | J50: ='U11組合せ (抽選結果)'!AJ20 -> 高根沢西フットボールクラブ | N50: ='U11組合せ (抽選結果)'!AJ18 -> 石井フットボールクラブ | S50: ='U11組合せ (抽選結果)'!AJ14 -> ＦＣプリメーロ | W50: ='U11組合せ (抽選結果)'!AJ12 -> Ｋ－ＷＥＳＴ．ＦＣ２００１ | AA50: ='U11組合せ (抽選結果)'!AJ10 -> 富士見サッカースポーツ少年団レッド
AB58: ( | AC58: 主， | AD58: 副， | AE58: 副， | AF58: ４ｔｈ | AG58: )
B59: ① | C59: 0.375 | G59: =F50 -> 西那須野西ＳＣ | N59: =P59+P60 -> 1 | O59: （ | P59: 1 | Q59: － | R59: 1 | S59: ） | T59: =R59+R60 -> 1 | U59: =J50 -> 高根沢西フットボールクラブ | AC59: 6, | AD59: 4, | AE59: 5, | AF59: 6
P60: 0 | Q60: － | R60: 0
