Workbook

Sheet 抽選結果
C1: 第53回栃木県U-1０サッカー選手権大会 抽選順
D3: 芳賀→下都賀→両毛→北那須→塩谷南那須→上都賀→宇河
D4: 会場担当は各ブロック「５」に入る
B5: 抽選結果 | C5: 【会場担当】
A6: =COUNTIF(B:B,B6) -> 1 | B6: N5 | C6: 1 | D6: 真岡西サッカークラブブリッツ | E6: モオカニシサッカークラブブリッツ | F6: 真岡市鬼怒自然公園サッカー場AA | G6: Ｄ，Ｈ，Ｌ，Ｎ，Ｐ
A7: =COUNTIF(B:B,B7) -> 1 | B7: P5 | C7: 2 | D7: ＦＣ真岡２１ファンタジー | E7: エフシーモオカニジュウイチファンタジー | F7: 真岡市鬼怒自然公園サッカー場AB
A8: =COUNTIF(B:B,B8) -> 1 | B8: L5 | C8: 3 | D8: エスペランサＭＯＫＡ | E8: エスペランサモオカ | F8: 真岡市鬼怒自然公園サッカー場BA
A9: =COUNTIF(B:B,B9) -> 1 | B9: H5 | C9: 4 | D9: Ｊ－ＳＰＯＲＴＳＦＯＯＴＢＡＬＬＣＬＵＢ | E9: ジェイスポーツフットボールクラブ | F9: 真岡市鬼怒自然公園サッカー場BB
A10: =COUNTIF(B:B,B10) -> 1 | B10: D5 | C10: 5 | D10: 祖母井クラブ | E10: ウバガイクラブ | F10: 芳賀町けやき台サッカー場
A11: =COUNTIF(B:B,B11) -> 1 | B11: A5 | C11: 6 | D11: ＦＣ中村Ｕ－１０ | E11: エフシーナカムラ アンダージュウ | F11: 真岡ハイトラ運動公園陸上競技場 | G11: Ａ，Ｂ，Ｉ，Ｍ
A12: =COUNTIF(B:B,B12) -> 1 | B12: B5 | C12: 7 | D12: 久下田ＦＣ | E12: クゲタフットボールクラブ | F12: 真岡ハイトラ運動公園運動広場1
A13: =COUNTIF(B:B,B13) -> 1 | B13: M5 | C13: 8 | D13: ＨＦＣ．ＺＥＲＯ | E13: エイチエフシーゼロ | F13: 真岡ハイトラ運動公園多目的広場
A14: =COUNTIF(B:B,B14) -> 1 | B14: I5 | C14: 9 | D14: ＪＦＣアミスタ市貝 | E14: ジェイエフシーアミスタイチカイ | F14: 城見ヶ丘運動公園サッカー場
A15: =COUNTIF(B:B,B15) -> 1 | B15: O5 | C15: 10 | D15: 石橋ＦＣ | E15: イシバシエフシー | F15: 南河内東部運動広場 | G15: Ｅ，Ｏ
A16: =COUNTIF(B:B,B16) -> 1 | B16: E5 | C16: 11 | D16: 南河内サッカースポーツ少年団 | E16: ミナミカワウチサッカースポーツショウネンダン | F16: 別処山公園サッカー場
A17: =COUNTIF(B:B,B17) -> 1 | B17: C5 | C17: 12 | D17: 鹿沼西ＦＣ | E17: カヌマニシエフシー | F17: サンエコ自然の森サッカー場 | G17: Ｃ
A18: =COUNTIF(B:B,B18) -> 1 | B18: F5 | C18: 13 | D18: 豊郷ＪＦＣ宇都宮 | E18: トヨサトジェイエフシーウツノミヤ | F18: 宇都宮市サッカー場（平出） | G18: Ｆ，Ｇ，Ｊ，Ｋ
A19: =COUNTIF(B:B,B19) -> 1 | B19: G5 | C19: 14 | D19: ともぞうサッカークラブ Ｕ１０ | E19: トモゾウサッカークラブ ユージュウ | F19: 宇都宮市石井緑地サッカー場1・2
A20: =COUNTIF(B:B,B20) -> 1 | B20: K5 | C20: 15 | D20: ＦＣスポルト宇都宮 | E20: エフシースポルトウツノミヤ | F20: 宇都宮市石井緑地サッカー場3・4
A21: =COUNTIF(B:B,B21) -> 1 | B21: J5 | C21: 16 | D21: 清原陽東サッカースポーツ少年団 | E21: キヨハラヨウトウサッカースポーツショウネンダン | F21: 宇都宮市石井緑地サッカー場5・6
B22: 抽選結果 | C22: 【芳賀】
A23: =COUNTIF(B:B,B23) -> 1 | B23: K1 | C23: 17 | D23: 亀山サッカークラブ | E23: カメヤマサッカークラブ
A24: =COUNTIF(B:B,B24) -> 1 | B24: F6 | C24: 18 | D24: 益子ＳＣ | E24: マシコエスシー
A25: =COUNTIF(B:B,B25) -> 1 | B25: E8 | C25: 19 | D25: ＪＦＣファイターズ | E25: ジェイエフシーファイターズ
A26: =COUNTIF(B:B,B26) -> 1 | B26: J7 | C26: 20 | D26: ＪＦＣアミスタ市貝Ｂ | E26: ジェイエフシーアミスタイチカイ
A27: =COUNTIF(B:B,B27) -> 1 | B27: O6 | C27: 21 | D27: おおぞらＳＣ | E27: オオゾラエスシー
A28: =COUNTIF(B:B,B28) -> 1 | B28: C4 | C28: 22 | D28: 茂木ＦＣ | E28: モテギエフシー
C29: 【下都賀】
A30: =COUNTIF(B:B,B30) -> 1 | B30: C2 | C30: 23 | D30: 都賀クラブジュニア | E30: ツガクラブジュニア
A31: =COUNTIF(B:B,B31) -> 1 | B31: D4 | C31: 24 | D31: ＴＯＣＨＩＧＩ ＫＦＣ | E31: トチギケーエフシー
A32: =COUNTIF(B:B,B32) -> 1 | B32: F8 | C32: 25 | D32: 栃木ウーヴァＦＣ・Ｕ－１０ セレソン | E32: トチギウーヴァフットボールクラブ セレソン
A33: =COUNTIF(B:B,B33) -> 1 | B33: B8 | C33: 26 | D33: 栃木ウーヴァＦＣ・Ｕ－１０ ウィナーズ | E33: トチギウーヴァフットボールクラブ ウィナーズ
A34: =COUNTIF(B:B,B34) -> 1 | B34: G8 | C34: 27 | D34: 野木ＳＳＳ | E34: ノギスリーエス
A35: =COUNTIF(B:B,B35) -> 1 | B35: A4 | C35: 28 | D35: ＦＣプリメーロ | E35: フットボールクラブプリメーロ
A36: =COUNTIF(B:B,B36) -> 1 | B36: G4 | C36: 29 | D36: ＦＣ城東 | E36: エフシージョウトウ
A37: =COUNTIF(B:B,B37) -> 1 | B37: H4 | C37: 30 | D37: ＦＣがむしゃら | E37: エフシーガムシャラ
A38: =COUNTIF(B:B,B38) -> 1 | B38: D1 | C38: 31 | D38: 間東ＦＣミラクルズ | E38: マヒガシエフシーミラクルズ
A39: =COUNTIF(B:B,B39) -> 1 | B39: J1 | C39: 32 | D39: 小山ウエストＪＦＣ | E39: オヤマウエストジェイエフシー
A40: =COUNTIF(B:B,B40) -> 1 | B40: J8 | C40: 33 | D40: ＪＦＣ Ｗｉｎｇ | E40: ジェイエフシーウィング
A41: =COUNTIF(B:B,B41) -> 1 | B41: L4 | C41: 34 | D41: 大谷北ＦＣフォルテ | E41: オオヤキタエフシーフォルテ
...

Sheet U10組合せ
A1: 第５３回栃木県U-10サッカー選手権大会 組み合わせ表
D2: 開会式・入場行進 10月12日 8：30～ 真岡ハイトラ運動公園陸上競技場
H3: ■第1日 10月12日 | Q3: １次ラウンド | U3: ※リーグ戦
H4: ■第2日 10月13日 | Q4: 決勝トーナメント（１・２回戦）
H5: ■第3日 10月19日 | Q5: 決勝トーナメント（準々決勝・準決勝・決勝）
A7: 45577 | H7: 45212 | L7: 44853 | X7: =H7 -> 45212 | AC7: =A7 -> 45577
A8: =IFERROR(VLOOKUP($E$8&D16,抽選結果!B:F,5,FALSE),"") -> 真岡ハイトラ運動公園陸上競技場 | C8: =IFERROR(VLOOKUP($E$8&D8,抽選結果!B:F,3,FALSE),"") -> ＴＥＡＭ リフレＳＣ | D8: 1 | E8: A | AH8: =IFERROR(VLOOKUP($AD$17&AE11,抽選結果!B:F,5,FALSE),"") -> 真岡市鬼怒自然公園サッカー場AB
AD9: PP | AE9: 6 | AF9: =IFERROR(VLOOKUP($AD$17&AE9,抽選結果!B:F,3,FALSE),"") -> 本郷北フットボールクラブ
C10: =IFERROR(VLOOKUP($E$8&D10,抽選結果!B:F,3,FALSE),"") -> 大田原城山サッカークラブ | D10: 2
AE11: 5 | AF11: =IFERROR(VLOOKUP($AD$17&AE11,抽選結果!B:F,3,FALSE),"") -> ＦＣ真岡２１ファンタジー
C12: =IFERROR(VLOOKUP($E$8&D12,抽選結果!B:F,3,FALSE),"") -> 足利サッカークラブジュニア | D12: 3
AE13: 4 | AF13: =IFERROR(VLOOKUP($AD$17&AE13,抽選結果!B:F,3,FALSE),"") -> ＭＯＲＡＮＧＯ栃木フットボールクラブＵ１２
C14: =IFERROR(VLOOKUP($E$8&D14,抽選結果!B:F,3,FALSE),"") -> ＦＣプリメーロ | D14: 4
C16: =IFERROR(VLOOKUP($E$8&D16,抽選結果!B:F,3,FALSE),"") -> ＦＣ中村Ｕ－１０ | D16: 5 | E16: AA
AD17: P | AE17: 3 | AF17: =IFERROR(VLOOKUP($AD$17&AE17,抽選結果!B:F,3,FALSE),"") -> ＫＯＨＡＲＵ ＰＲＯＵＤ栃木フットボールクラブ
C18: =IFERROR(VLOOKUP($E$8&D18,抽選結果!B:F,3,FALSE),"") -> Ｓ４ スペランツァ | D18: 6
AE19: 2 | AF19: =IFERROR(VLOOKUP($AD$17&AE19,抽選結果!B:F,3,FALSE),"") -> ＩＳＯＳＯＣＣＥＲＣＬＵＢ
C20: =IFERROR(VLOOKUP($E$8&D20,抽選結果!B:F,3,FALSE),"") -> さくらボン・ディ・ボーラ | D20: 7
AE21: 1 | AF21: =IFERROR(VLOOKUP($AD$17&AE21,抽選結果!B:F,3,FALSE),"") -> 佐野ＳＳＳヴィラ
C22: =IFERROR(VLOOKUP($E$8&D22,抽選結果!B:F,3,FALSE),"") -> 藤原ＦＣ | D22: 8
A24: =IFERROR(VLOOKUP($E$24&D32,抽選結果!B:F,5,FALSE),"") -> 真岡ハイトラ運動公園運動広場1 | C24: =IFERROR(VLOOKUP($E$24&D24,抽選結果!B:F,3,FALSE),"") -> 栃木Ｃｈａｒｍｅ．Ｆ．Ｃ | D24: 1 | E24: B | AD24: OO | AE24: 8 | AF24: =IFERROR(VLOOKUP($AD$32&AE24,抽選結果!B:F,3,FALSE),"") -> 那須野ヶ原ＦＣボンジボーラ ブルー | AH24: =IFERROR(VLOOKUP($AD$32&AE30,抽選結果!B:F,5,FALSE),"") -> 南河内東部運動広場
C26: =IFERROR(VLOOKUP($E$24&D26,抽選結果!B:F,3,FALSE),"") -> 大山フットボールクラブアミーゴ | D26: 2 | AE26: 7 | AF26: =IFERROR(VLOOKUP($AD$32&AE26,抽選結果!B:F,3,FALSE),"") -> ＮＩＫＫＯ ＳＰＯＲＴＳ ＣＬＵＢ
C28: =IFERROR(VLOOKUP($E$24&D28,抽選結果!B:F,3,FALSE),"") -> 栃木ＳＣ Ｕ－１２ | D28: 3 | AE28: 6 | AF28: =IFERROR(VLOOKUP($AD$32&AE28,抽選結果!B:F,3,FALSE),"") -> おおぞらＳＣ
C30: =IFERROR(VLOOKUP($E$24&D30,抽選結果!B:F,3,FALSE),"") -> ＫＳＣ鹿沼 | D30: 4 | AE30: 5 | AF30: =IFERROR(VLOOKUP($AD$32&AE30,抽選結果!B:F,3,FALSE),"") -> 石橋ＦＣ
C32: =IFERROR(VLOOKUP($E$24&D32,抽選結果!B:F,3,FALSE),"") -> 久下田ＦＣ | D32: 5 | E32: BB | AD32: O | AE32: 4 | AF32: =IFERROR(VLOOKUP($AD$32&AE32,抽選結果!B:F,3,FALSE),"") -> フットボールクラブ氏家
C34: =IFERROR(VLOOKUP($E$24&D34,抽選結果!B:F,3,FALSE),"") -> ともぞうサッカークラブ Ｕ１０Ｂ | D34: 6 | AE34: 3 | AF34: =IFERROR(VLOOKUP($AD$32&AE34,抽選結果!B:F,3,FALSE),"") -> 富士見サッカースポーツ少年団
C36: =IFERROR(VLOOKUP($E$24&D36,抽選結果!B:F,3,FALSE),"") -> ＦＣバジェルボ那須烏山 | D36: 7 | AE36: 2 | AF36: =IFERROR(VLOOKUP($AD$32&AE36,抽選結果!B:F,3,FALSE),"") -> Ｆ．Ｃ．栃木ジュニア
C38: =IFERROR(VLOOKUP($E$24&D38,抽選結果!B:F,3,FALSE),"") -> 栃木ウーヴァＦＣ・Ｕ－１０ ウィナーズ | D38: 8 | AE38: 1 | AF38: =IFERROR(VLOOKUP($AD$32&AE38,抽選結果!B:F,3,FALSE),"") -> クレアＦＣアルドーレ
A40: =IFERROR(VLOOKUP($E$40&D48,抽選結果!B:F,5,FALSE),"") -> サンエコ自然の森サッカー場 | C40: =IFERROR(VLOOKUP($E$40&D40,抽選結果!B:F,3,FALSE),"") -> 宇都宮フットボールクラブジュニア | D40: 1 | E40: C | AH40: =IFERROR(VLOOKUP($AD$49&AE43,抽選結果!B:F,5,FALSE),"") -> 真岡市鬼怒自然公園サッカー場AA
AD41: NN | AE41: 6 | AF41: =IFERROR(VLOOKUP($AD$49&AE41,抽選結果!B:F,3,FALSE),"") -> 宝木キッカーズＭＯＲＡＬＥ１０
C42: =IFERROR(VLOOKUP($E$40&D42,抽選結果!B:F,3,FALSE),"") -> 都賀クラブジュニア | D42: 2
AE43: 5 | AF43: =IFERROR(VLOOKUP($AD$49&AE43,抽選結果!B:F,3,FALSE),"") -> 真岡西サッカークラブブリッツ
C44: =IFERROR(VLOOKUP($E$40&D44,抽選結果!B:F,3,FALSE),"") -> ヴェルフェ矢板Ｕ－１２ｂｌａｎｃ | D44: 3
AE45: 4 | AF45: =IFERROR(VLOOKUP($AD$49&AE45,抽選結果!B:F,3,FALSE),"") -> Ｋ－ＷＥＳＴ．ＦＣ２００１
C46: =IFERROR(VLOOKUP($E$40&D46,抽選結果!B:F,3,FALSE),"") -> 茂木ＦＣ | D46: 4
C48: =IFERROR(VLOOKUP($E$40&D48,抽選結果!B:F,3,FALSE),"") -> 鹿沼西ＦＣ | D48: 5 | E48: CC
AD49: N | AE49: 3 | AF49: =IFERROR(VLOOKUP($AD$49&AE49,抽選結果!B:F,3,FALSE),"") -> ＦＣグランディール宇都宮
C50: =IFERROR(VLOOKUP($E$40&D50,抽選結果!B:F,3,FALSE),"") -> ｕｎｉｏｎｓｐｏｒｔｓｃｌｕｂ | D50: 6
AE51: 2 | AF51: =IFERROR(VLOOKUP($AD$49&AE51,抽選結果!B:F,3,FALSE),"") -> 今市ジュニオール
C52: =IFERROR(VLOOKUP($E$40&D52,抽選結果!B:F,3,FALSE),"") -> 東那須野ＦＣフェニックス | D52: 7
...

Sheet AB
A1: =U10組合せ!H3 -> ■第1日 10月12日 | I1: =U10組合せ!Q3 -> １次ラウンド | T1: 第1会場 | X1: =U10組合せ!A8 -> 真岡ハイトラ運動公園陸上競技場
I3: A | X3: AA
C6: 1 | G6: 2 | K6: 3 | O6: 4 | R6: 5 | V6: 6 | Z6: 7 | AD6: 8
C7: =U10組合せ!C8 -> ＴＥＡＭ リフレＳＣ | G7: =U10組合せ!C10 -> 大田原城山サッカークラブ | K7: =U10組合せ!C12 -> 足利サッカークラブジュニア | O7: =U10組合せ!C14 -> ＦＣプリメーロ | R7: =U10組合せ!C16 -> ＦＣ中村Ｕ－１０ | V7: =U10組合せ!C18 -> Ｓ４ スペランツァ | Z7: =U10組合せ!C20 -> さくらボン・ディ・ボーラ | AD7: =U10組合せ!C22 -> 藤原ＦＣ
B15: ピッチ | AD15: 主 | AE15: ・ | AF15: 補
B16: Ａ | C16: ① | D16: 0.5 | G16: =C7 -> ＴＥＡＭ リフレＳＣ | N16: =P16+P17 -> 0 | O16: （ | P16: 0 | Q16: － | R16: 0 | S16: ） | T16: =R16+R17 -> 0 | U16: =G7 -> 大田原城山サッカークラブ | AC16: ( | AD16: 5 | AE16: ・ | AF16: 6 | AG16: )
P17: 0 | Q17: － | R17: 0
B18: Ｂ | C18: ① | D18: 0.5 | G18: =K7 -> 足利サッカークラブジュニア | N18: =P18+P19 -> 0 | O18: （ | P18: 0 | Q18: － | R18: 0 | S18: ） | T18: =R18+R19 -> 0 | U18: =O7 -> ＦＣプリメーロ | AC18: ( | AD18: 7 | AE18: ・ | AF18: 8 | AG18: )
P19: 0 | Q19: － | R19: 0
B20: Ａ | C20: ② | D20: 0.52430556 | G20: =R7 -> ＦＣ中村Ｕ－１０ | N20: =P20+P21 -> 0 | O20: （ | P20: 0 | Q20: － | R20: 0 | S20: ） | T20: =R20+R21 -> 0 | U20: =V7 -> Ｓ４ スペランツァ | AC20: ( | AD20: 1 | AE20: ・ | AF20: 2 | AG20: )
P21: 0 | Q21: － | R21: 0
B22: Ｂ | C22: ② | D22: 0.52430556 | G22: =Z7 -> さくらボン・ディ・ボーラ | N22: =P22+P23 -> 0 | O22: （ | P22: 0 | Q22: － | R22: 0 | S22: ） | T22: =R22+R23 -> 0 | U22: =AD7 -> 藤原ＦＣ | AC22: ( | AD22: 3 | AE22: ・ | AF22: 4 | AG22: )
P23: 0 | Q23: － | R23: 0
B24: Ａ | C24: ③ | D24: 0.54861111 | G24: =C7 -> ＴＥＡＭ リフレＳＣ | N24: =P24+P25 -> 0 | O24: （ | P24: 0 | Q24: － | R24: 0 | S24: ） | T24: =R24+R25 -> 0 | U24: =K7 -> 足利サッカークラブジュニア | AC24: ( | AD24: 6 | AE24: ・ | AF24: 7 | AG24: )
P25: 0 | Q25: － | R25: 0
B26: Ｂ | C26: ③ | D26: 0.54861111 | G26: =G7 -> 大田原城山サッカークラブ | N26: =P26+P27 -> 0 | O26: （ | P26: 0 | Q26: － | R26: 0 | S26: ） | T26: =R26+R27 -> 0 | U26: =O7 -> ＦＣプリメーロ | AC26: ( | AD26: 8 | AE26: ・ | AF26: 5 | AG26: )
P27: 0 | Q27: － | R27: 0
B28: Ａ | C28: ④ | D28: 0.57291667 | G28: =R7 -> ＦＣ中村Ｕ－１０ | N28: =P28+P29 -> 0 | O28: （ | P28: 0 | Q28: － | R28: 0 | S28: ） | T28: =R28+R29 -> 0 | U28: =Z7 -> さくらボン・ディ・ボーラ | AC28: ( | AD28: 2 | AE28: ・ | AF28: 3 | AG28: )
P29: 0 | Q29: － | R29: 0
B30: Ｂ | C30: ④ | D30: 0.57291667 | G30: =V7 -> Ｓ４ スペランツァ | N30: =P30+P31 -> 0 | O30: （ | P30: 0 | Q30: － | R30: 0 | S30: ） | T30: =R30+R31 -> 0 | U30: =AD7 -> 藤原ＦＣ | AC30: ( | AD30: 4 | AE30: ・ | AF30: 1 | AG30: )
P31: 0 | Q31: － | R31: 0
B32: Ａ | C32: ⑤ | D32: 0.59722222 | G32: =C7 -> ＴＥＡＭ リフレＳＣ | N32: =P32+P33 -> 0 | O32: （ | P32: 0 | Q32: － | R32: 0 | S32: ） | T32: =R32+R33 -> 0 | U32: =O7 -> ＦＣプリメーロ | AC32: ( | AD32: 7 | AE32: ・ | AF32: 8 | AG32: )
P33: 0 | Q33: － | R33: 0
B34: Ｂ | C34: ⑤ | D34: 0.59722222 | G34: =G7 -> 大田原城山サッカークラブ | N34: =P34+P35 -> 0 | O34: （ | P34: 0 | Q34: － | R34: 0 | S34: ） | T34: =R34+R35 -> 0 | U34: =K7 -> 足利サッカークラブジュニア | AC34: ( | AD34: 5 | AE34: ・ | AF34: 6 | AG34: )
P35: 0 | Q35: － | R35: 0
B36: Ａ | C36: ⑥ | D36: 0.62152778 | G36: =R7 -> ＦＣ中村Ｕ－１０ | N36: =P36+P37 -> 0 | O36: （ | P36: 0 | Q36: － | R36: 0 | S36: ） | T36: =R36+R37 -> 0 | U36: =AD7 -> 藤原ＦＣ | AC36: ( | AD36: 3 | AE36: ・ | AF36: 4 | AG36: )
P37: 0 | Q37: － | R37: 0
B38: Ｂ | C38: ⑥ | D38: 0.62152778 | G38: =V7 -> Ｓ４ スペランツァ | N38: =P38+P39 -> 0 | O38: （ | P38: 0 | Q38: － | R38: 0 | S38: ） | T38: =R38+R39 -> 0 | U38: =Z7 -> さくらボン・ディ・ボーラ | AC38: ( | AD38: 1 | AE38: ・ | AF38: 2 | AG38: )
P39: 0 | Q39: － | R39: 0
B41: =I3 &"リーグ" -> Aリーグ | F41: =B43 -> ＴＥＡＭ リフレＳＣ | H41: =B45 -> 大田原城山サッカークラブ | J41: =B47 -> 足利サッカークラブジュニア | L41: =B49 -> ＦＣプリメーロ | N41: 勝点 | O41: 得失点 | P41: 順位 | R41: =X3 &"リーグ" -> AAリーグ | V41: =R7 -> ＦＣ中村Ｕ－１０ | X41: =V7 -> Ｓ４ スペランツァ | Z41: =Z7 -> さくらボン・ディ・ボーラ | AB41: =AD7 -> 藤原ＦＣ | AD41: 勝点 | AE41: 得失点 | AF41: 順位
B43: =C7 -> ＴＥＡＭ リフレＳＣ | H43: =N16 -> 0 | I43: =T16 -> 0 | J43: =N24 -> 0 | K43: =T24 -> 0 | L43: =N32 -> 0 | M43: =T32 -> 0 | N43: =COUNTIF(F44:M44,"○")*3+COUNTIF(F44:M44,"△") -> 3 | O43: =H43-I43+J43-K43+L43-M43 -> 0 | R43: =R7 -> ＦＣ中村Ｕ－１０ | X43: =N20 -> 0 | Y43: =T20 -> 0 | Z43: =N28 -> 0 | AA43: =T28 -> 0 | AB43: =N36 -> 0 | AC43: =T36 -> 0 | AD43: =COUNTIF(V44:AC44,"○")*3+COUNTIF(V44:AC44,"△") -> 3 | AE43: =X43-Y43+Z43-AA43+AB43-AC43 -> 0
H44: =IF(H43>I43,"○",IF(H43<I43,"×",IF(H43=I43,"△"))) -> △ | J44: =IF(J43>K43,"○",IF(J43<K43,"×",IF(J43=K43,"△"))) -> △ | L44: =IF(L43>M43,"○",IF(L43<M43,"×",IF(L43=M43,"△"))) -> △ | X44: =IF(X43>Y43,"○",IF(X43<Y43,"×",IF(X43=Y43,"△"))) -> △ | Z44: =IF(Z43>AA43,"○",IF(Z43<AA43,"×",IF(Z43=AA43,"△"))) -> △ | AB44: =IF(AB43>AC43,"○",IF(AB43<AC43,"×",IF(AB43=AC43,"△"))) -> △
B45: =G7 -> 大田原城山サッカークラブ | F45: =I43 -> 0 | G45: =H43 -> 0 | J45: =N34 -> 0 | K45: =T34 -> 0 | L45: =N26 -> 0 | M45: =T26 -> 0 | N45: =COUNTIF(F46:M46,"○")*3+COUNTIF(F46:M46,"△") -> 3 | O45: =F45-G45+J45-K45+L45-M45 -> 0 | R45: =V7 -> Ｓ４ スペランツァ | V45: =Y43 -> 0 | W45: =X43 -> 0 | Z45: =N38 -> 0 | AA45: =T38 -> 0 | AB45: =N30 -> 0 | AC45: =T30 -> 0 | AD45: =COUNTIF(V46:AC46,"○")*3+COUNTIF(V46:AC46,"△") -> 3 | AE45: =V45-W45+Z45-AA45+AB45-AC45 -> 0
F46: =IF(F45>G45,"○",IF(F45<G45,"×",IF(F45=G45,"△"))) -> △ | J46: =IF(J45>K45,"○",IF(J45<K45,"×",IF(J45=K45,"△"))) -> △ | L46: =IF(L45>M45,"○",IF(L45<M45,"×",IF(L45=M45,"△"))) -> △ | V46: =IF(V45>W45,"○",IF(V45<W45,"×",IF(V45=W45,"△"))) -> △ | Z46: =IF(Z45>AA45,"○",IF(Z45<AA45,"×",IF(Z45=AA45,"△"))) -> △ | AB46: =IF(AB45>AC45,"○",IF(AB45<AC45,"×",IF(AB45=AC45,"△"))) -> △
B47: =K7 -> 足利サッカークラブジュニア | F47: =K43 -> 0 | G47: =J43 -> 0 | H47: =K45 -> 0 | I47: =J45 -> 0 | L47: =N18 -> 0 | M47: =T18 -> 0 | N47: =COUNTIF(F48:M48,"○")*3+COUNTIF(F48:M48,"△") -> 3 | O47: =F47-G47+H47-I47+L47-M47 -> 0 | R47: =Z7 -> さくらボン・ディ・ボーラ | V47: =AA43 -> 0 | W47: =Z43 -> 0 | X47: =AA45 -> 0 | Y47: =Z45 -> 0 | AB47: =N22 -> 0 | AC47: =T22 -> 0 | AD47: =COUNTIF(V48:AC48,"○")*3+COUNTIF(V48:AC48,"△") -> 3 | AE47: =V47-W47+X47-Y47+AB47-AC47 -> 0
F48: =IF(F47>G47,"○",IF(F47<G47,"×",IF(F47=G47,"△"))) -> △ | H48: =IF(H47>I47,"○",IF(H47<I47,"×",IF(H47=I47,"△"))) -> △ | L48: =IF(L47>M47,"○",IF(L47<M47,"×",IF(L47=M47,"△"))) -> △ | V48: =IF(V47>W47,"○",IF(V47<W47,"×",IF(V47=W47,"△"))) -> △ | X48: =IF(X47>Y47,"○",IF(X47<Y47,"×",IF(X47=Y47,"△"))) -> △ | AB48: =IF(AB47>AC47,"○",IF(AB47<AC47,"×",IF(AB47=AC47,"△"))) -> △
B49: =O7 -> ＦＣプリメーロ | F49: =M43 -> 0 | G49: =L43 -> 0 | H49: =M45 -> 0 | I49: =L45 -> 0 | J49: =M47 -> 0 | K49: =L47 -> 0 | N49: =COUNTIF(F50:M50,"○")*3+COUNTIF(F50:M50,"△") -> 3 | O49: =F49-G49+H49-I49+J49-K49 -> 0 | R49: =AD7 -> 藤原ＦＣ | V49: =AC43 -> 0 | W49: =AB43 -> 0 | X49: =AC45 -> 0 | Y49: =AB45 -> 0 | Z49: =AC47 -> 0 | AA49: =AB47 -> 0 | AD49: =COUNTIF(V50:AC50,"○")*3+COUNTIF(V50:AC50,"△") -> 3 | AE49: =V49-W49+X49-Y49+Z49-AA49 -> 0
F50: =IF(F49>G49,"○",IF(F49<G49,"×",IF(F49=G49,"△"))) -> △ | H50: =IF(H49>I49,"○",IF(H49<I49,"×",IF(H49=I49,"△"))) -> △ | J50: =IF(J49>K49,"○",IF(J49<K49,"×",IF(J49=K49,"△"))) -> △ | V50: =IF(V49>W49,"○",IF(V49<W49,"×",IF(V49=W49,"△"))) -> △ | X50: =IF(X49>Y49,"○",IF(X49<Y49,"×",IF(X49=Y49,"△"))) -> △ | Z50: =IF(Z49>AA49,"○",IF(Z49<AA49,"×",IF(Z49=AA49,"△"))) -> △
A52: =A1 -> ■第1日 10月12日 | I52: =U10組合せ!Q3 -> １次ラウンド | T52: 第2会場 | X52: =U10組合せ!A24 -> 真岡ハイトラ運動公園運動広場1
I54: B | X54: BB
...

Sheet CD
A1: =U10組合せ!H3 -> ■第1日 10月12日 | I1: =U10組合せ!Q3 -> １次ラウンド | T1: 第3会場 | X1: =U10組合せ!A40 -> サンエコ自然の森サッカー場
I3: C | X3: CC
C6: 1 | G6: 2 | K6: 3 | O6: 4 | R6: 5 | V6: 6 | Z6: 7 | AD6: 8
C7: =U10組合せ!C40 -> 宇都宮フットボールクラブジュニア | G7: =U10組合せ!C42 -> 都賀クラブジュニア | K7: =U10組合せ!C44 -> ヴェルフェ矢板Ｕ－１２ｂｌａｎｃ | O7: =U10組合せ!C46 -> 茂木ＦＣ | R7: =U10組合せ!C48 -> 鹿沼西ＦＣ | V7: =U10組合せ!C50 -> ｕｎｉｏｎｓｐｏｒｔｓｃｌｕｂ | Z7: =U10組合せ!C52 -> 東那須野ＦＣフェニックス | AD7: =U10組合せ!C54 -> ＣＡ．アトレチコ 佐野
B15: ピッチ | AD15: 主 | AE15: ・ | AF15: 補
B16: Ａ | C16: ① | D16: 0.5 | G16: =C7 -> 宇都宮フットボールクラブジュニア | N16: =P16+P17 -> 0 | O16: （ | P16: 0 | Q16: － | R16: 0 | S16: ） | T16: =R16+R17 -> 0 | U16: =G7 -> 都賀クラブジュニア | AC16: ( | AD16: 5 | AE16: ・ | AF16: 6 | AG16: )
P17: 0 | Q17: － | R17: 0
B18: Ｂ | C18: ① | D18: 0.5 | G18: =K7 -> ヴェルフェ矢板Ｕ－１２ｂｌａｎｃ | N18: =P18+P19 -> 0 | O18: （ | P18: 0 | Q18: － | R18: 0 | S18: ） | T18: =R18+R19 -> 0 | U18: =O7 -> 茂木ＦＣ | AC18: ( | AD18: 7 | AE18: ・ | AF18: 8 | AG18: )
P19: 0 | Q19: － | R19: 0
B20: Ａ | C20: ② | D20: 0.52430556 | G20: =R7 -> 鹿沼西ＦＣ | N20: =P20+P21 -> 0 | O20: （ | P20: 0 | Q20: － | R20: 0 | S20: ） | T20: =R20+R21 -> 0 | U20: =V7 -> ｕｎｉｏｎｓｐｏｒｔｓｃｌｕｂ | AC20: ( | AD20: 1 | AE20: ・ | AF20: 2 | AG20: )
P21: 0 | Q21: － | R21: 0
B22: Ｂ | C22: ② | D22: 0.52430556 | G22: =Z7 -> 東那須野ＦＣフェニックス | N22: =P22+P23 -> 0 | O22: （ | P22: 0 | Q22: － | R22: 0 | S22: ） | T22: =R22+R23 -> 0 | U22: =AD7 -> ＣＡ．アトレチコ 佐野 | AC22: ( | AD22: 3 | AE22: ・ | AF22: 4 | AG22: )
P23: 0 | Q23: － | R23: 0
B24: Ａ | C24: ③ | D24: 0.54861111 | G24: =C7 -> 宇都宮フットボールクラブジュニア | N24: =P24+P25 -> 0 | O24: （ | P24: 0 | Q24: － | R24: 0 | S24: ） | T24: =R24+R25 -> 0 | U24: =K7 -> ヴェルフェ矢板Ｕ－１２ｂｌａｎｃ | AC24: ( | AD24: 6 | AE24: ・ | AF24: 7 | AG24: )
P25: 0 | Q25: － | R25: 0
B26: Ｂ | C26: ③ | D26: 0.54861111 | G26: =G7 -> 都賀クラブジュニア | N26: =P26+P27 -> 0 | O26: （ | P26: 0 | Q26: － | R26: 0 | S26: ） | T26: =R26+R27 -> 0 | U26: =O7 -> 茂木ＦＣ | AC26: ( | AD26: 8 | AE26: ・ | AF26: 5 | AG26: )
P27: 0 | Q27: － | R27: 0
B28: Ａ | C28: ④ | D28: 0.57291667 | G28: =R7 -> 鹿沼西ＦＣ | N28: =P28+P29 -> 0 | O28: （ | P28: 0 | Q28: － | R28: 0 | S28: ） | T28: =R28+R29 -> 0 | U28: =Z7 -> 東那須野ＦＣフェニックス | AC28: ( | AD28: 2 | AE28: ・ | AF28: 3 | AG28: )
P29: 0 | Q29: － | R29: 0
B30: Ｂ | C30: ④ | D30: 0.57291667 | G30: =V7 -> ｕｎｉｏｎｓｐｏｒｔｓｃｌｕｂ | N30: =P30+P31 -> 0 | O30: （ | P30: 0 | Q30: － | R30: 0 | S30: ） | T30: =R30+R31 -> 0 | U30: =AD7 -> ＣＡ．アトレチコ 佐野 | AC30: ( | AD30: 4 | AE30: ・ | AF30: 1 | AG30: )
P31: 0 | Q31: － | R31: 0
B32: Ａ | C32: ⑤ | D32: 0.59722222 | G32: =C7 -> 宇都宮フットボールクラブジュニア | N32: =P32+P33 -> 0 | O32: （ | P32: 0 | Q32: － | R32: 0 | S32: ） | T32: =R32+R33 -> 0 | U32: =O7 -> 茂木ＦＣ | AC32: ( | AD32: 7 | AE32: ・ | AF32: 8 | AG32: )
P33: 0 | Q33: － | R33: 0
B34: Ｂ | C34: ⑤ | D34: 0.59722222 | G34: =G7 -> 都賀クラブジュニア | N34: =P34+P35 -> 0 | O34: （ | P34: 0 | Q34: － | R34: 0 | S34: ） | T34: =R34+R35 -> 0 | U34: =K7 -> ヴェルフェ矢板Ｕ－１２ｂｌａｎｃ | AC34: ( | AD34: 5 | AE34: ・ | AF34: 6 | AG34: )
P35: 0 | Q35: － | R35: 0
B36: Ａ | C36: ⑥ | D36: 0.62152778 | G36: =R7 -> 鹿沼西ＦＣ | N36: =P36+P37 -> 0 | O36: （ | P36: 0 | Q36: － | R36: 0 | S36: ） | T36: =R36+R37 -> 0 | U36: =AD7 -> ＣＡ．アトレチコ 佐野 | AC36: ( | AD36: 3 | AE36: ・ | AF36: 4 | AG36: )
P37: 0 | Q37: － | R37: 0
B38: Ｂ | C38: ⑥ | D38: 0.62152778 | G38: =V7 -> ｕｎｉｏｎｓｐｏｒｔｓｃｌｕｂ | N38: =P38+P39 -> 0 | O38: （ | P38: 0 | Q38: － | R38: 0 | S38: ） | T38: =R38+R39 -> 0 | U38: =Z7 -> 東那須野ＦＣフェニックス | AC38: ( | AD38: 1 | AE38: ・ | AF38: 2 | AG38: )
P39: 0 | Q39: － | R39: 0
B41: =I3 &"リーグ" -> Cリーグ | F41: =B43 -> 宇都宮フットボールクラブジュニア | H41: =B45 -> 都賀クラブジュニア | J41: =B47 -> ヴェルフェ矢板Ｕ－１２ｂｌａｎｃ | L41: =B49 -> 茂木ＦＣ | N41: 勝点 | O41: 得失点 | P41: 順位 | R41: =X3 &"リーグ" -> CCリーグ | V41: =R7 -> 鹿沼西ＦＣ | X41: =V7 -> ｕｎｉｏｎｓｐｏｒｔｓｃｌｕｂ | Z41: =Z7 -> 東那須野ＦＣフェニックス | AB41: =AD7 -> ＣＡ．アトレチコ 佐野 | AD41: 勝点 | AE41: 得失点 | AF41: 順位
B43: =C7 -> 宇都宮フットボールクラブジュニア | H43: =N16 -> 0 | I43: =T16 -> 0 | J43: =N24 -> 0 | K43: =T24 -> 0 | L43: =N32 -> 0 | M43: =T32 -> 0 | N43: =COUNTIF(F44:M44,"○")*3+COUNTIF(F44:M44,"△") -> 3 | O43: =H43-I43+J43-K43+L43-M43 -> 0 | R43: =R7 -> 鹿沼西ＦＣ | X43: =N20 -> 0 | Y43: =T20 -> 0 | Z43: =N28 -> 0 | AA43: =T28 -> 0 | AB43: =N36 -> 0 | AC43: =T36 -> 0 | AD43: =COUNTIF(V44:AC44,"○")*3+COUNTIF(V44:AC44,"△") -> 3 | AE43: =X43-Y43+Z43-AA43+AB43-AC43 -> 0
H44: =IF(H43>I43,"○",IF(H43<I43,"×",IF(H43=I43,"△"))) -> △ | J44: =IF(J43>K43,"○",IF(J43<K43,"×",IF(J43=K43,"△"))) -> △ | L44: =IF(L43>M43,"○",IF(L43<M43,"×",IF(L43=M43,"△"))) -> △ | X44: =IF(X43>Y43,"○",IF(X43<Y43,"×",IF(X43=Y43,"△"))) -> △ | Z44: =IF(Z43>AA43,"○",IF(Z43<AA43,"×",IF(Z43=AA43,"△"))) -> △ | AB44: =IF(AB43>AC43,"○",IF(AB43<AC43,"×",IF(AB43=AC43,"△"))) -> △
B45: =G7 -> 都賀クラブジュニア | F45: =I43 -> 0 | G45: =H43 -> 0 | J45: =N34 -> 0 | K45: =T34 -> 0 | L45: =N26 -> 0 | M45: =T26 -> 0 | N45: =COUNTIF(F46:M46,"○")*3+COUNTIF(F46:M46,"△") -> 3 | O45: =F45-G45+J45-K45+L45-M45 -> 0 | R45: =V7 -> ｕｎｉｏｎｓｐｏｒｔｓｃｌｕｂ | V45: =Y43 -> 0 | W45: =X43 -> 0 | Z45: =N38 -> 0 | AA45: =T38 -> 0 | AB45: =N30 -> 0 | AC45: =T30 -> 0 | AD45: =COUNTIF(V46:AC46,"○")*3+COUNTIF(V46:AC46,"△") -> 3 | AE45: =V45-W45+Z45-AA45+AB45-AC45 -> 0
F46: =IF(F45>G45,"○",IF(F45<G45,"×",IF(F45=G45,"△"))) -> △ | J46: =IF(J45>K45,"○",IF(J45<K45,"×",IF(J45=K45,"△"))) -> △ | L46: =IF(L45>M45,"○",IF(L45<M45,"×",IF(L45=M45,"△"))) -> △ | V46: =IF(V45>W45,"○",IF(V45<W45,"×",IF(V45=W45,"△"))) -> △ | Z46: =IF(Z45>AA45,"○",IF(Z45<AA45,"×",IF(Z45=AA45,"△"))) -> △ | AB46: =IF(AB45>AC45,"○",IF(AB45<AC45,"×",IF(AB45=AC45,"△"))) -> △
B47: =K7 -> ヴェルフェ矢板Ｕ－１２ｂｌａｎｃ | F47: =K43 -> 0 | G47: =J43 -> 0 | H47: =K45 -> 0 | I47: =J45 -> 0 | L47: =N18 -> 0 | M47: =T18 -> 0 | N47: =COUNTIF(F48:M48,"○")*3+COUNTIF(F48:M48,"△") -> 3 | O47: =F47-G47+H47-I47+L47-M47 -> 0 | R47: =Z7 -> 東那須野ＦＣフェニックス | V47: =AA43 -> 0 | W47: =Z43 -> 0 | X47: =AA45 -> 0 | Y47: =Z45 -> 0 | AB47: =N22 -> 0 | AC47: =T22 -> 0 | AD47: =COUNTIF(V48:AC48,"○")*3+COUNTIF(V48:AC48,"△") -> 3 | AE47: =V47-W47+X47-Y47+AB47-AC47 -> 0
F48: =IF(F47>G47,"○",IF(F47<G47,"×",IF(F47=G47,"△"))) -> △ | H48: =IF(H47>I47,"○",IF(H47<I47,"×",IF(H47=I47,"△"))) -> △ | L48: =IF(L47>M47,"○",IF(L47<M47,"×",IF(L47=M47,"△"))) -> △ | V48: =IF(V47>W47,"○",IF(V47<W47,"×",IF(V47=W47,"△"))) -> △ | X48: =IF(X47>Y47,"○",IF(X47<Y47,"×",IF(X47=Y47,"△"))) -> △ | AB48: =IF(AB47>AC47,"○",IF(AB47<AC47,"×",IF(AB47=AC47,"△"))) -> △
B49: =O7 -> 茂木ＦＣ | F49: =M43 -> 0 | G49: =L43 -> 0 | H49: =M45 -> 0 | I49: =L45 -> 0 | J49: =M47 -> 0 | K49: =L47 -> 0 | N49: =COUNTIF(F50:M50,"○")*3+COUNTIF(F50:M50,"△") -> 3 | O49: =F49-G49+H49-I49+J49-K49 -> 0 | R49: =AD7 -> ＣＡ．アトレチコ 佐野 | V49: =AC43 -> 0 | W49: =AB43 -> 0 | X49: =AC45 -> 0 | Y49: =AB45 -> 0 | Z49: =AC47 -> 0 | AA49: =AB47 -> 0 | AD49: =COUNTIF(V50:AC50,"○")*3+COUNTIF(V50:AC50,"△") -> 3 | AE49: =V49-W49+X49-Y49+Z49-AA49 -> 0
F50: =IF(F49>G49,"○",IF(F49<G49,"×",IF(F49=G49,"△"))) -> △ | H50: =IF(H49>I49,"○",IF(H49<I49,"×",IF(H49=I49,"△"))) -> △ | J50: =IF(J49>K49,"○",IF(J49<K49,"×",IF(J49=K49,"△"))) -> △ | V50: =IF(V49>W49,"○",IF(V49<W49,"×",IF(V49=W49,"△"))) -> △ | X50: =IF(X49>Y49,"○",IF(X49<Y49,"×",IF(X49=Y49,"△"))) -> △ | Z50: =IF(Z49>AA49,"○",IF(Z49<AA49,"×",IF(Z49=AA49,"△"))) -> △
A52: =A1 -> ■第1日 10月12日 | I52: =I1 -> １次ラウンド | T52: 第4会場 | X52: =U10組合せ!A56 -> 芳賀町けやき台サッカー場
J54: D | W54: DD
...

Sheet FF
A1: =U10組合せ!H3 -> ■第1日 10月12日 | I1: =U10組合せ!Q3 -> １次ラウンド | T1: 第5会場 | X1: =U10組合せ!A72 -> 別処山公園サッカー場
I3: E | X3: EE
C6: 1 | G6: 2 | K6: 3 | O6: 4 | R6: 5 | V6: 6 | Z6: 7 | AD6: 8
C7: =U10組合せ!C72 -> 今市ＦＣプログレス | G7: =U10組合せ!C74 -> 佐野ＳＳＳ | K7: =U10組合せ!C76 -> カテット白沢サッカースクール | O7: =U10組合せ!C78 -> ＳＡＫＵＲＡ ＦＯＯＴＢＡＬＬ ＣＬＵＢ Ｊｒ | R7: =U10組合せ!C80 -> 南河内サッカースポーツ少年団 | V7: =U10組合せ!C82 -> ヴェルフェ矢板Ｕ－１２ＶＥＲＴ | Z7: =U10組合せ!C84 -> 高林・青木フットボールクラブ | AD7: =U10組合せ!C86 -> ＪＦＣファイターズ
B15: ピッチ | AD15: 主 | AE15: ・ | AF15: 補
B16: Ａ | C16: ① | D16: 0.5 | G16: =C7 -> 今市ＦＣプログレス | N16: =P16+P17 -> 0 | O16: （ | P16: 0 | Q16: － | R16: 0 | S16: ） | T16: =R16+R17 -> 0 | U16: =G7 -> 佐野ＳＳＳ | AC16: ( | AD16: 5 | AE16: ・ | AF16: 6 | AG16: )
P17: 0 | Q17: － | R17: 0
B18: Ｂ | C18: ① | D18: 0.5 | G18: =K7 -> カテット白沢サッカースクール | N18: =P18+P19 -> 0 | O18: （ | P18: 0 | Q18: － | R18: 0 | S18: ） | T18: =R18+R19 -> 0 | U18: =O7 -> ＳＡＫＵＲＡ ＦＯＯＴＢＡＬＬ ＣＬＵＢ Ｊｒ | AC18: ( | AD18: 7 | AE18: ・ | AF18: 8 | AG18: )
P19: 0 | Q19: － | R19: 0
B20: Ａ | C20: ② | D20: 0.52430556 | G20: =R7 -> 南河内サッカースポーツ少年団 | N20: =P20+P21 -> 0 | O20: （ | P20: 0 | Q20: － | R20: 0 | S20: ） | T20: =R20+R21 -> 0 | U20: =V7 -> ヴェルフェ矢板Ｕ－１２ＶＥＲＴ | AC20: ( | AD20: 1 | AE20: ・ | AF20: 2 | AG20: )
P21: 0 | Q21: － | R21: 0
B22: Ｂ | C22: ② | D22: 0.52430556 | G22: =Z7 -> 高林・青木フットボールクラブ | N22: =P22+P23 -> 0 | O22: （ | P22: 0 | Q22: － | R22: 0 | S22: ） | T22: =R22+R23 -> 0 | U22: =AD7 -> ＪＦＣファイターズ | AC22: ( | AD22: 3 | AE22: ・ | AF22: 4 | AG22: )
P23: 0 | Q23: － | R23: 0
B24: Ａ | C24: ③ | D24: 0.54861111 | G24: =C7 -> 今市ＦＣプログレス | N24: =P24+P25 -> 0 | O24: （ | P24: 0 | Q24: － | R24: 0 | S24: ） | T24: =R24+R25 -> 0 | U24: =K7 -> カテット白沢サッカースクール | AC24: ( | AD24: 6 | AE24: ・ | AF24: 7 | AG24: )
P25: 0 | Q25: － | R25: 0
B26: Ｂ | C26: ③ | D26: 0.54861111 | G26: =G7 -> 佐野ＳＳＳ | N26: =P26+P27 -> 0 | O26: （ | P26: 0 | Q26: － | R26: 0 | S26: ） | T26: =R26+R27 -> 0 | U26: =O7 -> ＳＡＫＵＲＡ ＦＯＯＴＢＡＬＬ ＣＬＵＢ Ｊｒ | AC26: ( | AD26: 8 | AE26: ・ | AF26: 5 | AG26: )
P27: 0 | Q27: － | R27: 0
B28: Ａ | C28: ④ | D28: 0.57291667 | G28: =R7 -> 南河内サッカースポーツ少年団 | N28: =P28+P29 -> 0 | O28: （ | P28: 0 | Q28: － | R28: 0 | S28: ） | T28: =R28+R29 -> 0 | U28: =Z7 -> 高林・青木フットボールクラブ | AC28: ( | AD28: 2 | AE28: ・ | AF28: 3 | AG28: )
P29: 0 | Q29: － | R29: 0
B30: Ｂ | C30: ④ | D30: 0.57291667 | G30: =V7 -> ヴェルフェ矢板Ｕ－１２ＶＥＲＴ | N30: =P30+P31 -> 0 | O30: （ | P30: 0 | Q30: － | R30: 0 | S30: ） | T30: =R30+R31 -> 0 | U30: =AD7 -> ＪＦＣファイターズ | AC30: ( | AD30: 4 | AE30: ・ | AF30: 1 | AG30: )
P31: 0 | Q31: － | R31: 0
B32: Ａ | C32: ⑤ | D32: 0.59722222 | G32: =C7 -> 今市ＦＣプログレス | N32: =P32+P33 -> 0 | O32: （ | P32: 0 | Q32: － | R32: 0 | S32: ） | T32: =R32+R33 -> 0 | U32: =O7 -> ＳＡＫＵＲＡ ＦＯＯＴＢＡＬＬ ＣＬＵＢ Ｊｒ | AC32: ( | AD32: 7 | AE32: ・ | AF32: 8 | AG32: )
P33: 0 | Q33: － | R33: 0
B34: Ｂ | C34: ⑤ | D34: 0.59722222 | G34: =G7 -> 佐野ＳＳＳ | N34: =P34+P35 -> 0 | O34: （ | P34: 0 | Q34: － | R34: 0 | S34: ） | T34: =R34+R35 -> 0 | U34: =K7 -> カテット白沢サッカースクール | AC34: ( | AD34: 5 | AE34: ・ | AF34: 6 | AG34: )
P35: 0 | Q35: － | R35: 0
B36: Ａ | C36: ⑥ | D36: 0.62152778 | G36: =R7 -> 南河内サッカースポーツ少年団 | N36: =P36+P37 -> 0 | O36: （ | P36: 0 | Q36: － | R36: 0 | S36: ） | T36: =R36+R37 -> 0 | U36: =AD7 -> ＪＦＣファイターズ | AC36: ( | AD36: 3 | AE36: ・ | AF36: 4 | AG36: )
P37: 0 | Q37: － | R37: 0
B38: Ｂ | C38: ⑥ | D38: 0.62152778 | G38: =V7 -> ヴェルフェ矢板Ｕ－１２ＶＥＲＴ | N38: =P38+P39 -> 0 | O38: （ | P38: 0 | Q38: － | R38: 0 | S38: ） | T38: =R38+R39 -> 0 | U38: =Z7 -> 高林・青木フットボールクラブ | AC38: ( | AD38: 1 | AE38: ・ | AF38: 2 | AG38: )
P39: 0 | Q39: － | R39: 0
B41: =I3 &"リーグ" -> Eリーグ | F41: =B43 -> 今市ＦＣプログレス | H41: =B45 -> 佐野ＳＳＳ | J41: =B47 -> カテット白沢サッカースクール | L41: =B49 -> ＳＡＫＵＲＡ ＦＯＯＴＢＡＬＬ ＣＬＵＢ Ｊｒ | N41: 勝点 | O41: 得失点 | P41: 順位 | R41: =X3 &"リーグ" -> EEリーグ | V41: =R7 -> 南河内サッカースポーツ少年団 | X41: =V7 -> ヴェルフェ矢板Ｕ－１２ＶＥＲＴ | Z41: =Z7 -> 高林・青木フットボールクラブ | AB41: =AD7 -> ＪＦＣファイターズ | AD41: 勝点 | AE41: 得失点 | AF41: 順位
B43: =C7 -> 今市ＦＣプログレス | H43: =N16 -> 0 | I43: =T16 -> 0 | J43: =N24 -> 0 | K43: =T24 -> 0 | L43: =N32 -> 0 | M43: =T32 -> 0 | N43: =COUNTIF(F44:M44,"○")*3+COUNTIF(F44:M44,"△") -> 3 | O43: =H43-I43+J43-K43+L43-M43 -> 0 | R43: =R7 -> 南河内サッカースポーツ少年団 | X43: =N20 -> 0 | Y43: =T20 -> 0 | Z43: =N28 -> 0 | AA43: =T28 -> 0 | AB43: =N36 -> 0 | AC43: =T36 -> 0 | AD43: =COUNTIF(V44:AC44,"○")*3+COUNTIF(V44:AC44,"△") -> 3 | AE43: =X43-Y43+Z43-AA43+AB43-AC43 -> 0
H44: =IF(H43>I43,"○",IF(H43<I43,"×",IF(H43=I43,"△"))) -> △ | J44: =IF(J43>K43,"○",IF(J43<K43,"×",IF(J43=K43,"△"))) -> △ | L44: =IF(L43>M43,"○",IF(L43<M43,"×",IF(L43=M43,"△"))) -> △ | X44: =IF(X43>Y43,"○",IF(X43<Y43,"×",IF(X43=Y43,"△"))) -> △ | Z44: =IF(Z43>AA43,"○",IF(Z43<AA43,"×",IF(Z43=AA43,"△"))) -> △ | AB44: =IF(AB43>AC43,"○",IF(AB43<AC43,"×",IF(AB43=AC43,"△"))) -> △
B45: =G7 -> 佐野ＳＳＳ | F45: =I43 -> 0 | G45: =H43 -> 0 | J45: =N34 -> 0 | K45: =T34 -> 0 | L45: =N26 -> 0 | M45: =T26 -> 0 | N45: =COUNTIF(F46:M46,"○")*3+COUNTIF(F46:M46,"△") -> 3 | O45: =F45-G45+J45-K45+L45-M45 -> 0 | R45: =V7 -> ヴェルフェ矢板Ｕ－１２ＶＥＲＴ | V45: =Y43 -> 0 | W45: =X43 -> 0 | Z45: =N38 -> 0 | AA45: =T38 -> 0 | AB45: =N30 -> 0 | AC45: =T30 -> 0 | AD45: =COUNTIF(V46:AC46,"○")*3+COUNTIF(V46:AC46,"△") -> 3 | AE45: =V45-W45+Z45-AA45+AB45-AC45 -> 0
F46: =IF(F45>G45,"○",IF(F45<G45,"×",IF(F45=G45,"△"))) -> △ | J46: =IF(J45>K45,"○",IF(J45<K45,"×",IF(J45=K45,"△"))) -> △ | L46: =IF(L45>M45,"○",IF(L45<M45,"×",IF(L45=M45,"△"))) -> △ | V46: =IF(V45>W45,"○",IF(V45<W45,"×",IF(V45=W45,"△"))) -> △ | Z46: =IF(Z45>AA45,"○",IF(Z45<AA45,"×",IF(Z45=AA45,"△"))) -> △ | AB46: =IF(AB45>AC45,"○",IF(AB45<AC45,"×",IF(AB45=AC45,"△"))) -> △
B47: =K7 -> カテット白沢サッカースクール | F47: =K43 -> 0 | G47: =J43 -> 0 | H47: =K45 -> 0 | I47: =J45 -> 0 | L47: =N18 -> 0 | M47: =T18 -> 0 | N47: =COUNTIF(F48:M48,"○")*3+COUNTIF(F48:M48,"△") -> 3 | O47: =F47-G47+H47-I47+L47-M47 -> 0 | R47: =Z7 -> 高林・青木フットボールクラブ | V47: =AA43 -> 0 | W47: =Z43 -> 0 | X47: =AA45 -> 0 | Y47: =Z45 -> 0 | AB47: =N22 -> 0 | AC47: =T22 -> 0 | AD47: =COUNTIF(V48:AC48,"○")*3+COUNTIF(V48:AC48,"△") -> 3 | AE47: =V47-W47+X47-Y47+AB47-AC47 -> 0
F48: =IF(F47>G47,"○",IF(F47<G47,"×",IF(F47=G47,"△"))) -> △ | H48: =IF(H47>I47,"○",IF(H47<I47,"×",IF(H47=I47,"△"))) -> △ | L48: =IF(L47>M47,"○",IF(L47<M47,"×",IF(L47=M47,"△"))) -> △ | V48: =IF(V47>W47,"○",IF(V47<W47,"×",IF(V47=W47,"△"))) -> △ | X48: =IF(X47>Y47,"○",IF(X47<Y47,"×",IF(X47=Y47,"△"))) -> △ | AB48: =IF(AB47>AC47,"○",IF(AB47<AC47,"×",IF(AB47=AC47,"△"))) -> △
B49: =O7 -> ＳＡＫＵＲＡ ＦＯＯＴＢＡＬＬ ＣＬＵＢ Ｊｒ | F49: =M43 -> 0 | G49: =L43 -> 0 | H49: =M45 -> 0 | I49: =L45 -> 0 | J49: =M47 -> 0 | K49: =L47 -> 0 | N49: =COUNTIF(F50:M50,"○")*3+COUNTIF(F50:M50,"△") -> 3 | O49: =F49-G49+H49-I49+J49-K49 -> 0 | R49: =AD7 -> ＪＦＣファイターズ | V49: =AC43 -> 0 | W49: =AB43 -> 0 | X49: =AC45 -> 0 | Y49: =AB45 -> 0 | Z49: =AC47 -> 0 | AA49: =AB47 -> 0 | AD49: =COUNTIF(V50:AC50,"○")*3+COUNTIF(V50:AC50,"△") -> 3 | AE49: =V49-W49+X49-Y49+Z49-AA49 -> 0
F50: =IF(F49>G49,"○",IF(F49<G49,"×",IF(F49=G49,"△"))) -> △ | H50: =IF(H49>I49,"○",IF(H49<I49,"×",IF(H49=I49,"△"))) -> △ | J50: =IF(J49>K49,"○",IF(J49<K49,"×",IF(J49=K49,"△"))) -> △ | V50: =IF(V49>W49,"○",IF(V49<W49,"×",IF(V49=W49,"△"))) -> △ | X50: =IF(X49>Y49,"○",IF(X49<Y49,"×",IF(X49=Y49,"△"))) -> △ | Z50: =IF(Z49>AA49,"○",IF(Z49<AA49,"×",IF(Z49=AA49,"△"))) -> △
A52: =A1 -> ■第1日 10月12日 | I52: =U10組合せ!Q3 -> １次ラウンド | T52: 第6会場 | X52: =U10組合せ!A88 -> 宇都宮市サッカー場（平出）
I54: F | X54: FF
...

Sheet GH
A1: =U10組合せ!H3 -> ■第1日 10月12日 | I1: =U10組合せ!Q3 -> １次ラウンド | T1: 第7会場 | X1: =U10組合せ!A104 -> 宇都宮市石井緑地サッカー場1・2
I3: G | X3: GG
C6: 1 | G6: 2 | K6: 3 | O6: 4 | R6: 5 | V6: 6 | Z6: 7 | AD6: 8
C7: =U10組合せ!C104 -> 御厨フットボールクラブ | G7: =U10組合せ!C106 -> ＬＥＯＮＥ ＳＳ | K7: =U10組合せ!C108 -> 高根沢西フットボールクラブ | O7: =U10組合せ!C110 -> ＦＣ城東 | R7: =U10組合せ!C112 -> ともぞうサッカークラブ Ｕ１０ | V7: =U10組合せ!C114 -> ＦＣあわのレジェンド | Z7: =U10組合せ!C116 -> ＦＣ Ａｖａｎｃｅ | AD7: =U10組合せ!C118 -> 野木ＳＳＳ
B15: ピッチ | AD15: 主 | AE15: ・ | AF15: 補
B16: Ａ | C16: ① | D16: 0.5 | G16: =C7 -> 御厨フットボールクラブ | N16: =P16+P17 -> 0 | O16: （ | P16: 0 | Q16: － | R16: 0 | S16: ） | T16: =R16+R17 -> 0 | U16: =G7 -> ＬＥＯＮＥ ＳＳ | AC16: ( | AD16: 5 | AE16: ・ | AF16: 6 | AG16: )
P17: 0 | Q17: － | R17: 0
B18: Ｂ | C18: ① | D18: 0.5 | G18: =K7 -> 高根沢西フットボールクラブ | N18: =P18+P19 -> 0 | O18: （ | P18: 0 | Q18: － | R18: 0 | S18: ） | T18: =R18+R19 -> 0 | U18: =O7 -> ＦＣ城東 | AC18: ( | AD18: 7 | AE18: ・ | AF18: 8 | AG18: )
P19: 0 | Q19: － | R19: 0
B20: Ａ | C20: ② | D20: 0.52430556 | G20: =R7 -> ともぞうサッカークラブ Ｕ１０ | N20: =P20+P21 -> 0 | O20: （ | P20: 0 | Q20: － | R20: 0 | S20: ） | T20: =R20+R21 -> 0 | U20: =V7 -> ＦＣあわのレジェンド | AC20: ( | AD20: 1 | AE20: ・ | AF20: 2 | AG20: )
P21: 0 | Q21: － | R21: 0
B22: Ｂ | C22: ② | D22: 0.52430556 | G22: =Z7 -> ＦＣ Ａｖａｎｃｅ | N22: =P22+P23 -> 0 | O22: （ | P22: 0 | Q22: － | R22: 0 | S22: ） | T22: =R22+R23 -> 0 | U22: =AD7 -> 野木ＳＳＳ | AC22: ( | AD22: 3 | AE22: ・ | AF22: 4 | AG22: )
P23: 0 | Q23: － | R23: 0
B24: Ａ | C24: ③ | D24: 0.54861111 | G24: =C7 -> 御厨フットボールクラブ | N24: =P24+P25 -> 0 | O24: （ | P24: 0 | Q24: － | R24: 0 | S24: ） | T24: =R24+R25 -> 0 | U24: =K7 -> 高根沢西フットボールクラブ | AC24: ( | AD24: 6 | AE24: ・ | AF24: 7 | AG24: )
P25: 0 | Q25: － | R25: 0
B26: Ｂ | C26: ③ | D26: 0.54861111 | G26: =G7 -> ＬＥＯＮＥ ＳＳ | N26: =P26+P27 -> 0 | O26: （ | P26: 0 | Q26: － | R26: 0 | S26: ） | T26: =R26+R27 -> 0 | U26: =O7 -> ＦＣ城東 | AC26: ( | AD26: 8 | AE26: ・ | AF26: 5 | AG26: )
P27: 0 | Q27: － | R27: 0
B28: Ａ | C28: ④ | D28: 0.57291667 | G28: =R7 -> ともぞうサッカークラブ Ｕ１０ | N28: =P28+P29 -> 0 | O28: （ | P28: 0 | Q28: － | R28: 0 | S28: ） | T28: =R28+R29 -> 0 | U28: =Z7 -> ＦＣ Ａｖａｎｃｅ | AC28: ( | AD28: 2 | AE28: ・ | AF28: 3 | AG28: )
P29: 0 | Q29: － | R29: 0
B30: Ｂ | C30: ④ | D30: 0.57291667 | G30: =V7 -> ＦＣあわのレジェンド | N30: =P30+P31 -> 0 | O30: （ | P30: 0 | Q30: － | R30: 0 | S30: ） | T30: =R30+R31 -> 0 | U30: =AD7 -> 野木ＳＳＳ | AC30: ( | AD30: 4 | AE30: ・ | AF30: 1 | AG30: )
P31: 0 | Q31: － | R31: 0
B32: Ａ | C32: ⑤ | D32: 0.59722222 | G32: =C7 -> 御厨フットボールクラブ | N32: =P32+P33 -> 0 | O32: （ | P32: 0 | Q32: － | R32: 0 | S32: ） | T32: =R32+R33 -> 0 | U32: =O7 -> ＦＣ城東 | AC32: ( | AD32: 7 | AE32: ・ | AF32: 8 | AG32: )
P33: 0 | Q33: － | R33: 0
B34: Ｂ | C34: ⑤ | D34: 0.59722222 | G34: =G7 -> ＬＥＯＮＥ ＳＳ | N34: =P34+P35 -> 0 | O34: （ | P34: 0 | Q34: － | R34: 0 | S34: ） | T34: =R34+R35 -> 0 | U34: =K7 -> 高根沢西フットボールクラブ | AC34: ( | AD34: 5 | AE34: ・ | AF34: 6 | AG34: )
P35: 0 | Q35: － | R35: 0
B36: Ａ | C36: ⑥ | D36: 0.62152778 | G36: =R7 -> ともぞうサッカークラブ Ｕ１０ | N36: =P36+P37 -> 0 | O36: （ | P36: 0 | Q36: － | R36: 0 | S36: ） | T36: =R36+R37 -> 0 | U36: =AD7 -> 野木ＳＳＳ | AC36: ( | AD36: 3 | AE36: ・ | AF36: 4 | AG36: )
P37: 0 | Q37: － | R37: 0
B38: Ｂ | C38: ⑥ | D38: 0.62152778 | G38: =V7 -> ＦＣあわのレジェンド | N38: =P38+P39 -> 0 | O38: （ | P38: 0 | Q38: － | R38: 0 | S38: ） | T38: =R38+R39 -> 0 | U38: =Z7 -> ＦＣ Ａｖａｎｃｅ | AC38: ( | AD38: 1 | AE38: ・ | AF38: 2 | AG38: )
P39: 0 | Q39: － | R39: 0
B41: =I3 &"リーグ" -> Gリーグ | F41: =B43 -> 御厨フットボールクラブ | H41: =B45 -> ＬＥＯＮＥ ＳＳ | J41: =B47 -> 高根沢西フットボールクラブ | L41: =B49 -> ＦＣ城東 | N41: 勝点 | O41: 得失点 | P41: 順位 | R41: =X3 &"リーグ" -> GGリーグ | V41: =R7 -> ともぞうサッカークラブ Ｕ１０ | X41: =V7 -> ＦＣあわのレジェンド | Z41: =Z7 -> ＦＣ Ａｖａｎｃｅ | AB41: =AD7 -> 野木ＳＳＳ | AD41: 勝点 | AE41: 得失点 | AF41: 順位
B43: =C7 -> 御厨フットボールクラブ | H43: =N16 -> 0 | I43: =T16 -> 0 | J43: =N24 -> 0 | K43: =T24 -> 0 | L43: =N32 -> 0 | M43: =T32 -> 0 | N43: =COUNTIF(F44:M44,"○")*3+COUNTIF(F44:M44,"△") -> 3 | O43: =H43-I43+J43-K43+L43-M43 -> 0 | R43: =R7 -> ともぞうサッカークラブ Ｕ１０ | X43: =N20 -> 0 | Y43: =T20 -> 0 | Z43: =N28 -> 0 | AA43: =T28 -> 0 | AB43: =N36 -> 0 | AC43: =T36 -> 0 | AD43: =COUNTIF(V44:AC44,"○")*3+COUNTIF(V44:AC44,"△") -> 3 | AE43: =X43-Y43+Z43-AA43+AB43-AC43 -> 0
H44: =IF(H43>I43,"○",IF(H43<I43,"×",IF(H43=I43,"△"))) -> △ | J44: =IF(J43>K43,"○",IF(J43<K43,"×",IF(J43=K43,"△"))) -> △ | L44: =IF(L43>M43,"○",IF(L43<M43,"×",IF(L43=M43,"△"))) -> △ | X44: =IF(X43>Y43,"○",IF(X43<Y43,"×",IF(X43=Y43,"△"))) -> △ | Z44: =IF(Z43>AA43,"○",IF(Z43<AA43,"×",IF(Z43=AA43,"△"))) -> △ | AB44: =IF(AB43>AC43,"○",IF(AB43<AC43,"×",IF(AB43=AC43,"△"))) -> △
B45: =G7 -> ＬＥＯＮＥ ＳＳ | F45: =I43 -> 0 | G45: =H43 -> 0 | J45: =N34 -> 0 | K45: =T34 -> 0 | L45: =N26 -> 0 | M45: =T26 -> 0 | N45: =COUNTIF(F46:M46,"○")*3+COUNTIF(F46:M46,"△") -> 3 | O45: =F45-G45+J45-K45+L45-M45 -> 0 | R45: =V7 -> ＦＣあわのレジェンド | V45: =Y43 -> 0 | W45: =X43 -> 0 | Z45: =N38 -> 0 | AA45: =T38 -> 0 | AB45: =N30 -> 0 | AC45: =T30 -> 0 | AD45: =COUNTIF(V46:AC46,"○")*3+COUNTIF(V46:AC46,"△") -> 3 | AE45: =V45-W45+Z45-AA45+AB45-AC45 -> 0
F46: =IF(F45>G45,"○",IF(F45<G45,"×",IF(F45=G45,"△"))) -> △ | J46: =IF(J45>K45,"○",IF(J45<K45,"×",IF(J45=K45,"△"))) -> △ | L46: =IF(L45>M45,"○",IF(L45<M45,"×",IF(L45=M45,"△"))) -> △ | V46: =IF(V45>W45,"○",IF(V45<W45,"×",IF(V45=W45,"△"))) -> △ | Z46: =IF(Z45>AA45,"○",IF(Z45<AA45,"×",IF(Z45=AA45,"△"))) -> △ | AB46: =IF(AB45>AC45,"○",IF(AB45<AC45,"×",IF(AB45=AC45,"△"))) -> △
B47: =K7 -> 高根沢西フットボールクラブ | F47: =K43 -> 0 | G47: =J43 -> 0 | H47: =K45 -> 0 | I47: =J45 -> 0 | L47: =N18 -> 0 | M47: =T18 -> 0 | N47: =COUNTIF(F48:M48,"○")*3+COUNTIF(F48:M48,"△") -> 3 | O47: =F47-G47+H47-I47+L47-M47 -> 0 | R47: =Z7 -> ＦＣ Ａｖａｎｃｅ | V47: =AA43 -> 0 | W47: =Z43 -> 0 | X47: =AA45 -> 0 | Y47: =Z45 -> 0 | AB47: =N22 -> 0 | AC47: =T22 -> 0 | AD47: =COUNTIF(V48:AC48,"○")*3+COUNTIF(V48:AC48,"△") -> 3 | AE47: =V47-W47+X47-Y47+AB47-AC47 -> 0
F48: =IF(F47>G47,"○",IF(F47<G47,"×",IF(F47=G47,"△"))) -> △ | H48: =IF(H47>I47,"○",IF(H47<I47,"×",IF(H47=I47,"△"))) -> △ | L48: =IF(L47>M47,"○",IF(L47<M47,"×",IF(L47=M47,"△"))) -> △ | V48: =IF(V47>W47,"○",IF(V47<W47,"×",IF(V47=W47,"△"))) -> △ | X48: =IF(X47>Y47,"○",IF(X47<Y47,"×",IF(X47=Y47,"△"))) -> △ | AB48: =IF(AB47>AC47,"○",IF(AB47<AC47,"×",IF(AB47=AC47,"△"))) -> △
B49: =O7 -> ＦＣ城東 | F49: =M43 -> 0 | G49: =L43 -> 0 | H49: =M45 -> 0 | I49: =L45 -> 0 | J49: =M47 -> 0 | K49: =L47 -> 0 | N49: =COUNTIF(F50:M50,"○")*3+COUNTIF(F50:M50,"△") -> 3 | O49: =F49-G49+H49-I49+J49-K49 -> 0 | R49: =AD7 -> 野木ＳＳＳ | V49: =AC43 -> 0 | W49: =AB43 -> 0 | X49: =AC45 -> 0 | Y49: =AB45 -> 0 | Z49: =AC47 -> 0 | AA49: =AB47 -> 0 | AD49: =COUNTIF(V50:AC50,"○")*3+COUNTIF(V50:AC50,"△") -> 3 | AE49: =V49-W49+X49-Y49+Z49-AA49 -> 0
F50: =IF(F49>G49,"○",IF(F49<G49,"×",IF(F49=G49,"△"))) -> △ | H50: =IF(H49>I49,"○",IF(H49<I49,"×",IF(H49=I49,"△"))) -> △ | J50: =IF(J49>K49,"○",IF(J49<K49,"×",IF(J49=K49,"△"))) -> △ | V50: =IF(V49>W49,"○",IF(V49<W49,"×",IF(V49=W49,"△"))) -> △ | X50: =IF(X49>Y49,"○",IF(X49<Y49,"×",IF(X49=Y49,"△"))) -> △ | Z50: =IF(Z49>AA49,"○",IF(Z49<AA49,"×",IF(Z49=AA49,"△"))) -> △
A52: =A1 -> ■第1日 10月12日 | I52: =I1 -> １次ラウンド | T52: 第8会場 | X52: =U10組合せ!A120 -> 真岡市鬼怒自然公園サッカー場BB
J54: H | W54: HH
...

Sheet IJ
A1: =U10組合せ!H3 -> ■第1日 10月12日 | I1: =U10組合せ!Q3 -> １次ラウンド | T1: 第9会場 | X1: =U10組合せ!AH120 -> 城見ヶ丘運動公園サッカー場
I3: I | X3: II
C6: 1 | G6: 2 | K6: 3 | O6: 4 | R6: 5 | V6: 6 | Z6: 7 | AD6: 8
C7: =U10組合せ!AF134 -> 大谷東フットボールクラブ | G7: =U10組合せ!AF132 -> ＦＣアリーバ | K7: =U10組合せ!AF130 -> 那須野ヶ原ＦＣボンジボーラ イエロー | O7: =U10組合せ!AF128 -> ＢＬＵＥ ＴＨＵＮＤＥＲ | R7: =U10組合せ!AF126 -> ＪＦＣアミスタ市貝 | V7: =U10組合せ!AF124 -> ＦＣ毛野 | Z7: =U10組合せ!AF122 -> 石井フットボールクラブ | AD7: =U10組合せ!AF120 -> 鹿沼東光ＦＣ
B15: ピッチ | AD15: 主 | AE15: ・ | AF15: 補
B16: Ａ | C16: ① | D16: 0.5 | G16: =C7 -> 大谷東フットボールクラブ | N16: =P16+P17 -> 0 | O16: （ | P16: 0 | Q16: － | R16: 0 | S16: ） | T16: =R16+R17 -> 0 | U16: =G7 -> ＦＣアリーバ | AC16: ( | AD16: 5 | AE16: ・ | AF16: 6 | AG16: )
P17: 0 | Q17: － | R17: 0
B18: Ｂ | C18: ① | D18: 0.5 | G18: =K7 -> 那須野ヶ原ＦＣボンジボーラ イエロー | N18: =P18+P19 -> 0 | O18: （ | P18: 0 | Q18: － | R18: 0 | S18: ） | T18: =R18+R19 -> 0 | U18: =O7 -> ＢＬＵＥ ＴＨＵＮＤＥＲ | AC18: ( | AD18: 7 | AE18: ・ | AF18: 8 | AG18: )
P19: 0 | Q19: － | R19: 0
B20: Ａ | C20: ② | D20: 0.52430556 | G20: =R7 -> ＪＦＣアミスタ市貝 | N20: =P20+P21 -> 0 | O20: （ | P20: 0 | Q20: － | R20: 0 | S20: ） | T20: =R20+R21 -> 0 | U20: =V7 -> ＦＣ毛野 | AC20: ( | AD20: 1 | AE20: ・ | AF20: 2 | AG20: )
P21: 0 | Q21: － | R21: 0
B22: Ｂ | C22: ② | D22: 0.52430556 | G22: =Z7 -> 石井フットボールクラブ | N22: =P22+P23 -> 0 | O22: （ | P22: 0 | Q22: － | R22: 0 | S22: ） | T22: =R22+R23 -> 0 | U22: =AD7 -> 鹿沼東光ＦＣ | AC22: ( | AD22: 3 | AE22: ・ | AF22: 4 | AG22: )
P23: 0 | Q23: － | R23: 0
B24: Ａ | C24: ③ | D24: 0.54861111 | G24: =C7 -> 大谷東フットボールクラブ | N24: =P24+P25 -> 0 | O24: （ | P24: 0 | Q24: － | R24: 0 | S24: ） | T24: =R24+R25 -> 0 | U24: =K7 -> 那須野ヶ原ＦＣボンジボーラ イエロー | AC24: ( | AD24: 6 | AE24: ・ | AF24: 7 | AG24: )
P25: 0 | Q25: － | R25: 0
B26: Ｂ | C26: ③ | D26: 0.54861111 | G26: =G7 -> ＦＣアリーバ | N26: =P26+P27 -> 0 | O26: （ | P26: 0 | Q26: － | R26: 0 | S26: ） | T26: =R26+R27 -> 0 | U26: =O7 -> ＢＬＵＥ ＴＨＵＮＤＥＲ | AC26: ( | AD26: 8 | AE26: ・ | AF26: 5 | AG26: )
P27: 0 | Q27: － | R27: 0
B28: Ａ | C28: ④ | D28: 0.57291667 | G28: =R7 -> ＪＦＣアミスタ市貝 | N28: =P28+P29 -> 0 | O28: （ | P28: 0 | Q28: － | R28: 0 | S28: ） | T28: =R28+R29 -> 0 | U28: =Z7 -> 石井フットボールクラブ | AC28: ( | AD28: 2 | AE28: ・ | AF28: 3 | AG28: )
P29: 0 | Q29: － | R29: 0
B30: Ｂ | C30: ④ | D30: 0.57291667 | G30: =V7 -> ＦＣ毛野 | N30: =P30+P31 -> 0 | O30: （ | P30: 0 | Q30: － | R30: 0 | S30: ） | T30: =R30+R31 -> 0 | U30: =AD7 -> 鹿沼東光ＦＣ | AC30: ( | AD30: 4 | AE30: ・ | AF30: 1 | AG30: )
P31: 0 | Q31: － | R31: 0
B32: Ａ | C32: ⑤ | D32: 0.59722222 | G32: =C7 -> 大谷東フットボールクラブ | N32: =P32+P33 -> 0 | O32: （ | P32: 0 | Q32: － | R32: 0 | S32: ） | T32: =R32+R33 -> 0 | U32: =O7 -> ＢＬＵＥ ＴＨＵＮＤＥＲ | AC32: ( | AD32: 7 | AE32: ・ | AF32: 8 | AG32: )
P33: 0 | Q33: － | R33: 0
B34: Ｂ | C34: ⑤ | D34: 0.59722222 | G34: =G7 -> ＦＣアリーバ | N34: =P34+P35 -> 0 | O34: （ | P34: 0 | Q34: － | R34: 0 | S34: ） | T34: =R34+R35 -> 0 | U34: =K7 -> 那須野ヶ原ＦＣボンジボーラ イエロー | AC34: ( | AD34: 5 | AE34: ・ | AF34: 6 | AG34: )
P35: 0 | Q35: － | R35: 0
B36: Ａ | C36: ⑥ | D36: 0.62152778 | G36: =R7 -> ＪＦＣアミスタ市貝 | N36: =P36+P37 -> 0 | O36: （ | P36: 0 | Q36: － | R36: 0 | S36: ） | T36: =R36+R37 -> 0 | U36: =AD7 -> 鹿沼東光ＦＣ | AC36: ( | AD36: 3 | AE36: ・ | AF36: 4 | AG36: )
P37: 0 | Q37: － | R37: 0
B38: Ｂ | C38: ⑥ | D38: 0.62152778 | G38: =V7 -> ＦＣ毛野 | N38: =P38+P39 -> 0 | O38: （ | P38: 0 | Q38: － | R38: 0 | S38: ） | T38: =R38+R39 -> 0 | U38: =Z7 -> 石井フットボールクラブ | AC38: ( | AD38: 1 | AE38: ・ | AF38: 2 | AG38: )
P39: 0 | Q39: － | R39: 0
B41: =I3 &"リーグ" -> Iリーグ | F41: =B43 -> 大谷東フットボールクラブ | H41: =B45 -> ＦＣアリーバ | J41: =B47 -> 那須野ヶ原ＦＣボンジボーラ イエロー | L41: =B49 -> ＢＬＵＥ ＴＨＵＮＤＥＲ | N41: 勝点 | O41: 得失点 | P41: 順位 | R41: =X3 &"リーグ" -> IIリーグ | V41: =R7 -> ＪＦＣアミスタ市貝 | X41: =V7 -> ＦＣ毛野 | Z41: =Z7 -> 石井フットボールクラブ | AB41: =AD7 -> 鹿沼東光ＦＣ | AD41: 勝点 | AE41: 得失点 | AF41: 順位
B43: =C7 -> 大谷東フットボールクラブ | H43: =N16 -> 0 | I43: =T16 -> 0 | J43: =N24 -> 0 | K43: =T24 -> 0 | L43: =N32 -> 0 | M43: =T32 -> 0 | N43: =COUNTIF(F44:M44,"○")*3+COUNTIF(F44:M44,"△") -> 3 | O43: =H43-I43+J43-K43+L43-M43 -> 0 | R43: =R7 -> ＪＦＣアミスタ市貝 | X43: =N20 -> 0 | Y43: =T20 -> 0 | Z43: =N28 -> 0 | AA43: =T28 -> 0 | AB43: =N36 -> 0 | AC43: =T36 -> 0 | AD43: =COUNTIF(V44:AC44,"○")*3+COUNTIF(V44:AC44,"△") -> 3 | AE43: =X43-Y43+Z43-AA43+AB43-AC43 -> 0
H44: =IF(H43>I43,"○",IF(H43<I43,"×",IF(H43=I43,"△"))) -> △ | J44: =IF(J43>K43,"○",IF(J43<K43,"×",IF(J43=K43,"△"))) -> △ | L44: =IF(L43>M43,"○",IF(L43<M43,"×",IF(L43=M43,"△"))) -> △ | X44: =IF(X43>Y43,"○",IF(X43<Y43,"×",IF(X43=Y43,"△"))) -> △ | Z44: =IF(Z43>AA43,"○",IF(Z43<AA43,"×",IF(Z43=AA43,"△"))) -> △ | AB44: =IF(AB43>AC43,"○",IF(AB43<AC43,"×",IF(AB43=AC43,"△"))) -> △
B45: =G7 -> ＦＣアリーバ | F45: =I43 -> 0 | G45: =H43 -> 0 | J45: =N34 -> 0 | K45: =T34 -> 0 | L45: =N26 -> 0 | M45: =T26 -> 0 | N45: =COUNTIF(F46:M46,"○")*3+COUNTIF(F46:M46,"△") -> 3 | O45: =F45-G45+J45-K45+L45-M45 -> 0 | R45: =V7 -> ＦＣ毛野 | V45: =Y43 -> 0 | W45: =X43 -> 0 | Z45: =N38 -> 0 | AA45: =T38 -> 0 | AB45: =N30 -> 0 | AC45: =T30 -> 0 | AD45: =COUNTIF(V46:AC46,"○")*3+COUNTIF(V46:AC46,"△") -> 3 | AE45: =V45-W45+Z45-AA45+AB45-AC45 -> 0
F46: =IF(F45>G45,"○",IF(F45<G45,"×",IF(F45=G45,"△"))) -> △ | J46: =IF(J45>K45,"○",IF(J45<K45,"×",IF(J45=K45,"△"))) -> △ | L46: =IF(L45>M45,"○",IF(L45<M45,"×",IF(L45=M45,"△"))) -> △ | V46: =IF(V45>W45,"○",IF(V45<W45,"×",IF(V45=W45,"△"))) -> △ | Z46: =IF(Z45>AA45,"○",IF(Z45<AA45,"×",IF(Z45=AA45,"△"))) -> △ | AB46: =IF(AB45>AC45,"○",IF(AB45<AC45,"×",IF(AB45=AC45,"△"))) -> △
B47: =K7 -> 那須野ヶ原ＦＣボンジボーラ イエロー | F47: =K43 -> 0 | G47: =J43 -> 0 | H47: =K45 -> 0 | I47: =J45 -> 0 | L47: =N18 -> 0 | M47: =T18 -> 0 | N47: =COUNTIF(F48:M48,"○")*3+COUNTIF(F48:M48,"△") -> 3 | O47: =F47-G47+H47-I47+L47-M47 -> 0 | R47: =Z7 -> 石井フットボールクラブ | V47: =AA43 -> 0 | W47: =Z43 -> 0 | X47: =AA45 -> 0 | Y47: =Z45 -> 0 | AB47: =N22 -> 0 | AC47: =T22 -> 0 | AD47: =COUNTIF(V48:AC48,"○")*3+COUNTIF(V48:AC48,"△") -> 3 | AE47: =V47-W47+X47-Y47+AB47-AC47 -> 0
F48: =IF(F47>G47,"○",IF(F47<G47,"×",IF(F47=G47,"△"))) -> △ | H48: =IF(H47>I47,"○",IF(H47<I47,"×",IF(H47=I47,"△"))) -> △ | L48: =IF(L47>M47,"○",IF(L47<M47,"×",IF(L47=M47,"△"))) -> △ | V48: =IF(V47>W47,"○",IF(V47<W47,"×",IF(V47=W47,"△"))) -> △ | X48: =IF(X47>Y47,"○",IF(X47<Y47,"×",IF(X47=Y47,"△"))) -> △ | AB48: =IF(AB47>AC47,"○",IF(AB47<AC47,"×",IF(AB47=AC47,"△"))) -> △
B49: =O7 -> ＢＬＵＥ ＴＨＵＮＤＥＲ | F49: =M43 -> 0 | G49: =L43 -> 0 | H49: =M45 -> 0 | I49: =L45 -> 0 | J49: =M47 -> 0 | K49: =L47 -> 0 | N49: =COUNTIF(F50:M50,"○")*3+COUNTIF(F50:M50,"△") -> 3 | O49: =F49-G49+H49-I49+J49-K49 -> 0 | R49: =AD7 -> 鹿沼東光ＦＣ | V49: =AC43 -> 0 | W49: =AB43 -> 0 | X49: =AC45 -> 0 | Y49: =AB45 -> 0 | Z49: =AC47 -> 0 | AA49: =AB47 -> 0 | AD49: =COUNTIF(V50:AC50,"○")*3+COUNTIF(V50:AC50,"△") -> 3 | AE49: =V49-W49+X49-Y49+Z49-AA49 -> 0
F50: =IF(F49>G49,"○",IF(F49<G49,"×",IF(F49=G49,"△"))) -> △ | H50: =IF(H49>I49,"○",IF(H49<I49,"×",IF(H49=I49,"△"))) -> △ | J50: =IF(J49>K49,"○",IF(J49<K49,"×",IF(J49=K49,"△"))) -> △ | V50: =IF(V49>W49,"○",IF(V49<W49,"×",IF(V49=W49,"△"))) -> △ | X50: =IF(X49>Y49,"○",IF(X49<Y49,"×",IF(X49=Y49,"△"))) -> △ | Z50: =IF(Z49>AA49,"○",IF(Z49<AA49,"×",IF(Z49=AA49,"△"))) -> △
A52: =A1 -> ■第1日 10月12日 | I52: =U10組合せ!Q3 -> １次ラウンド | T52: 第10会場 | X52: =U10組合せ!AH104 -> 宇都宮市石井緑地サッカー場5・6
I54: J | X54: JJ
...

Sheet KL
A1: =U10組合せ!H3 -> ■第1日 10月12日 | I1: =U10組合せ!Q3 -> １次ラウンド | T1: 第11会場 | X1: =U10組合せ!AH88 -> 宇都宮市石井緑地サッカー場3・4
I3: K | X3: KK
C6: 1 | G6: 2 | K6: 3 | O6: 4 | R6: 5 | V6: 6 | Z6: 7 | AD6: 8
C7: =U10組合せ!AF102 -> 亀山サッカークラブ | G7: =U10組合せ!AF100 -> ＦＣ黒羽 | K7: =U10組合せ!AF98 -> ＩＳＯＳＯＣＣＥＲＣＬＵＢセグンド | O7: =U10組合せ!AF96 -> しおやＦＣヴィガウス | R7: =U10組合せ!AF94 -> ＦＣスポルト宇都宮 | V7: =U10組合せ!AF92 -> 北押原ＦＣ | Z7: =U10組合せ!AF90 -> ＦＣカンピオーネ | AD7: =U10組合せ!AF88 -> ＦＣ西那須２１アストロ
B15: ピッチ | AD15: 主 | AE15: ・ | AF15: 補
B16: Ａ | C16: ① | D16: 0.5 | G16: =C7 -> 亀山サッカークラブ | N16: =P16+P17 -> 0 | O16: （ | P16: 0 | Q16: － | R16: 0 | S16: ） | T16: =R16+R17 -> 0 | U16: =G7 -> ＦＣ黒羽 | AC16: ( | AD16: 5 | AE16: ・ | AF16: 6 | AG16: )
P17: 0 | Q17: － | R17: 0
B18: Ｂ | C18: ① | D18: 0.5 | G18: =K7 -> ＩＳＯＳＯＣＣＥＲＣＬＵＢセグンド | N18: =P18+P19 -> 0 | O18: （ | P18: 0 | Q18: － | R18: 0 | S18: ） | T18: =R18+R19 -> 0 | U18: =O7 -> しおやＦＣヴィガウス | AC18: ( | AD18: 7 | AE18: ・ | AF18: 8 | AG18: )
P19: 0 | Q19: － | R19: 0
B20: Ａ | C20: ② | D20: 0.52430556 | G20: =R7 -> ＦＣスポルト宇都宮 | N20: =P20+P21 -> 0 | O20: （ | P20: 0 | Q20: － | R20: 0 | S20: ） | T20: =R20+R21 -> 0 | U20: =V7 -> 北押原ＦＣ | AC20: ( | AD20: 1 | AE20: ・ | AF20: 2 | AG20: )
P21: 0 | Q21: － | R21: 0
B22: Ｂ | C22: ② | D22: 0.52430556 | G22: =Z7 -> ＦＣカンピオーネ | N22: =P22+P23 -> 0 | O22: （ | P22: 0 | Q22: － | R22: 0 | S22: ） | T22: =R22+R23 -> 0 | U22: =AD7 -> ＦＣ西那須２１アストロ | AC22: ( | AD22: 3 | AE22: ・ | AF22: 4 | AG22: )
P23: 0 | Q23: － | R23: 0
B24: Ａ | C24: ③ | D24: 0.54861111 | G24: =C7 -> 亀山サッカークラブ | N24: =P24+P25 -> 0 | O24: （ | P24: 0 | Q24: － | R24: 0 | S24: ） | T24: =R24+R25 -> 0 | U24: =K7 -> ＩＳＯＳＯＣＣＥＲＣＬＵＢセグンド | AC24: ( | AD24: 6 | AE24: ・ | AF24: 7 | AG24: )
P25: 0 | Q25: － | R25: 0
B26: Ｂ | C26: ③ | D26: 0.54861111 | G26: =G7 -> ＦＣ黒羽 | N26: =P26+P27 -> 0 | O26: （ | P26: 0 | Q26: － | R26: 0 | S26: ） | T26: =R26+R27 -> 0 | U26: =O7 -> しおやＦＣヴィガウス | AC26: ( | AD26: 8 | AE26: ・ | AF26: 5 | AG26: )
P27: 0 | Q27: － | R27: 0
B28: Ａ | C28: ④ | D28: 0.57291667 | G28: =R7 -> ＦＣスポルト宇都宮 | N28: =P28+P29 -> 0 | O28: （ | P28: 0 | Q28: － | R28: 0 | S28: ） | T28: =R28+R29 -> 0 | U28: =Z7 -> ＦＣカンピオーネ | AC28: ( | AD28: 2 | AE28: ・ | AF28: 3 | AG28: )
P29: 0 | Q29: － | R29: 0
B30: Ｂ | C30: ④ | D30: 0.57291667 | G30: =V7 -> 北押原ＦＣ | N30: =P30+P31 -> 0 | O30: （ | P30: 0 | Q30: － | R30: 0 | S30: ） | T30: =R30+R31 -> 0 | U30: =AD7 -> ＦＣ西那須２１アストロ | AC30: ( | AD30: 4 | AE30: ・ | AF30: 1 | AG30: )
P31: 0 | Q31: － | R31: 0
B32: Ａ | C32: ⑤ | D32: 0.59722222 | G32: =C7 -> 亀山サッカークラブ | N32: =P32+P33 -> 0 | O32: （ | P32: 0 | Q32: － | R32: 0 | S32: ） | T32: =R32+R33 -> 0 | U32: =O7 -> しおやＦＣヴィガウス | AC32: ( | AD32: 7 | AE32: ・ | AF32: 8 | AG32: )
P33: 0 | Q33: － | R33: 0
B34: Ｂ | C34: ⑤ | D34: 0.59722222 | G34: =G7 -> ＦＣ黒羽 | N34: =P34+P35 -> 0 | O34: （ | P34: 0 | Q34: － | R34: 0 | S34: ） | T34: =R34+R35 -> 0 | U34: =K7 -> ＩＳＯＳＯＣＣＥＲＣＬＵＢセグンド | AC34: ( | AD34: 5 | AE34: ・ | AF34: 6 | AG34: )
P35: 0 | Q35: － | R35: 0
B36: Ａ | C36: ⑥ | D36: 0.62152778 | G36: =R7 -> ＦＣスポルト宇都宮 | N36: =P36+P37 -> 0 | O36: （ | P36: 0 | Q36: － | R36: 0 | S36: ） | T36: =R36+R37 -> 0 | U36: =AD7 -> ＦＣ西那須２１アストロ | AC36: ( | AD36: 3 | AE36: ・ | AF36: 4 | AG36: )
P37: 0 | Q37: － | R37: 0
B38: Ｂ | C38: ⑥ | D38: 0.62152778 | G38: =V7 -> 北押原ＦＣ | N38: =P38+P39 -> 0 | O38: （ | P38: 0 | Q38: － | R38: 0 | S38: ） | T38: =R38+R39 -> 0 | U38: =Z7 -> ＦＣカンピオーネ | AC38: ( | AD38: 1 | AE38: ・ | AF38: 2 | AG38: )
P39: 0 | Q39: － | R39: 0
B41: =I3 &"リーグ" -> Kリーグ | F41: =B43 -> 亀山サッカークラブ | H41: =B45 -> ＦＣ黒羽 | J41: =B47 -> ＩＳＯＳＯＣＣＥＲＣＬＵＢセグンド | L41: =B49 -> しおやＦＣヴィガウス | N41: 勝点 | O41: 得失点 | P41: 順位 | R41: =X3 &"リーグ" -> KKリーグ | V41: =R7 -> ＦＣスポルト宇都宮 | X41: =V7 -> 北押原ＦＣ | Z41: =Z7 -> ＦＣカンピオーネ | AB41: =AD7 -> ＦＣ西那須２１アストロ | AD41: 勝点 | AE41: 得失点 | AF41: 順位
B43: =C7 -> 亀山サッカークラブ | H43: =N16 -> 0 | I43: =T16 -> 0 | J43: =N24 -> 0 | K43: =T24 -> 0 | L43: =N32 -> 0 | M43: =T32 -> 0 | N43: =COUNTIF(F44:M44,"○")*3+COUNTIF(F44:M44,"△") -> 3 | O43: =H43-I43+J43-K43+L43-M43 -> 0 | R43: =R7 -> ＦＣスポルト宇都宮 | X43: =N20 -> 0 | Y43: =T20 -> 0 | Z43: =N28 -> 0 | AA43: =T28 -> 0 | AB43: =N36 -> 0 | AC43: =T36 -> 0 | AD43: =COUNTIF(V44:AC44,"○")*3+COUNTIF(V44:AC44,"△") -> 3 | AE43: =X43-Y43+Z43-AA43+AB43-AC43 -> 0
H44: =IF(H43>I43,"○",IF(H43<I43,"×",IF(H43=I43,"△"))) -> △ | J44: =IF(J43>K43,"○",IF(J43<K43,"×",IF(J43=K43,"△"))) -> △ | L44: =IF(L43>M43,"○",IF(L43<M43,"×",IF(L43=M43,"△"))) -> △ | X44: =IF(X43>Y43,"○",IF(X43<Y43,"×",IF(X43=Y43,"△"))) -> △ | Z44: =IF(Z43>AA43,"○",IF(Z43<AA43,"×",IF(Z43=AA43,"△"))) -> △ | AB44: =IF(AB43>AC43,"○",IF(AB43<AC43,"×",IF(AB43=AC43,"△"))) -> △
B45: =G7 -> ＦＣ黒羽 | F45: =I43 -> 0 | G45: =H43 -> 0 | J45: =N34 -> 0 | K45: =T34 -> 0 | L45: =N26 -> 0 | M45: =T26 -> 0 | N45: =COUNTIF(F46:M46,"○")*3+COUNTIF(F46:M46,"△") -> 3 | O45: =F45-G45+J45-K45+L45-M45 -> 0 | R45: =V7 -> 北押原ＦＣ | V45: =Y43 -> 0 | W45: =X43 -> 0 | Z45: =N38 -> 0 | AA45: =T38 -> 0 | AB45: =N30 -> 0 | AC45: =T30 -> 0 | AD45: =COUNTIF(V46:AC46,"○")*3+COUNTIF(V46:AC46,"△") -> 3 | AE45: =V45-W45+Z45-AA45+AB45-AC45 -> 0
F46: =IF(F45>G45,"○",IF(F45<G45,"×",IF(F45=G45,"△"))) -> △ | J46: =IF(J45>K45,"○",IF(J45<K45,"×",IF(J45=K45,"△"))) -> △ | L46: =IF(L45>M45,"○",IF(L45<M45,"×",IF(L45=M45,"△"))) -> △ | V46: =IF(V45>W45,"○",IF(V45<W45,"×",IF(V45=W45,"△"))) -> △ | Z46: =IF(Z45>AA45,"○",IF(Z45<AA45,"×",IF(Z45=AA45,"△"))) -> △ | AB46: =IF(AB45>AC45,"○",IF(AB45<AC45,"×",IF(AB45=AC45,"△"))) -> △
B47: =K7 -> ＩＳＯＳＯＣＣＥＲＣＬＵＢセグンド | F47: =K43 -> 0 | G47: =J43 -> 0 | H47: =K45 -> 0 | I47: =J45 -> 0 | L47: =N18 -> 0 | M47: =T18 -> 0 | N47: =COUNTIF(F48:M48,"○")*3+COUNTIF(F48:M48,"△") -> 3 | O47: =F47-G47+H47-I47+L47-M47 -> 0 | R47: =Z7 -> ＦＣカンピオーネ | V47: =AA43 -> 0 | W47: =Z43 -> 0 | X47: =AA45 -> 0 | Y47: =Z45 -> 0 | AB47: =N22 -> 0 | AC47: =T22 -> 0 | AD47: =COUNTIF(V48:AC48,"○")*3+COUNTIF(V48:AC48,"△") -> 3 | AE47: =V47-W47+X47-Y47+AB47-AC47 -> 0
F48: =IF(F47>G47,"○",IF(F47<G47,"×",IF(F47=G47,"△"))) -> △ | H48: =IF(H47>I47,"○",IF(H47<I47,"×",IF(H47=I47,"△"))) -> △ | L48: =IF(L47>M47,"○",IF(L47<M47,"×",IF(L47=M47,"△"))) -> △ | V48: =IF(V47>W47,"○",IF(V47<W47,"×",IF(V47=W47,"△"))) -> △ | X48: =IF(X47>Y47,"○",IF(X47<Y47,"×",IF(X47=Y47,"△"))) -> △ | AB48: =IF(AB47>AC47,"○",IF(AB47<AC47,"×",IF(AB47=AC47,"△"))) -> △
B49: =O7 -> しおやＦＣヴィガウス | F49: =M43 -> 0 | G49: =L43 -> 0 | H49: =M45 -> 0 | I49: =L45 -> 0 | J49: =M47 -> 0 | K49: =L47 -> 0 | N49: =COUNTIF(F50:M50,"○")*3+COUNTIF(F50:M50,"△") -> 3 | O49: =F49-G49+H49-I49+J49-K49 -> 0 | R49: =AD7 -> ＦＣ西那須２１アストロ | V49: =AC43 -> 0 | W49: =AB43 -> 0 | X49: =AC45 -> 0 | Y49: =AB45 -> 0 | Z49: =AC47 -> 0 | AA49: =AB47 -> 0 | AD49: =COUNTIF(V50:AC50,"○")*3+COUNTIF(V50:AC50,"△") -> 3 | AE49: =V49-W49+X49-Y49+Z49-AA49 -> 0
F50: =IF(F49>G49,"○",IF(F49<G49,"×",IF(F49=G49,"△"))) -> △ | H50: =IF(H49>I49,"○",IF(H49<I49,"×",IF(H49=I49,"△"))) -> △ | J50: =IF(J49>K49,"○",IF(J49<K49,"×",IF(J49=K49,"△"))) -> △ | V50: =IF(V49>W49,"○",IF(V49<W49,"×",IF(V49=W49,"△"))) -> △ | X50: =IF(X49>Y49,"○",IF(X49<Y49,"×",IF(X49=Y49,"△"))) -> △ | Z50: =IF(Z49>AA49,"○",IF(Z49<AA49,"×",IF(Z49=AA49,"△"))) -> △
A52: =A1 -> ■第1日 10月12日 | I52: =I1 -> １次ラウンド | T52: 第12会場 | X52: =U10組合せ!AH72 -> 真岡市鬼怒自然公園サッカー場BA
J54: L | W54: LL
...

Sheet MN
A1: =U10組合せ!H3 -> ■第1日 10月12日 | I1: =U10組合せ!Q3 -> １次ラウンド | T1: 第13会場 | X1: =U10組合せ!AH56 -> 真岡ハイトラ運動公園多目的広場
I3: M | X3: MM
C6: 1 | G6: 2 | K6: 3 | O6: 4 | R6: 5 | V6: 6 | Z6: 7 | AD6: 8
C7: =U10組合せ!AF70 -> 坂西ジュニオール | G7: =U10組合せ!AF68 -> 国本ジュニアサッカークラブ | K7: =U10組合せ!AF66 -> 西原ＦＣ | O7: =U10組合せ!AF64 -> Ｐｅｇａｓｕｓ藤岡２００７ | R7: =U10組合せ!AF62 -> ＨＦＣ．ＺＥＲＯ | V7: =U10組合せ!AF60 -> ＳＵＧＡＯサッカークラブ | Z7: =U10組合せ!AF58 -> 阿久津サッカークラブ | AD7: =U10組合せ!AF56 -> ＦＣ ＶＡＬＯＮ
B15: ピッチ | AD15: 主 | AE15: ・ | AF15: 補
B16: Ａ | C16: ① | D16: 0.5 | G16: =C7 -> 坂西ジュニオール | N16: =P16+P17 -> 0 | O16: （ | P16: 0 | Q16: － | R16: 0 | S16: ） | T16: =R16+R17 -> 0 | U16: =G7 -> 国本ジュニアサッカークラブ | AC16: ( | AD16: 5 | AE16: ・ | AF16: 6 | AG16: )
P17: 0 | Q17: － | R17: 0
B18: Ｂ | C18: ① | D18: 0.5 | G18: =K7 -> 西原ＦＣ | N18: =P18+P19 -> 0 | O18: （ | P18: 0 | Q18: － | R18: 0 | S18: ） | T18: =R18+R19 -> 0 | U18: =O7 -> Ｐｅｇａｓｕｓ藤岡２００７ | AC18: ( | AD18: 7 | AE18: ・ | AF18: 8 | AG18: )
P19: 0 | Q19: － | R19: 0
B20: Ａ | C20: ② | D20: 0.52430556 | G20: =R7 -> ＨＦＣ．ＺＥＲＯ | N20: =P20+P21 -> 0 | O20: （ | P20: 0 | Q20: － | R20: 0 | S20: ） | T20: =R20+R21 -> 0 | U20: =V7 -> ＳＵＧＡＯサッカークラブ | AC20: ( | AD20: 1 | AE20: ・ | AF20: 2 | AG20: )
P21: 0 | Q21: － | R21: 0
B22: Ｂ | C22: ② | D22: 0.52430556 | G22: =Z7 -> 阿久津サッカークラブ | N22: =P22+P23 -> 0 | O22: （ | P22: 0 | Q22: － | R22: 0 | S22: ） | T22: =R22+R23 -> 0 | U22: =AD7 -> ＦＣ ＶＡＬＯＮ | AC22: ( | AD22: 3 | AE22: ・ | AF22: 4 | AG22: )
P23: 0 | Q23: － | R23: 0
B24: Ａ | C24: ③ | D24: 0.54861111 | G24: =C7 -> 坂西ジュニオール | N24: =P24+P25 -> 0 | O24: （ | P24: 0 | Q24: － | R24: 0 | S24: ） | T24: =R24+R25 -> 0 | U24: =K7 -> 西原ＦＣ | AC24: ( | AD24: 6 | AE24: ・ | AF24: 7 | AG24: )
P25: 0 | Q25: － | R25: 0
B26: Ｂ | C26: ③ | D26: 0.54861111 | G26: =G7 -> 国本ジュニアサッカークラブ | N26: =P26+P27 -> 0 | O26: （ | P26: 0 | Q26: － | R26: 0 | S26: ） | T26: =R26+R27 -> 0 | U26: =O7 -> Ｐｅｇａｓｕｓ藤岡２００７ | AC26: ( | AD26: 8 | AE26: ・ | AF26: 5 | AG26: )
P27: 0 | Q27: － | R27: 0
B28: Ａ | C28: ④ | D28: 0.57291667 | G28: =R7 -> ＨＦＣ．ＺＥＲＯ | N28: =P28+P29 -> 0 | O28: （ | P28: 0 | Q28: － | R28: 0 | S28: ） | T28: =R28+R29 -> 0 | U28: =Z7 -> 阿久津サッカークラブ | AC28: ( | AD28: 2 | AE28: ・ | AF28: 3 | AG28: )
P29: 0 | Q29: － | R29: 0
B30: Ｂ | C30: ④ | D30: 0.57291667 | G30: =V7 -> ＳＵＧＡＯサッカークラブ | N30: =P30+P31 -> 0 | O30: （ | P30: 0 | Q30: － | R30: 0 | S30: ） | T30: =R30+R31 -> 0 | U30: =AD7 -> ＦＣ ＶＡＬＯＮ | AC30: ( | AD30: 4 | AE30: ・ | AF30: 1 | AG30: )
P31: 0 | Q31: － | R31: 0
B32: Ａ | C32: ⑤ | D32: 0.59722222 | G32: =C7 -> 坂西ジュニオール | N32: =P32+P33 -> 0 | O32: （ | P32: 0 | Q32: － | R32: 0 | S32: ） | T32: =R32+R33 -> 0 | U32: =O7 -> Ｐｅｇａｓｕｓ藤岡２００７ | AC32: ( | AD32: 7 | AE32: ・ | AF32: 8 | AG32: )
P33: 0 | Q33: － | R33: 0
B34: Ｂ | C34: ⑤ | D34: 0.59722222 | G34: =G7 -> 国本ジュニアサッカークラブ | N34: =P34+P35 -> 0 | O34: （ | P34: 0 | Q34: － | R34: 0 | S34: ） | T34: =R34+R35 -> 0 | U34: =K7 -> 西原ＦＣ | AC34: ( | AD34: 5 | AE34: ・ | AF34: 6 | AG34: )
P35: 0 | Q35: － | R35: 0
B36: Ａ | C36: ⑥ | D36: 0.62152778 | G36: =R7 -> ＨＦＣ．ＺＥＲＯ | N36: =P36+P37 -> 0 | O36: （ | P36: 0 | Q36: － | R36: 0 | S36: ） | T36: =R36+R37 -> 0 | U36: =AD7 -> ＦＣ ＶＡＬＯＮ | AC36: ( | AD36: 3 | AE36: ・ | AF36: 4 | AG36: )
P37: 0 | Q37: － | R37: 0
B38: Ｂ | C38: ⑥ | D38: 0.62152778 | G38: =V7 -> ＳＵＧＡＯサッカークラブ | N38: =P38+P39 -> 0 | O38: （ | P38: 0 | Q38: － | R38: 0 | S38: ） | T38: =R38+R39 -> 0 | U38: =Z7 -> 阿久津サッカークラブ | AC38: ( | AD38: 1 | AE38: ・ | AF38: 2 | AG38: )
P39: 0 | Q39: － | R39: 0
B41: =I3 &"リーグ" -> Mリーグ | F41: =B43 -> 坂西ジュニオール | H41: =B45 -> 国本ジュニアサッカークラブ | J41: =B47 -> 西原ＦＣ | L41: =B49 -> Ｐｅｇａｓｕｓ藤岡２００７ | N41: 勝点 | O41: 得失点 | P41: 順位 | R41: =X3 &"リーグ" -> MMリーグ | V41: =R7 -> ＨＦＣ．ＺＥＲＯ | X41: =V7 -> ＳＵＧＡＯサッカークラブ | Z41: =Z7 -> 阿久津サッカークラブ | AB41: =AD7 -> ＦＣ ＶＡＬＯＮ | AD41: 勝点 | AE41: 得失点 | AF41: 順位
B43: =C7 -> 坂西ジュニオール | H43: =N16 -> 0 | I43: =T16 -> 0 | J43: =N24 -> 0 | K43: =T24 -> 0 | L43: =N32 -> 0 | M43: =T32 -> 0 | N43: =COUNTIF(F44:M44,"○")*3+COUNTIF(F44:M44,"△") -> 3 | O43: =H43-I43+J43-K43+L43-M43 -> 0 | R43: =R7 -> ＨＦＣ．ＺＥＲＯ | X43: =N20 -> 0 | Y43: =T20 -> 0 | Z43: =N28 -> 0 | AA43: =T28 -> 0 | AB43: =N36 -> 0 | AC43: =T36 -> 0 | AD43: =COUNTIF(V44:AC44,"○")*3+COUNTIF(V44:AC44,"△") -> 3 | AE43: =X43-Y43+Z43-AA43+AB43-AC43 -> 0
H44: =IF(H43>I43,"○",IF(H43<I43,"×",IF(H43=I43,"△"))) -> △ | J44: =IF(J43>K43,"○",IF(J43<K43,"×",IF(J43=K43,"△"))) -> △ | L44: =IF(L43>M43,"○",IF(L43<M43,"×",IF(L43=M43,"△"))) -> △ | X44: =IF(X43>Y43,"○",IF(X43<Y43,"×",IF(X43=Y43,"△"))) -> △ | Z44: =IF(Z43>AA43,"○",IF(Z43<AA43,"×",IF(Z43=AA43,"△"))) -> △ | AB44: =IF(AB43>AC43,"○",IF(AB43<AC43,"×",IF(AB43=AC43,"△"))) -> △
B45: =G7 -> 国本ジュニアサッカークラブ | F45: =I43 -> 0 | G45: =H43 -> 0 | J45: =N34 -> 0 | K45: =T34 -> 0 | L45: =N26 -> 0 | M45: =T26 -> 0 | N45: =COUNTIF(F46:M46,"○")*3+COUNTIF(F46:M46,"△") -> 3 | O45: =F45-G45+J45-K45+L45-M45 -> 0 | R45: =V7 -> ＳＵＧＡＯサッカークラブ | V45: =Y43 -> 0 | W45: =X43 -> 0 | Z45: =N38 -> 0 | AA45: =T38 -> 0 | AB45: =N30 -> 0 | AC45: =T30 -> 0 | AD45: =COUNTIF(V46:AC46,"○")*3+COUNTIF(V46:AC46,"△") -> 3 | AE45: =V45-W45+Z45-AA45+AB45-AC45 -> 0
F46: =IF(F45>G45,"○",IF(F45<G45,"×",IF(F45=G45,"△"))) -> △ | J46: =IF(J45>K45,"○",IF(J45<K45,"×",IF(J45=K45,"△"))) -> △ | L46: =IF(L45>M45,"○",IF(L45<M45,"×",IF(L45=M45,"△"))) -> △ | V46: =IF(V45>W45,"○",IF(V45<W45,"×",IF(V45=W45,"△"))) -> △ | Z46: =IF(Z45>AA45,"○",IF(Z45<AA45,"×",IF(Z45=AA45,"△"))) -> △ | AB46: =IF(AB45>AC45,"○",IF(AB45<AC45,"×",IF(AB45=AC45,"△"))) -> △
B47: =K7 -> 西原ＦＣ | F47: =K43 -> 0 | G47: =J43 -> 0 | H47: =K45 -> 0 | I47: =J45 -> 0 | L47: =N18 -> 0 | M47: =T18 -> 0 | N47: =COUNTIF(F48:M48,"○")*3+COUNTIF(F48:M48,"△") -> 3 | O47: =F47-G47+H47-I47+L47-M47 -> 0 | R47: =Z7 -> 阿久津サッカークラブ | V47: =AA43 -> 0 | W47: =Z43 -> 0 | X47: =AA45 -> 0 | Y47: =Z45 -> 0 | AB47: =N22 -> 0 | AC47: =T22 -> 0 | AD47: =COUNTIF(V48:AC48,"○")*3+COUNTIF(V48:AC48,"△") -> 3 | AE47: =V47-W47+X47-Y47+AB47-AC47 -> 0
F48: =IF(F47>G47,"○",IF(F47<G47,"×",IF(F47=G47,"△"))) -> △ | H48: =IF(H47>I47,"○",IF(H47<I47,"×",IF(H47=I47,"△"))) -> △ | L48: =IF(L47>M47,"○",IF(L47<M47,"×",IF(L47=M47,"△"))) -> △ | V48: =IF(V47>W47,"○",IF(V47<W47,"×",IF(V47=W47,"△"))) -> △ | X48: =IF(X47>Y47,"○",IF(X47<Y47,"×",IF(X47=Y47,"△"))) -> △ | AB48: =IF(AB47>AC47,"○",IF(AB47<AC47,"×",IF(AB47=AC47,"△"))) -> △
B49: =O7 -> Ｐｅｇａｓｕｓ藤岡２００７ | F49: =M43 -> 0 | G49: =L43 -> 0 | H49: =M45 -> 0 | I49: =L45 -> 0 | J49: =M47 -> 0 | K49: =L47 -> 0 | N49: =COUNTIF(F50:M50,"○")*3+COUNTIF(F50:M50,"△") -> 3 | O49: =F49-G49+H49-I49+J49-K49 -> 0 | R49: =AD7 -> ＦＣ ＶＡＬＯＮ | V49: =AC43 -> 0 | W49: =AB43 -> 0 | X49: =AC45 -> 0 | Y49: =AB45 -> 0 | Z49: =AC47 -> 0 | AA49: =AB47 -> 0 | AD49: =COUNTIF(V50:AC50,"○")*3+COUNTIF(V50:AC50,"△") -> 3 | AE49: =V49-W49+X49-Y49+Z49-AA49 -> 0
F50: =IF(F49>G49,"○",IF(F49<G49,"×",IF(F49=G49,"△"))) -> △ | H50: =IF(H49>I49,"○",IF(H49<I49,"×",IF(H49=I49,"△"))) -> △ | J50: =IF(J49>K49,"○",IF(J49<K49,"×",IF(J49=K49,"△"))) -> △ | V50: =IF(V49>W49,"○",IF(V49<W49,"×",IF(V49=W49,"△"))) -> △ | X50: =IF(X49>Y49,"○",IF(X49<Y49,"×",IF(X49=Y49,"△"))) -> △ | Z50: =IF(Z49>AA49,"○",IF(Z49<AA49,"×",IF(Z49=AA49,"△"))) -> △
A52: =A1 -> ■第1日 10月12日 | I52: =I1 -> １次ラウンド | T52: 第14会場 | X52: =U10組合せ!AH40 -> 真岡市鬼怒自然公園サッカー場AA
J54: N | W54: NN
...

Sheet OP
A1: =U10組合せ!H3 -> ■第1日 10月12日 | I1: =U10組合せ!Q3 -> １次ラウンド | T1: 第15会場 | X1: =U10組合せ!AH24 -> 南河内東部運動広場
I3: O | X3: OO
C6: 1 | G6: 2 | K6: 3 | O6: 4 | R6: 5 | V6: 6 | Z6: 7 | AD6: 8
C7: =U10組合せ!AF38 -> クレアＦＣアルドーレ | G7: =U10組合せ!AF36 -> Ｆ．Ｃ．栃木ジュニア | K7: =U10組合せ!AF34 -> 富士見サッカースポーツ少年団 | O7: =U10組合せ!AF32 -> フットボールクラブ氏家 | R7: =U10組合せ!AF30 -> 石橋ＦＣ | V7: =U10組合せ!AF28 -> おおぞらＳＣ | Z7: =U10組合せ!AF26 -> ＮＩＫＫＯ ＳＰＯＲＴＳ ＣＬＵＢ | AD7: =U10組合せ!AF24 -> 那須野ヶ原ＦＣボンジボーラ ブルー
B15: ピッチ | AD15: 主 | AE15: ・ | AF15: 補
B16: Ａ | C16: ① | D16: 0.5 | G16: =C7 -> クレアＦＣアルドーレ | N16: =P16+P17 -> 0 | O16: （ | P16: 0 | Q16: － | R16: 0 | S16: ） | T16: =R16+R17 -> 0 | U16: =G7 -> Ｆ．Ｃ．栃木ジュニア | AC16: ( | AD16: 5 | AE16: ・ | AF16: 6 | AG16: )
P17: 0 | Q17: － | R17: 0
B18: Ｂ | C18: ① | D18: 0.5 | G18: =K7 -> 富士見サッカースポーツ少年団 | N18: =P18+P19 -> 0 | O18: （ | P18: 0 | Q18: － | R18: 0 | S18: ） | T18: =R18+R19 -> 0 | U18: =O7 -> フットボールクラブ氏家 | AC18: ( | AD18: 7 | AE18: ・ | AF18: 8 | AG18: )
P19: 0 | Q19: － | R19: 0
B20: Ａ | C20: ② | D20: 0.52430556 | G20: =R7 -> 石橋ＦＣ | N20: =P20+P21 -> 0 | O20: （ | P20: 0 | Q20: － | R20: 0 | S20: ） | T20: =R20+R21 -> 0 | U20: =V7 -> おおぞらＳＣ | AC20: ( | AD20: 1 | AE20: ・ | AF20: 2 | AG20: )
P21: 0 | Q21: － | R21: 0
B22: Ｂ | C22: ② | D22: 0.52430556 | G22: =Z7 -> ＮＩＫＫＯ ＳＰＯＲＴＳ ＣＬＵＢ | N22: =P22+P23 -> 0 | O22: （ | P22: 0 | Q22: － | R22: 0 | S22: ） | T22: =R22+R23 -> 0 | U22: =AD7 -> 那須野ヶ原ＦＣボンジボーラ ブルー | AC22: ( | AD22: 3 | AE22: ・ | AF22: 4 | AG22: )
P23: 0 | Q23: － | R23: 0
B24: Ａ | C24: ③ | D24: 0.54861111 | G24: =C7 -> クレアＦＣアルドーレ | N24: =P24+P25 -> 0 | O24: （ | P24: 0 | Q24: － | R24: 0 | S24: ） | T24: =R24+R25 -> 0 | U24: =K7 -> 富士見サッカースポーツ少年団 | AC24: ( | AD24: 6 | AE24: ・ | AF24: 7 | AG24: )
P25: 0 | Q25: － | R25: 0
B26: Ｂ | C26: ③ | D26: 0.54861111 | G26: =G7 -> Ｆ．Ｃ．栃木ジュニア | N26: =P26+P27 -> 0 | O26: （ | P26: 0 | Q26: － | R26: 0 | S26: ） | T26: =R26+R27 -> 0 | U26: =O7 -> フットボールクラブ氏家 | AC26: ( | AD26: 8 | AE26: ・ | AF26: 5 | AG26: )
P27: 0 | Q27: － | R27: 0
