Workbook

Sheet 抽選結果
C1: 第53回栃木県U-1０サッカー選手権大会 抽選順
D3: 芳賀→下都賀→両毛→北那須→塩谷南那須→上都賀→宇河
D4: 会場担当は各ブロック「５」に入る
B5: 抽選結果 | C5: 【会場担当】
A6: =COUNTIF(B:B,B6) -> 1 | B6: N5 | C6: 1 | D6: 真岡西サッカークラブブリッツ | E6: モオカニシサッカークラブブリッツ | F6: 真岡市鬼怒自然公園サッカー場AA | G6: Ｄ，Ｈ，Ｌ，Ｎ，Ｐ
A7: =COUNTIF(B:B,B7) -> 1 | B7: P5 | C7: 2 | D7: ＦＣ真岡２１ファンタジー | E7: エフシーモオカニジュウイチファンタジー | F7: 真岡市鬼怒自然公園サッカー場AB
A8: =COUNTIF(B:B,B8) -> 1 | B8: L5 | C8: 3 | D8: エスペランサＭＯＫＡ | E8: エスペランサモオカ | F8: 真岡市鬼怒自然公園サッカー場BA
A9: =COUNTIF(B:B,B9) -> 1 | B9: H5 | C9: 4 | D9: Ｊ－ＳＰＯＲＴＳＦＯＯＴＢＡＬＬＣＬＵＢ | E9: ジェイスポーツフットボールクラブ | F9: 真岡市鬼怒自然公園サッカー場BB
A10: =COUNTIF(B:B,B10) -> 1 | B10: D5 | C10: 5 | D10: 祖母井クラブ | E10: ウバガイクラブ | F10: 芳賀町けやき台サッカー場
A11: =COUNTIF(B:B,B11) -> 1 | B11: A5 | C11: 6 | D11: ＦＣ中村Ｕ－１０ | E11: エフシーナカムラ アンダージュウ | F11: 真岡ハイトラ運動公園陸上競技場 | G11: Ａ，Ｂ，Ｉ，Ｍ
A12: =COUNTIF(B:B,B12) -> 1 | B12: B5 | C12: 7 | D12: 久下田ＦＣ | E12: クゲタフットボールクラブ | F12: 真岡ハイトラ運動公園運動広場1
A13: =COUNTIF(B:B,B13) -> 1 | B13: M5 | C13: 8 | D13: ＨＦＣ．ＺＥＲＯ | E13: エイチエフシーゼロ | F13: 真岡ハイトラ運動公園多目的広場
A14: =COUNTIF(B:B,B14) -> 1 | B14: I5 | C14: 9 | D14: ＪＦＣアミスタ市貝 | E14: ジェイエフシーアミスタイチカイ | F14: 城見ヶ丘運動公園サッカー場
A15: =COUNTIF(B:B,B15) -> 1 | B15: O5 | C15: 10 | D15: 石橋ＦＣ | E15: イシバシエフシー | F15: 南河内東部運動広場 | G15: Ｅ，Ｏ
A16: =COUNTIF(B:B,B16) -> 1 | B16: E5 | C16: 11 | D16: 南河内サッカースポーツ少年団 | E16: ミナミカワウチサッカースポーツショウネンダン | F16: 別処山公園サッカー場
A17: =COUNTIF(B:B,B17) -> 1 | B17: C5 | C17: 12 | D17: 鹿沼西ＦＣ | E17: カヌマニシエフシー | F17: サンエコ自然の森サッカー場 | G17: Ｃ
A18: =COUNTIF(B:B,B18) -> 1 | B18: F5 | C18: 13 | D18: 豊郷ＪＦＣ宇都宮 | E18: トヨサトジェイエフシーウツノミヤ | F18: 宇都宮市サッカー場（平出） | G18: Ｆ，Ｇ，Ｊ，Ｋ
A19: =COUNTIF(B:B,B19) -> 1 | B19: G5 | C19: 14 | D19: ともぞうサッカークラブ Ｕ１０ | E19: トモゾウサッカークラブ ユージュウ | F19: 宇都宮市石井緑地サッカー場1・2
A20: =COUNTIF(B:B,B20) -> 1 | B20: K5 | C20: 15 | D20: ＦＣスポルト宇都宮 | E20: エフシースポルトウツノミヤ | F20: 宇都宮市石井緑地サッカー場3・4
A21: =COUNTIF(B:B,B21) -> 1 | B21: J5 | C21: 16 | D21: 清原陽東サッカースポーツ少年団 | E21: キヨハラヨウトウサッカースポーツショウネンダン | F21: 宇都宮市石井緑地サッカー場5・6
B22: 抽選結果 | C22: 【芳賀】
A23: =COUNTIF(B:B,B23) -> 1 | B23: K1 | C23: 17 | D23: 亀山サッカークラブ | E23: カメヤマサッカークラブ
A24: =COUNTIF(B:B,B24) -> 1 | B24: F6 | C24: 18 | D24: 益子ＳＣ | E24: マシコエスシー
A25: =COUNTIF(B:B,B25) -> 1 | B25: E8 | C25: 19 | D25: ＪＦＣファイターズ | E25: ジェイエフシーファイターズ
A26: =COUNTIF(B:B,B26) -> 1 | B26: J7 | C26: 20 | D26: ＪＦＣアミスタ市貝Ｂ | E26: ジェイエフシーアミスタイチカイ
A27: =COUNTIF(B:B,B27) -> 1 | B27: O6 | C27: 21 | D27: おおぞらＳＣ | E27: オオゾラエスシー
A28: =COUNTIF(B:B,B28) -> 1 | B28: C4 | C28: 22 | D28: 茂木ＦＣ | E28: モテギエフシー
C29: 【下都賀】
A30: =COUNTIF(B:B,B30) -> 1 | B30: C2 | C30: 23 | D30: 都賀クラブジュニア | E30: ツガクラブジュニア
A31: =COUNTIF(B:B,B31) -> 1 | B31: D4 | C31: 24 | D31: ＴＯＣＨＩＧＩ ＫＦＣ | E31: トチギケーエフシー
A32: =COUNTIF(B:B,B32) -> 1 | B32: F8 | C32: 25 | D32: 栃木ウーヴァＦＣ・Ｕ－１０ セレソン | E32: トチギウーヴァフットボールクラブ セレソン
A33: =COUNTIF(B:B,B33) -> 1 | B33: B8 | C33: 26 | D33: 栃木ウーヴァＦＣ・Ｕ－１０ ウィナーズ | E33: トチギウーヴァフットボールクラブ ウィナーズ
A34: =COUNTIF(B:B,B34) -> 1 | B34: G8 | C34: 27 | D34: 野木ＳＳＳ | E34: ノギスリーエス
A35: =COUNTIF(B:B,B35) -> 1 | B35: A4 | C35: 28 | D35: ＦＣプリメーロ | E35: フットボールクラブプリメーロ
A36: =COUNTIF(B:B,B36) -> 1 | B36: G4 | C36: 29 | D36: ＦＣ城東 | E36: エフシージョウトウ
A37: =COUNTIF(B:B,B37) -> 1 | B37: H4 | C37: 30 | D37: ＦＣがむしゃら | E37: エフシーガムシャラ
A38: =COUNTIF(B:B,B38) -> 1 | B38: D1 | C38: 31 | D38: 間東ＦＣミラクルズ | E38: マヒガシエフシーミラクルズ
A39: =COUNTIF(B:B,B39) -> 1 | B39: J1 | C39: 32 | D39: 小山ウエストＪＦＣ | E39: オヤマウエストジェイエフシー
A40: =COUNTIF(B:B,B40) -> 1 | B40: J8 | C40: 33 | D40: ＪＦＣ Ｗｉｎｇ | E40: ジェイエフシーウィング
A41: =COUNTIF(B:B,B41) -> 1 | B41: L4 | C41: 34 | D41: 大谷北ＦＣフォルテ | E41: オオヤキタエフシーフォルテ
... A50: =COUNTIF(B:B,B50) -> 1 | B50: L1 | C50: 43 | D50: ＦＣ ＣＡＳＡ ＦＯＲＴＵＮＡ ＯＹＡＭＡ | E50: エフシーカーザフォルトゥーナオヤマ
C51: 【両毛】
A52: =COUNTIF(B:B,B52) -> 1 | B52: E2 | C52: 44 | D52: 佐野ＳＳＳ | E52: サノスリーエス
A53: =COUNTIF(B:B,B53) -> 1 | B53: P1 | C53: 45 | D53: 佐野ＳＳＳヴィラ | E53: サノスリーエスヴィラ
A54: =COUNTIF(B:B,B54) -> 1 | B54: N4 | C54: 46 | D54: Ｋ－ＷＥＳＴ．ＦＣ２００１ | E54: ケーウエストエフシーニセンイチ
A55: =COUNTIF(B:B,B55) -> 1 | B55: G1 | C55: 47 | D55: 御厨フットボールクラブ | E55: ミクリヤフットボールクラブ
A56: =COUNTIF(B:B,B56) -> 1 | B56: A3 | C56: 48 | D56: 足利サッカークラブジュニア | E56: アシカガサッカークラブジュニア
A57: =COUNTIF(B:B,B57) -> 1 | B57: L2 | C57: 49 | D57: 足利サッカークラブジュニア Ｕ－９ | E57: アシカガサッカークラブジュニア アンダーナイン
A58: =COUNTIF(B:B,B58) -> 1 | B58: I6 | C58: 50 | D58: ＦＣ毛野 | E58: エフシーケノ
A59: =COUNTIF(B:B,B59) -> 1 | B59: F3 | C59: 51 | D59: ＦＣ ＳＨＵＪＡＫＵ | E59: エフシーシュジャク
A60: =COUNTIF(B:B,B60) -> 1 | B60: M1 | C60: 52 | D60: 坂西ジュニオール | E60: サカニシジュニオール
A61: =COUNTIF(B:B,B61) -> 1 | B61: H2 | C61: 53 | D61: 三重・山前ＦＣ | E61: ミエヤママエエフシー
A62: =COUNTIF(B:B,B62) -> 1 | B62: J4 | C62: 54 | D62: ＧＲＳ足利Ｊｒ． | E62: ジーアールエスアシカガジュニア
A63: =COUNTIF(B:B,B63) -> 1 | B63: O1 | C63: 55 | D63: クレアＦＣアルドーレ | E63: クレアエフシーアルドーレ
... A65: =COUNTIF(B:B,B65) -> 1 | B65: D6 | C65: 57 | D65: ＴＡＣ ＫＵＺＵＵ ＦＣ | E65: タック クズウ エフシー
C66: 【北那須】
A67: =COUNTIF(B:B,B67) -> 1 | B67: A2 | C67: 58 | D67: 大田原城山サッカークラブ | E67: オオタワラシロヤマサッカークラブ
A68: =COUNTIF(B:B,B68) -> 1 | B68: M3 | C68: 59 | D68: 西原ＦＣ | E68: ニシハラエフシー
A69: =COUNTIF(B:B,B69) -> 1 | B69: J6 | C69: 60 | D69: 紫塚ＦＣ | E69: ムラサキヅカエフシー
A70: =COUNTIF(B:B,B70) -> 1 | B70: C7 | C70: 61 | D70: 東那須野ＦＣフェニックス | E70: ヒガシナスノエフシーフェニックス
A71: =COUNTIF(B:B,B71) -> 1 | B71: G7 | C71: 62 | D71: ＦＣ Ａｖａｎｃｅ | E71: エフシー アヴァンセ
A72: =COUNTIF(B:B,B72) -> 1 | B72: K8 | C72: 63 | D72: ＦＣ西那須２１アストロ | E72: エフシーニシナスニジュウイチアストロ
A73: =COUNTIF(B:B,B73) -> 1 | B73: H1 | C73: 64 | D73: 南イレブン | E73: ミナミイレブン
A74: =COUNTIF(B:B,B74) -> 1 | B74: B2 | C74: 65 | D74: 大山フットボールクラブアミーゴ | E74: オオヤマフットボールクラブアミーゴ
A75: =COUNTIF(B:B,B75) -> 1 | B75: E7 | C75: 66 | D75: 高林・青木フットボールクラブ | E75: タカバヤシアオキフットボールクラブ
A76: =COUNTIF(B:B,B76) -> 1 | B76: F7 | C76: 67 | D76: フットボールクラブガナドール大田原Ｕ１２ | E76: フットボールクラブガナドールオオタワラアンダー１２
A77: =COUNTIF(B:B,B77) -> 1 | B77: L6 | C77: 68 | D77: 野原グランディオスＦＣ | E77: ノハラグランディオスエフシー
A78: =COUNTIF(B:B,B78) -> 1 | B78: O8 | C78: 69 | D78: 那須野ヶ原ＦＣボンジボーラ ブルー | E78: ナスノガハラエフシ－ボンジボーラ ブルー
... A82: =COUNTIF(B:B,B82) -> 1 | B82: K2 | C82: 73 | D82: ＦＣ黒羽 | E82: エフシークロバネ
C83: 【塩谷南那須】
A84: =COUNTIF(B:B,B84) -> 1 | B84: O4 | C84: 74 | D84: フットボールクラブ氏家 | E84: フットボールクラブウジイエ
A85: =COUNTIF(B:B,B85) -> 1 | B85: J3 | C85: 75 | D85: 上松山クラブ | E85: カミマツヤマクラブ
A86: =COUNTIF(B:B,B86) -> 1 | B86: M7 | C86: 76 | D86: 阿久津サッカークラブ | E86: アクツサッカークラブ
A87: =COUNTIF(B:B,B87) -> 1 | B87: I4 | C87: 77 | D87: ＢＬＵＥ ＴＨＵＮＤＥＲ | E87: ブルーサンダー
A88: =COUNTIF(B:B,B88) -> 1 | B88: G3 | C88: 78 | D88: 高根沢西フットボールクラブ | E88: タカネザワニシフットボールクラブ
A89: =COUNTIF(B:B,B89) -> 1 | B89: K4 | C89: 79 | D89: しおやＦＣヴィガウス | E89: シオヤエフシーヴィガウス
A90: =COUNTIF(B:B,B90) -> 1 | B90: D2 | C90: 80 | D90: ＦＣ ＳＦｉＤＡ | E90: エフシー スフィーダ
A91: =COUNTIF(B:B,B91) -> 1 | B91: C3 | C91: 81 | D91: ヴェルフェ矢板Ｕ－１２ｂｌａｎｃ | E91: ヴェルフェヤイタユージュウニブラン
A92: =COUNTIF(B:B,B92) -> 1 | B92: E6 | C92: 82 | D92: ヴェルフェ矢板Ｕ－１２ＶＥＲＴ | E92: ヴェルフェヤイタユージュウニヴェール
A93: =COUNTIF(B:B,B93) -> 1 | B93: B7 | C93: 83 | D93: ＦＣバジェルボ那須烏山 | E93: エフシーバジェルボナスカラスヤマ
A94: =COUNTIF(B:B,B94) -> 1 | B94: A7 | C94: 84 | D94: さくらボン・ディ・ボーラ | E94: サクラボンディボーラ
A95: =COUNTIF(B:B,B95) -> 1 | B95: F2 | C95: 85 | D95: さくらシティＦＣ | E95: サクラシティエフシー
C96: 【上都賀】
A97: =COUNTIF(B:B,B97) -> 1 | B97: I8 | C97: 86 | D97: 鹿沼東光ＦＣ | E97: カヌマトウコウエフシー
A98: =COUNTIF(B:B,B98) -> 1 | B98: K6 | C98: 87 | D98: 北押原ＦＣ | E98: キタオシハラエフシー
A99: =COUNTIF(B:B,B99) -> 1 | B99: G6 | C99: 88 | D99: ＦＣあわのレジェンド | E99: エフシーアワノレジェンド
A100: =COUNTIF(B:B,B100) -> 1 | B100: O7 | C100: 89 | D100: ＮＩＫＫＯ ＳＰＯＲＴＳ ＣＬＵＢ | E100: ニッコウスポーツクラブ
A101: =COUNTIF(B:B,B101) -> 1 | B101: N2 | C101: 90 | D101: 今市ジュニオール | E101: イマイチジュニオール
A102: =COUNTIF(B:B,B102) -> 1 | B102: B4 | C102: 91 | D102: ＫＳＣ鹿沼 | E102: ケーエスシーカヌマ
A103: =COUNTIF(B:B,B103) -> 1 | B103: E1 | C103: 92 | D103: 今市ＦＣプログレス | E103: イマイチエフシープログレス
A104: =COUNTIF(B:B,B104) -> 1 | B104: A8 | C104: 93 | D104: 藤原ＦＣ | E104: フジハラエフシー
A105: =COUNTIF(B:B,B105) -> 1 | B105: J2 | C105: 94 | D105: ＴＥＡＭ é ｘｉｔｏ | E105: チーム エクシト
A106: =COUNTIF(B:B,B106) -> 1 | B106: F1 | C106: 95 | D106: ＴＳＵＮＡＧＵ Ｓｐｏｒｔｓ Ａｃａｄｅｍｙ | E106: ツナグスポーツアカデミー
C107: 【宇河】
A108: =COUNTIF(B:B,B108) -> 1 | B108: H6 | C108: 96 | D108: 昭和・戸祭・附属サッカークラブ | E108: ショウワトマツリフゾクサッカークラブ
A109: =COUNTIF(B:B,B109) -> 1 | B109: N6 | C109: 97 | D109: 宝木キッカーズＭＯＲＡＬＥ１０ | E109: タカラギキッカーズモラールテン
A110: =COUNTIF(B:B,B110) -> 1 | B110: N3 | C110: 98 | D110: ＦＣグランディール宇都宮 | E110: エフシーグランディールウツノミヤ
A111: =COUNTIF(B:B,B111) -> 1 | B111: F4 | C111: 99 | D111: ＦＣみらい | E111: エフシーミライ
A112: =COUNTIF(B:B,B112) -> 1 | B112: O3 | C112: 100 | D112: 富士見サッカースポーツ少年団 | E112: フジミサッカースポーツショウネンダン
A113: =COUNTIF(B:B,B113) -> 1 | B113: L3 | C113: 101 | D113: 緑が丘ＹＦＣサッカー教室 | E113: ミドリガオカワイエフシーサッカーキョウシツ
...

Sheet U10組合せ
A1: 第５３回栃木県U-10サッカー選手権大会 組み合わせ表
D2: 開会式・入場行進 10月12日 8：30～ 真岡ハイトラ運動公園陸上競技場
H3: ■第1日 10月12日 | Q3: １次ラウンド | U3: ※リーグ戦
H4: ■第2日 10月13日 | Q4: 決勝トーナメント（１・２回戦）
H5: ■第3日 10月19日 | Q5: 決勝トーナメント（準々決勝・準決勝・決勝）
A7: 45577 | H7: 45212 | L7: 44853 | X7: =H7 -> 45212 | AC7: =A7 -> 45577
A8: =IFERROR(VLOOKUP($E$8&D16,抽選結果!B:F,5,FALSE),"") -> 真岡ハイトラ運動公園陸上競技場 | C8: =IFERROR(VLOOKUP($E$8&D8,抽選結果!B:F,3,FALSE),"") -> ＴＥＡＭ リフレＳＣ | D8: 1 | E8: A | AH8: =IFERROR(VLOOKUP($AD$17&AE11,抽選結果!B:F,5,FALSE),"") -> 真岡市鬼怒自然公園サッカー場AB
AD9: PP | AE9: 6 | AF9: =IFERROR(VLOOKUP($AD$17&AE9,抽選結果!B:F,3,FALSE),"") -> 本郷北フットボールクラブ
C10: =IFERROR(VLOOKUP($E$8&D10,抽選結果!B:F,3,FALSE),"") -> 大田原城山サッカークラブ | D10: 2
AE11: 5 | AF11: =IFERROR(VLOOKUP($AD$17&AE11,抽選結果!B:F,3,FALSE),"") -> ＦＣ真岡２１ファンタジー
C12: =IFERROR(VLOOKUP($E$8&D12,抽選結果!B:F,3,FALSE),"") -> 足利サッカークラブジュニア | D12: 3
AE13: 4 | AF13: =IFERROR(VLOOKUP($AD$17&AE13,抽選結果!B:F,3,FALSE),"") -> ＭＯＲＡＮＧＯ栃木フットボールクラブＵ１２
C14: =IFERROR(VLOOKUP($E$8&D14,抽選結果!B:F,3,FALSE),"") -> ＦＣプリメーロ | D14: 4
C16: =IFERROR(VLOOKUP($E$8&D16,抽選結果!B:F,3,FALSE),"") -> ＦＣ中村Ｕ－１０ | D16: 5 | E16: AA
AD17: P | AE17: 3 | AF17: =IFERROR(VLOOKUP($AD$17&AE17,抽選結果!B:F,3,FALSE),"") -> ＫＯＨＡＲＵ ＰＲＯＵＤ栃木フットボールクラブ
C18: =IFERROR(VLOOKUP($E$8&D18,抽選結果!B:F,3,FALSE),"") -> Ｓ４ スペランツァ | D18: 6
AE19: 2 | AF19: =IFERROR(VLOOKUP($AD$17&AE19,抽選結果!B:F,3,FALSE),"") -> ＩＳＯＳＯＣＣＥＲＣＬＵＢ
C20: =IFERROR(VLOOKUP($E$8&D20,抽選結果!B:F,3,FALSE),"") -> さくらボン・ディ・ボーラ | D20: 7
AE21: 1 | AF21: =IFERROR(VLOOKUP($AD$17&AE21,抽選結果!B:F,3,FALSE),"") -> 佐野ＳＳＳヴィラ
C22: =IFERROR(VLOOKUP($E$8&D22,抽選結果!B:F,3,FALSE),"") -> 藤原ＦＣ | D22: 8
A24: =IFERROR(VLOOKUP($E$24&D32,抽選結果!B:F,5,FALSE),"") -> 真岡ハイトラ運動公園運動広場1 | C24: =IFERROR(VLOOKUP($E$24&D24,抽選結果!B:F,3,FALSE),"") -> 栃木Ｃｈａｒｍｅ．Ｆ．Ｃ | D24: 1 | E24: B | AD24: OO | AE24: 8 | AF24: =IFERROR(VLOOKUP($AD$32&AE24,抽選結果!B:F,3,FALSE),"") -> 那須野ヶ原ＦＣボンジボーラ ブルー | AH24: =IFERROR(VLOOKUP($AD$32&AE30,抽選結果!B:F,5,FALSE),"") -> 南河内東部運動広場
C26: =IFERROR(VLOOKUP($E$24&D26,抽選結果!B:F,3,FALSE),"") -> 大山フットボールクラブアミーゴ | D26: 2 | AE26: 7 | AF26: =IFERROR(VLOOKUP($AD$32&AE26,抽選結果!B:F,3,FALSE),"") -> ＮＩＫＫＯ ＳＰＯＲＴＳ ＣＬＵＢ
C28: =IFERROR(VLOOKUP($E$24&D28,抽選結果!B:F,3,FALSE),"") -> 栃木ＳＣ Ｕ－１２ | D28: 3 | AE28: 6 | AF28: =IFERROR(VLOOKUP($AD$32&AE28,抽選結果!B:F,3,FALSE),"") -> おおぞらＳＣ
C30: =IFERROR(VLOOKUP($E$24&D30,抽選結果!B:F,3,FALSE),"") -> ＫＳＣ鹿沼 | D30: 4 | AE30: 5 | AF30: =IFERROR(VLOOKUP($AD$32&AE30,抽選結果!B:F,3,FALSE),"") -> 石橋ＦＣ
C32: =IFERROR(VLOOKUP($E$24&D32,抽選結果!B:F,3,FALSE),"") -> 久下田ＦＣ | D32: 5 | E32: BB | AD32: O | AE32: 4 | AF32: =IFERROR(VLOOKUP($AD$32&AE32,抽選結果!B:F,3,FALSE),"") -> フットボールクラブ氏家
C34: =IFERROR(VLOOKUP($E$24&D34,抽選結果!B:F,3,FALSE),"") -> ともぞうサッカークラブ Ｕ１０Ｂ | D34: 6 | AE34: 3 | AF34: =IFERROR(VLOOKUP($AD$32&AE34,抽選結果!B:F,3,FALSE),"") -> 富士見サッカースポーツ少年団
C36: =IFERROR(VLOOKUP($E$24&D36,抽選結果!B:F,3,FALSE),"") -> ＦＣバジェルボ那須烏山 | D36: 7 | AE36: 2 | AF36: =IFERROR(VLOOKUP($AD$32&AE36,抽選結果!B:F,3,FALSE),"") -> Ｆ．Ｃ．栃木ジュニア
C38: =IFERROR(VLOOKUP($E$24&D38,抽選結果!B:F,3,FALSE),"") -> 栃木ウーヴァＦＣ・Ｕ－１０ ウィナーズ | D38: 8 | AE38: 1 | AF38: =IFERROR(VLOOKUP($AD$32&AE38,抽選結果!B:F,3,FALSE),"") -> クレアＦＣアルドーレ
A40: =IFERROR(VLOOKUP($E$40&D48,抽選結果!B:F,5,FALSE),"") -> サンエコ自然の森サッカー場 | C40: =IFERROR(VLOOKUP($E$40&D40,抽選結果!B:F,3,FALSE),"") -> 宇都宮フットボールクラブジュニア | D40: 1 | E40: C | AH40: =IFERROR(VLOOKUP($AD$49&AE43,抽選結果!B:F,5,FALSE),"") -> 真岡市鬼怒自然公園サッカー場AA
AD41: NN | AE41: 6 | AF41: =IFERROR(VLOOKUP($AD$49&AE41,抽選結果!B:F,3,FALSE),"") -> 宝木キッカーズＭＯＲＡＬＥ１０
C42: =IFERROR(VLOOKUP($E$40&D42,抽選結果!B:F,3,FALSE),"") -> 都賀クラブジュニア | D42: 2
AE43: 5 | AF43: =IFERROR(VLOOKUP($AD$49&AE43,抽選結果!B:F,3,FALSE),"") -> 真岡西サッカークラブブリッツ
C44: =IFERROR(VLOOKUP($E$40&D44,抽選結果!B:F,3,FALSE),"") -> ヴェルフェ矢板Ｕ－１２ｂｌａｎｃ | D44: 3
AE45: 4 | AF45: =IFERROR(VLOOKUP($AD$49&AE45,抽選結果!B:F,3,FALSE),"") -> Ｋ－ＷＥＳＴ．ＦＣ２００１
C46: =IFERROR(VLOOKUP($E$40&D46,抽選結果!B:F,3,FALSE),"") -> 茂木ＦＣ | D46: 4
C48: =IFERROR(VLOOKUP($E$40&D48,抽選結果!B:F,3,FALSE),"") -> 鹿沼西ＦＣ | D48: 5 | E48: CC
AD49: N | AE49: 3 | AF49: =IFERROR(VLOOKUP($AD$49&AE49,抽選結果!B:F,3,FALSE),"") -> ＦＣグランディール宇都宮
C50: =IFERROR(VLOOKUP($E$40&D50,抽選結果!B:F,3,FALSE),"") -> ｕｎｉｏｎｓｐｏｒｔｓｃｌｕｂ | D50: 6
AE51: 2 | AF51: =IFERROR(VLOOKUP($AD$49&AE51,抽選結果!B:F,3,FALSE),"") -> 今市ジュニオール
C52: =IFERROR(VLOOKUP($E$40&D52,抽選結果!B:F,3,FALSE),"") -> 東那須野ＦＣフェニックス | D52: 7
AE53: 1 | AF53: =IFERROR(VLOOKUP($AD$49&AE53,抽選結果!B:F,3,FALSE),"") -> 那須野ヶ原ＦＣボンジボーラ Ｕ９
C54: =IFERROR(VLOOKUP($E$40&D54,抽選結果!B:F,3,FALSE),"") -> ＣＡ．アトレチコ 佐野 | D54: 8
A56: =IFERROR(VLOOKUP($E$57&D67,抽選結果!B:F,5,FALSE),"") -> 芳賀町けやき台サッカー場 | AD56: MM | AE56: 8 | AF56: =IFERROR(VLOOKUP($AD$64&AE56,抽選結果!B:F,3,FALSE),"") -> ＦＣ ＶＡＬＯＮ | AH56: =IFERROR(VLOOKUP($AD$64&AE62,抽選結果!B:F,5,FALSE),"") -> 真岡ハイトラ運動公園多目的広場
C57: =IFERROR(VLOOKUP($E$57&D57,抽選結果!B:F,3,FALSE),"") -> 間東ＦＣミラクルズ | D57: 1 | E57: D
AE58: 7 | AF58: =IFERROR(VLOOKUP($AD$64&AE58,抽選結果!B:F,3,FALSE),"") -> 阿久津サッカークラブ
C59: =IFERROR(VLOOKUP($E$57&D59,抽選結果!B:F,3,FALSE),"") -> ＦＣ ＳＦｉＤＡ | D59: 2
AE60: 6 | AF60: =IFERROR(VLOOKUP($AD$64&AE60,抽選結果!B:F,3,FALSE),"") -> ＳＵＧＡＯサッカークラブ
C61: =IFERROR(VLOOKUP($E$57&D61,抽選結果!B:F,3,FALSE),"") -> 雀宮フットボールクラブ | D61: 3
AE62: 5 | AF62: =IFERROR(VLOOKUP($AD$64&AE62,抽選結果!B:F,3,FALSE),"") -> ＨＦＣ．ＺＥＲＯ
AD64: M | AE64: 4 | AF64: =IFERROR(VLOOKUP($AD$64&AE64,抽選結果!B:F,3,FALSE),"") -> Ｐｅｇａｓｕｓ藤岡２００７
C65: =IFERROR(VLOOKUP($E$57&D65,抽選結果!B:F,3,FALSE),"") -> ＴＯＣＨＩＧＩ ＫＦＣ | D65: 4 | E65: DD | J65: 真岡ハイトラ運動公園陸上競技場 | Y65: 真岡ハイトラ運動公園運動広場１
AE66: 3 | AF66: =IFERROR(VLOOKUP($AD$64&AE66,抽選結果!B:F,3,FALSE),"") -> 西原ＦＣ
C67: =IFERROR(VLOOKUP($E$57&D67,抽選結果!B:F,3,FALSE),"") -> 祖母井クラブ | D67: 5
AE68: 2 | AF68: =IFERROR(VLOOKUP($AD$64&AE68,抽選結果!B:F,3,FALSE),"") -> 国本ジュニアサッカークラブ
C69: =IFERROR(VLOOKUP($E$57&D69,抽選結果!B:F,3,FALSE),"") -> ＴＡＣ ＫＵＺＵＵ ＦＣ | D69: 6
AE70: 1 | AF70: =IFERROR(VLOOKUP($AD$64&AE70,抽選結果!B:F,3,FALSE),"") -> 坂西ジュニオール
A72: =IFERROR(VLOOKUP($E$72&D80,抽選結果!B:F,5,FALSE),"") -> 別処山公園サッカー場 | C72: =IFERROR(VLOOKUP($E$72&D72,抽選結果!B:F,3,FALSE),"") -> 今市ＦＣプログレス | D72: 1 | E72: E | AH72: =IFERROR(VLOOKUP($AD$81&AE75,抽選結果!B:F,5,FALSE),"") -> 真岡市鬼怒自然公園サッカー場BA
Q73: 真岡ハイトラ運動公園運動広場1 | AD73: LL | AE73: 6 | AF73: =IFERROR(VLOOKUP($AD$81&AE73,抽選結果!B:F,3,FALSE),"") -> 野原グランディオスＦＣ
C74: =IFERROR(VLOOKUP($E$72&D74,抽選結果!B:F,3,FALSE),"") -> 佐野ＳＳＳ | D74: 2
AE75: 5 | AF75: =IFERROR(VLOOKUP($AD$81&AE75,抽選結果!B:F,3,FALSE),"") -> エスペランサＭＯＫＡ
C76: =IFERROR(VLOOKUP($E$72&D76,抽選結果!B:F,3,FALSE),"") -> カテット白沢サッカースクール | D76: 3
AE77: 4 | AF77: =IFERROR(VLOOKUP($AD$81&AE77,抽選結果!B:F,3,FALSE),"") -> 大谷北ＦＣフォルテ
C78: =IFERROR(VLOOKUP($E$72&D78,抽選結果!B:F,3,FALSE),"") -> ＳＡＫＵＲＡ ＦＯＯＴＢＡＬＬ ＣＬＵＢ Ｊｒ | D78: 4
C80: =IFERROR(VLOOKUP($E$72&D80,抽選結果!B:F,3,FALSE),"") -> 南河内サッカースポーツ少年団 | D80: 5 | E80: EE
AD81: L | AE81: 3 | AF81: =IFERROR(VLOOKUP($AD$81&AE81,抽選結果!B:F,3,FALSE),"") -> 緑が丘ＹＦＣサッカー教室
C82: =IFERROR(VLOOKUP($E$72&D82,抽選結果!B:F,3,FALSE),"") -> ヴェルフェ矢板Ｕ－１２ＶＥＲＴ | D82: 6
AE83: 2 | AF83: =IFERROR(VLOOKUP($AD$81&AE83,抽選結果!B:F,3,FALSE),"") -> 足利サッカークラブジュニア Ｕ－９
C84: =IFERROR(VLOOKUP($E$72&D84,抽選結果!B:F,3,FALSE),"") -> 高林・青木フットボールクラブ | D84: 7
AE85: 1 | AF85: =IFERROR(VLOOKUP($AD$81&AE85,抽選結果!B:F,3,FALSE),"") -> ＦＣ ＣＡＳＡ ＦＯＲＴＵＮＡ ＯＹＡＭＡ
C86: =IFERROR(VLOOKUP($E$72&D86,抽選結果!B:F,3,FALSE),"") -> ＪＦＣファイターズ | D86: 8
A88: =IFERROR(VLOOKUP($E$88&D96,抽選結果!B:F,5,FALSE),"") -> 宇都宮市サッカー場（平出） | C88: =IFERROR(VLOOKUP($E$88&D88,抽選結果!B:F,3,FALSE),"") -> ＴＳＵＮＡＧＵ Ｓｐｏｒｔｓ Ａｃａｄｅｍｙ | D88: 1 | E88: F | AD88: KK | AE88: 8 | AF88: =IFERROR(VLOOKUP($AD$96&AE88,抽選結果!B:F,3,FALSE),"") -> ＦＣ西那須２１アストロ | AH88: =IFERROR(VLOOKUP($AD$96&AE94,抽選結果!B:F,5,FALSE),"") -> 宇都宮市石井緑地サッカー場3・4
C90: =IFERROR(VLOOKUP($E$88&D90,抽選結果!B:F,3,FALSE),"") -> さくらシティＦＣ | D90: 2 | AE90: 7 | AF90: =IFERROR(VLOOKUP($AD$96&AE90,抽選結果!B:F,3,FALSE),"") -> ＦＣカンピオーネ
C92: =IFERROR(VLOOKUP($E$88&D92,抽選結果!B:F,3,FALSE),"") -> ＦＣ ＳＨＵＪＡＫＵ | D92: 3 | AE92: 6 | AF92: =IFERROR(VLOOKUP($AD$96&AE92,抽選結果!B:F,3,FALSE),"") -> 北押原ＦＣ
C94: =IFERROR(VLOOKUP($E$88&D94,抽選結果!B:F,3,FALSE),"") -> ＦＣみらい | D94: 4 | AE94: 5 | AF94: =IFERROR(VLOOKUP($AD$96&AE94,抽選結果!B:F,3,FALSE),"") -> ＦＣスポルト宇都宮
C96: =IFERROR(VLOOKUP($E$88&D96,抽選結果!B:F,3,FALSE),"") -> 豊郷ＪＦＣ宇都宮 | D96: 5 | E96: FF | AD96: K | AE96: 4 | AF96: =IFERROR(VLOOKUP($AD$96&AE96,抽選結果!B:F,3,FALSE),"") -> しおやＦＣヴィガウス
C98: =IFERROR(VLOOKUP($E$88&D98,抽選結果!B:F,3,FALSE),"") -> 益子ＳＣ | D98: 6 | AE98: 3 | AF98: =IFERROR(VLOOKUP($AD$96&AE98,抽選結果!B:F,3,FALSE),"") -> ＩＳＯＳＯＣＣＥＲＣＬＵＢセグンド
C100: =IFERROR(VLOOKUP($E$88&D100,抽選結果!B:F,3,FALSE),"") -> フットボールクラブガナドール大田原Ｕ１２ | D100: 7 | AE100: 2 | AF100: =IFERROR(VLOOKUP($AD$96&AE100,抽選結果!B:F,3,FALSE),"") -> ＦＣ黒羽
C102: =IFERROR(VLOOKUP($E$88&D102,抽選結果!B:F,3,FALSE),"") -> 栃木ウーヴァＦＣ・Ｕ－１０ セレソン | D102: 8 | AE102: 1 | AF102: =IFERROR(VLOOKUP($AD$96&AE102,抽選結果!B:F,3,FALSE),"") -> 亀山サッカークラブ
A104: =IFERROR(VLOOKUP($E$104&D112,抽選結果!B:F,5,FALSE),"") -> 宇都宮市石井緑地サッカー場1・2 | C104: =IFERROR(VLOOKUP($E$104&D104,抽選結果!B:F,3,FALSE),"") -> 御厨フットボールクラブ | D104: 1 | E104: G | AD104: JJ | AE104: 8 | AF104: =IFERROR(VLOOKUP($AD$112&AE104,抽選結果!B:F,3,FALSE),"") -> ＪＦＣ Ｗｉｎｇ | AH104: =IFERROR(VLOOKUP($AD$112&AE110,抽選結果!B:F,5,FALSE),"") -> 宇都宮市石井緑地サッカー場5・6
C106: =IFERROR(VLOOKUP($E$104&D106,抽選結果!B:F,3,FALSE),"") -> ＬＥＯＮＥ ＳＳ | D106: 2 | AE106: 7 | AF106: =IFERROR(VLOOKUP($AD$112&AE106,抽選結果!B:F,3,FALSE),"") -> ＪＦＣアミスタ市貝Ｂ
C108: =IFERROR(VLOOKUP($E$104&D108,抽選結果!B:F,3,FALSE),"") -> 高根沢西フットボールクラブ | D108: 3 | AE108: 6 | AF108: =IFERROR(VLOOKUP($AD$112&AE108,抽選結果!B:F,3,FALSE),"") -> 紫塚ＦＣ
C110: =IFERROR(VLOOKUP($E$104&D110,抽選結果!B:F,3,FALSE),"") -> ＦＣ城東 | D110: 4 | AE110: 5 | AF110: =IFERROR(VLOOKUP($AD$112&AE110,抽選結果!B:F,3,FALSE),"") -> 清原陽東サッカースポーツ少年団
C112: =IFERROR(VLOOKUP($E$104&D112,抽選結果!B:F,3,FALSE),"") -> ともぞうサッカークラブ Ｕ１０ | D112: 5 | E112: GG | AD112: J | AE112: 4 | AF112: =IFERROR(VLOOKUP($AD$112&AE112,抽選結果!B:F,3,FALSE),"") -> ＧＲＳ足利Ｊｒ．
C114: =IFERROR(VLOOKUP($E$104&D114,抽選結果!B:F,3,FALSE),"") -> ＦＣあわのレジェンド | D114: 6 | AE114: 3 | AF114: =IFERROR(VLOOKUP($AD$112&AE114,抽選結果!B:F,3,FALSE),"") -> 上松山クラブ
C116: =IFERROR(VLOOKUP($E$104&D116,抽選結果!B:F,3,FALSE),"") -> ＦＣ Ａｖａｎｃｅ | D116: 7 | AE116: 2 | AF116: =IFERROR(VLOOKUP($AD$112&AE116,抽選結果!B:F,3,FALSE),"") -> ＴＥＡＭ é ｘｉｔｏ
C118: =IFERROR(VLOOKUP($E$104&D118,抽選結果!B:F,3,FALSE),"") -> 野木ＳＳＳ | D118: 8 | AE118: 1 | AF118: =IFERROR(VLOOKUP($AD$112&AE118,抽選結果!B:F,3,FALSE),"") -> 小山ウエストＪＦＣ
A120: =IFERROR(VLOOKUP($E$121&D131,抽選結果!B:F,5,FALSE),"") -> 真岡市鬼怒自然公園サッカー場BB | AD120: II | AE120: 8 | AF120: =IFERROR(VLOOKUP($AD$128&AE120,抽選結果!B:F,3,FALSE),"") -> 鹿沼東光ＦＣ | AH120: =IFERROR(VLOOKUP($AD$128&AE126,抽選結果!B:F,5,FALSE),"") -> 城見ヶ丘運動公園サッカー場
C121: =IFERROR(VLOOKUP($E$121&D121,抽選結果!B:F,3,FALSE),"") -> 南イレブン | D121: 1 | E121: H
AE122: 7 | AF122: =IFERROR(VLOOKUP($AD$128&AE122,抽選結果!B:F,3,FALSE),"") -> 石井フットボールクラブ
C123: =IFERROR(VLOOKUP($E$121&D123,抽選結果!B:F,3,FALSE),"") -> 三重・山前ＦＣ | D123: 2
AE124: 6 | AF124: =IFERROR(VLOOKUP($AD$128&AE124,抽選結果!B:F,3,FALSE),"") -> ＦＣ毛野
C125: =IFERROR(VLOOKUP($E$121&D125,抽選結果!B:F,3,FALSE),"") -> ＮＰＯ法人サウス宇都宮スポーツクラブ | D125: 3
AE126: 5 | AF126: =IFERROR(VLOOKUP($AD$128&AE126,抽選結果!B:F,3,FALSE),"") -> ＪＦＣアミスタ市貝
AD128: I | AE128: 4 | AF128: =IFERROR(VLOOKUP($AD$128&AE128,抽選結果!B:F,3,FALSE),"") -> ＢＬＵＥ ＴＨＵＮＤＥＲ
C129: =IFERROR(VLOOKUP($E$121&D129,抽選結果!B:F,3,FALSE),"") -> ＦＣがむしゃら | D129: 4 | E129: HH
AE130: 3 | AF130: =IFERROR(VLOOKUP($AD$128&AE130,抽選結果!B:F,3,FALSE),"") -> 那須野ヶ原ＦＣボンジボーラ イエロー
C131: =IFERROR(VLOOKUP($E$121&D131,抽選結果!B:F,3,FALSE),"") -> Ｊ－ＳＰＯＲＴＳＦＯＯＴＢＡＬＬＣＬＵＢ | D131: 5
AE132: 2 | AF132: =IFERROR(VLOOKUP($AD$128&AE132,抽選結果!B:F,3,FALSE),"") -> ＦＣアリーバ
C133: =IFERROR(VLOOKUP($E$121&D133,抽選結果!B:F,3,FALSE),"") -> 昭和・戸祭・附属サッカークラブ | D133: 6
AE134: 1 | AF134: =IFERROR(VLOOKUP($AD$128&AE134,抽選結果!B:F,3,FALSE),"") -> 大谷東フットボールクラブ

Sheet AB
A1: =U10組合せ!H3 -> ■第1日 10月12日 | I1: =U10組合せ!Q3 -> １次ラウンド | T1: 第1会場 | X1: =U10組合せ!A8 -> 真岡ハイトラ運動公園陸上競技場
I3: A | X3: AA
C6: 1 | G6: 2 | K6: 3 | O6: 4 | R6: 5 | V6: 6 | Z6: 7 | AD6: 8
C7: =U10組合せ!C8 -> ＴＥＡＭ リフレＳＣ | G7: =U10組合せ!C10 -> 大田原城山サッカークラブ | K7: =U10組合せ!C12 -> 足利サッカークラブジュニア | O7: =U10組合せ!C14 -> ＦＣプリメーロ | R7: =U10組合せ!C16 -> ＦＣ中村Ｕ－１０ | V7: =U10組合せ!C18 -> Ｓ４ スペランツァ | Z7: =U10組合せ!C20 -> さくらボン・ディ・ボーラ | AD7: =U10組合せ!C22 -> 藤原ＦＣ
B15: ピッチ | AD15: 主 | AE15: ・ | AF15: 補
B16: Ａ | C16: ① | D16: 0.5 | G16: =C7 -> ＴＥＡＭ リフレＳＣ | N16: =P16+P17 -> 0 | O16: （ | P16: 0 | Q16: － | R16: 0 | S16: ） | T16: =R16+R17 -> 0 | U16: =G7 -> 大田原城山サッカークラブ | AC16: ( | AD16: 5 | AE16: ・ | AF16: 6 | AG16: )
P17: 0 | Q17: － | R17: 0
B18: Ｂ | C18: ① | D18: 0.5 | G18: =K7 -> 足利サッカークラブジュニア | N18: =P18+P19 -> 0 | O18: （ | P18: 0 | Q18: － | R18: 0 | S18: ） | T18: =R18+R19 -> 0 | U18: =O7 -> ＦＣプリメーロ | AC18: ( | AD18: 7 | AE18: ・ | AF18: 8 | AG18: )
P19: 0 | Q19: － | R19: 0
B20: Ａ | C20: ② | D20: 0.52430556 | G20: =R7 -> ＦＣ中村Ｕ－１０ | N20: =P20+P21 -> 0 | O20: （ | P20: 0 | Q20: － | R20: 0 | S20: ） | T20: =R20+R21 -> 0 | U20: =V7 -> Ｓ４ スペランツァ | AC20: ( | AD20: 1 | AE20: ・ | AF20: 2 | AG20: )
P21: 0 | Q21: － | R21: 0
B22: Ｂ | C22: ② | D22: 0.52430556 | G22: =Z7 -> さくらボン・ディ・ボーラ | N22: =P22+P23 -> 0 | O22: （ | P22: 0 | Q22: － | R22: 0 | S22: ） | T22: =R22+R23 -> 0 | U22: =AD7 -> 藤原ＦＣ | AC22: ( | AD22: 3 | AE22: ・ | AF22: 4 | AG22: )
P23: 0 | Q23: － | R23: 0
B24: Ａ | C24: ③ | D24: 0.54861111 | G24: =C7 -> ＴＥＡＭ リフレＳＣ | N24: =P24+P25 -> 0 | O24: （ | P24: 0 | Q24: － | R24: 0 | S24: ） | T24: =R24+R25 -> 0 | U24: =K7 -> 足利サッカークラブジュニア | AC24: ( | AD24: 6 | AE24: ・ | AF24: 7 | AG24: )
P25: 0 | Q25: － | R25: 0
B26: Ｂ | C26: ③ | D26: 0.54861111 | G26: =G7 -> 大田原城山サッカークラブ | N26: =P26+P27 -> 0 | O26: （ | P26: 0 | Q26: － | R26: 0 | S26: ） | T26: =R26+R27 -> 0 | U26: =O7 -> ＦＣプリメーロ | AC26: ( | AD26: 8 | AE26: ・ | AF26: 5 | AG26: )
P27: 0 | Q27: － | R27: 0
B28: Ａ | C28: ④ | D28: 0.57291667 | G28: =R7 -> ＦＣ中村Ｕ－１０ | N28: =P28+P29 -> 0 | O28: （ | P28: 0 | Q28: － | R28: 0 | S28: ） | T28: =R28+R29 -> 0 | U28: =Z7 -> さくらボン・ディ・ボーラ | AC28: ( | AD28: 2 | AE28: ・ | AF28: 3 | AG28: )
P29: 0 | Q29: － | R29: 0
B30: Ｂ | C30: ④ | D30: 0.57291667 | G30: =V7 -> Ｓ４ スペランツァ | N30: =P30+P31 -> 0 | O30: （ | P30: 0 | Q30: － | R30: 0 | S30: ） | T30: =R30+R31 -> 0 | U30: =AD7 -> 藤原ＦＣ | AC30: ( | AD30: 4 | AE30: ・ | AF30: 1 | AG30: )
P31: 0 | Q31: － | R31: 0
B32: Ａ | C32: ⑤ | D32: 0.59722222 | G32: =C7 -> ＴＥＡＭ リフレＳＣ | N32: =P32+P33 -> 0 | O32: （ | P32: 0 | Q32: － | R32: 0 | S32: ） | T32: =R32+R33 -> 0 | U32: =O7 -> ＦＣプリメーロ | AC32: ( | AD32: 7 | AE32: ・ | AF32: 8 | AG32: )
P33: 0 | Q33: － | R33: 0
B34: Ｂ | C34: ⑤ | D34: 0.59722222 | G34: =G7 -> 大田原城山サッカークラブ | N34: =P34+P35 -> 0 | O34: （ | P34: 0 | Q34: － | R34: 0 | S34: ） | T34: =R34+R35 -> 0 | U34: =K7 -> 足利サッカークラブジュニア | AC34: ( | AD34: 5 | AE34: ・ | AF34: 6 | AG34: )
P35: 0 | Q35: － | R35: 0
B36: Ａ | C36: ⑥ | D36: 0.62152778 | G36: =R7 -> ＦＣ中村Ｕ－１０ | N36: =P36+P37 -> 0 | O36: （ | P36: 0 | Q36: － | R36: 0 | S36: ） | T36: =R36+R37 -> 0 | U36: =AD7 -> 藤原ＦＣ | AC36: ( | AD36: 3 | AE36: ・ | AF36: 4 | AG36: )
P37: 0 | Q37: － | R37: 0
B38: Ｂ | C38: ⑥ | D38: 0.62152778 | G38: =V7 -> Ｓ４ スペランツァ | N38: =P38+P39 -> 0 | O38: （ | P38: 0 | Q38: － | R38: 0 | S38: ） | T38: =R38+R39 -> 0 | U38: =Z7 -> さくらボン・ディ・ボーラ | AC38: ( | AD38: 1 | AE38: ・ | AF38: 2 | AG38: )
P39: 0 | Q39: － | R39: 0
B41: =I3 &"リーグ" -> Aリーグ | F41: =B43 -> ＴＥＡＭ リフレＳＣ | H41: =B45 -> 大田原城山サッカークラブ | J41: =B47 -> 足利サッカークラブジュニア | L41: =B49 -> ＦＣプリメーロ | N41: 勝点 | O41: 得失点 | P41: 順位 | R41: =X3 &"リーグ" -> AAリーグ | V41: =R7 -> ＦＣ中村Ｕ－１０ | X41: =V7 -> Ｓ４ スペランツァ | Z41: =Z7 -> さくらボン・ディ・ボーラ | AB41: =AD7 -> 藤原ＦＣ | AD41: 勝点 | AE41: 得失点 | AF41: 順位
B43: =C7 -> ＴＥＡＭ リフレＳＣ | H43: =N16 -> 0 | I43: =T16 -> 0 | J43: =N24 -> 0 | K43: =T24 -> 0 | L43: =N32 -> 0 | M43: =T32 -> 0 | N43: =COUNTIF(F44:M44,"○")*3+COUNTIF(F44:M44,"△") -> 3 | O43: =H43-I43+J43-K43+L43-M43 -> 0 | R43: =R7 -> ＦＣ中村Ｕ－１０ | X43: =N20 -> 0 | Y43: =T20 -> 0 | Z43: =N28 -> 0 | AA43: =T28 -> 0 | AB43: =N36 -> 0 | AC43: =T36 -> 0 | AD43: =COUNTIF(V44:AC44,"○")*3+COUNTIF(V44:AC44,"△") -> 3 | AE43: =X43-Y43+Z43-AA43+AB43-AC43 -> 0
H44: =IF(H43>I43,"○",IF(H43<I43,"×",IF(H43=I43,"△"))) -> △ | J44: =IF(J43>K43,"○",IF(J43<K43,"×",IF(J43=K43,"△"))) -> △ | L44: =IF(L43>M43,"○",IF(L43<M43,"×",IF(L43=M43,"△"))) -> △ | X44: =IF(X43>Y43,"○",IF(X43<Y43,"×",IF(X43=Y43,"△"))) -> △ | Z44: =IF(Z43>AA43,"○",IF(Z43<AA43,"×",IF(Z43=AA43,"△"))) -> △ | AB44: =IF(AB43>AC43,"○",IF(AB43<AC43,"×",IF(AB43=AC43,"△"))) -> △
B45: =G7 -> 大田原城山サッカークラブ | F45: =I43 -> 0 | G45: =H43 -> 0 | J45: =N34 -> 0 | K45: =T34 -> 0 | L45: =N26 -> 0 | M45: =T26 -> 0 | N45: =COUNTIF(F46:M46,"○")*3+COUNTIF(F46:M46,"△") -> 3 | O45: =F45-G45+J45-K45+L45-M45 -> 0 | R45: =V7 -> Ｓ４ スペランツァ | V45: =Y43 -> 0 | W45: =X43 -> 0 | Z45: =N38 -> 0 | AA45: =T38 -> 0 | AB45: =N30 -> 0 | AC45: =T30 -> 0 | AD45: =COUNTIF(V46:AC46,"○")*3+COUNTIF(V46:AC46,"△") -> 3 | AE45: =V45-W45+Z45-AA45+AB45-AC45 -> 0
F46: =IF(F45>G45,"○",IF(F45<G45,"×",IF(F45=G45,"△"))) -> △ | J46: =IF(J45>K45,"○",IF(J45<K45,"×",IF(J45=K45,"△"))) -> △ | L46: =IF(L45>M45,"○",IF(L45<M45,"×",IF(L45=M45,"△"))) -> △ | V46: =IF(V45>W45,"○",IF(V45<W45,"×",IF(V45=W45,"△"))) -> △ | Z46: =IF(Z45>AA45,"○",IF(Z45<AA45,"×",IF(Z45=AA45,"△"))) -> △ | AB46: =IF(AB45>AC45,"○",IF(AB45<AC45,"×",IF(AB45=AC45,"△"))) -> △
B47: =K7 -> 足利サッカークラブジュニア | F47: =K43 -> 0 | G47: =J43 -> 0 | H47: =K45 -> 0 | I47: =J45 -> 0 | L47: =N18 -> 0 | M47: =T18 -> 0 | N47: =COUNTIF(F48:M48,"○")*3+COUNTIF(F48:M48,"△") -> 3 | O47: =F47-G47+H47-I47+L47-M47 -> 0 | R47: =Z7 -> さくらボン・ディ・ボーラ | V47: =AA43 -> 0 | W47: =Z43 -> 0 | X47: =AA45 -> 0 | Y47: =Z45 -> 0 | AB47: =N22 -> 0 | AC47: =T22 -> 0 | AD47: =COUNTIF(V48:AC48,"○")*3+COUNTIF(V48:AC48,"△") -> 3 | AE47: =V47-W47+X47-Y47+AB47-AC47 -> 0
F48: =IF(F47>G47,"○",IF(F47<G47,"×",IF(F47=G47,"△"))) -> △ | H48: =IF(H47>I47,"○",IF(H47<I47,"×",IF(H47=I47,"△"))) -> △ | L48: =IF(L47>M47,"○",IF(L47<M47,"×",IF(L47=M47,"△"))) -> △ | V48: =IF(V47>W47,"○",IF(V47<W47,"×",IF(V47=W47,"△"))) -> △ | X48: =IF(X47>Y47,"○",IF(X47<Y47,"×",IF(X47=Y47,"△"))) -> △ | AB48: =IF(AB47>AC47,"○",IF(AB47<AC47,"×",IF(AB47=AC47,"△"))) -> △
B49: =O7 -> ＦＣプリメーロ | F49: =M43 -> 0 | G49: =L43 -> 0 | H49: =M45 -> 0 | I49: =L45 -> 0 | J49: =M47 -> 0 | K49: =L47 -> 0 | N49: =COUNTIF(F50:M50,"○")*3+COUNTIF(F50:M50,"△") -> 3 | O49: =F49-G49+H49-I49+J49-K49 -> 0 | R49: =AD7 -> 藤原ＦＣ | V49: =AC43 -> 0 | W49: =AB43 -> 0 | X49: =AC45 -> 0 | Y49: =AB45 -> 0 | Z49: =AC47 -> 0 | AA49: =AB47 -> 0 | AD49: =COUNTIF(V50:AC50,"○")*3+COUNTIF(V50:AC50,"△") -> 3 | AE49: =V49-W49+X49-Y49+Z49-AA49 -> 0
F50: =IF(F49>G49,"○",IF(F49<G49,"×",IF(F49=G49,"△"))) -> △ | H50: =IF(H49>I49,"○",IF(H49<I49,"×",IF(H49=I49,"△"))) -> △ | J50: =IF(J49>K49,"○",IF(J49<K49,"×",IF(J49=K49,"△"))) -> △ | V50: =IF(V49>W49,"○",IF(V49<W49,"×",IF(V49=W49,"△"))) -> △ | X50: =IF(X49>Y49,"○",IF(X49<Y49,"×",IF(X49=Y49,"△"))) -> △ | Z50: =IF(Z49>AA49,"○",IF(Z49<AA49,"×",IF(Z49=AA49,"△"))) -> △
A52: =A1 -> ■第1日 10月12日 | I52: =U10組合せ!Q3 -> １次ラウンド | T52: 第2会場 | X52: =U10組合せ!A24 -> 真岡ハイトラ運動公園運動広場1
I54: B | X54: BB
C57: 1 | G57: 2 | K57: 3 | O57: 4 | R57: 5 | V57: 6 | Z57: 7 | AD57: 8
C58: =U10組合せ!C24 -> 栃木Ｃｈａｒｍｅ．Ｆ．Ｃ | G58: =U10組合せ!C26 -> 大山フットボールクラブアミーゴ | K58: =U10組合せ!C28 -> 栃木ＳＣ Ｕ－１２ | O58: =U10組合せ!C30 -> ＫＳＣ鹿沼 | R58: =U10組合せ!C32 -> 久下田ＦＣ | V58: =U10組合せ!C34 -> ともぞうサッカークラブ Ｕ１０Ｂ | Z58: =U10組合せ!C36 -> ＦＣバジェルボ那須烏山 | AD58: =U10組合せ!C38 -> 栃木ウーヴァＦＣ・Ｕ－１０ ウィナーズ
B66: ピッチ | AD66: 主 | AE66: ・ | AF66: 補
B67: Ａ | C67: ① | D67: 0.5 | G67: =C58 -> 栃木Ｃｈａｒｍｅ．Ｆ．Ｃ | N67: =P67+P68 -> 0 | O67: （ | P67: 0 | Q67: － | R67: 0 | S67: ） | T67: =R67+R68 -> 0 | U67: =G58 -> 大山フットボールクラブアミーゴ | AC67: ( | AD67: 5 | AE67: ・ | AF67: 6 | AG67: )
P68: 0 | Q68: － | R68: 0
B69: Ｂ | C69: ① | D69: 0.5 | G69: =K58 -> 栃木ＳＣ Ｕ－１２ | N69: =P69+P70 -> 0 | O69: （ | P69: 0 | Q69: － | R69: 0 | S69: ） | T69: =R69+R70 -> 0 | U69: =O58 -> ＫＳＣ鹿沼 | AC69: ( | AD69: 7 | AE69: ・ | AF69: 8 | AG69: )
P70: 0 | Q70: － | R70: 0
B71: Ａ | C71: ② | D71: 0.52430556 | G71: =R58 -> 久下田ＦＣ | N71: =P71+P72 -> 0 | O71: （ | P71: 0 | Q71: － | R71: 0 | S71: ） | T71: =R71+R72 -> 0 | U71: =V58 -> ともぞうサッカークラブ Ｕ１０Ｂ | AC71: ( | AD71: 1 | AE71: ・ | AF71: 2 | AG71: )
P72: 0 | Q72: － | R72: 0
B73: Ｂ | C73: ② | D73: 0.52430556 | G73: =Z58 -> ＦＣバジェルボ那須烏山 | N73: =P73+P74 -> 0 | O73: （ | P73: 0 | Q73: － | R73: 0 | S73: ） | T73: =R73+R74 -> 0 | U73: =AD58 -> 栃木ウーヴァＦＣ・Ｕ－１０ ウィナーズ | AC73: ( | AD73: 3 | AE73: ・ | AF73: 4 | AG73: )
P74: 0 | Q74: － | R74: 0
B75: Ａ | C75: ③ | D75: 0.54861111 | G75: =C58 -> 栃木Ｃｈａｒｍｅ．Ｆ．Ｃ | N75: =P75+P76 -> 0 | O75: （ | P75: 0 | Q75: － | R75: 0 | S75: ） | T75: =R75+R76 -> 0 | U75: =K58 -> 栃木ＳＣ Ｕ－１２ | AC75: ( | AD75: 6 | AE75: ・ | AF75: 7 | AG75: )
P76: 0 | Q76: － | R76: 0
B77: Ｂ | C77: ③ | D77: 0.54861111 | G77: =G58 -> 大山フットボールクラブアミーゴ | N77: =P77+P78 -> 0 | O77: （ | P77: 0 | Q77: － | R77: 0 | S77: ） | T77: =R77+R78 -> 0 | U77: =O58 -> ＫＳＣ鹿沼 | AC77: ( | AD77: 8 | AE77: ・ | AF77: 5 | AG77: )
P78: 0 | Q78: － | R78: 0
B79: Ａ | C79: ④ | D79: 0.57291667 | G79: =R58 -> 久下田ＦＣ | N79: =P79+P80 -> 0 | O79: （ | P79: 0 | Q79: － | R79: 0 | S79: ） | T79: =R79+R80 -> 0 | U79: =Z58 -> ＦＣバジェルボ那須烏山 | AC79: ( | AD79: 2 | AE79: ・ | AF79: 3 | AG79: )
P80: 0 | Q80: － | R80: 0
B81: Ｂ | C81: ④ | D81: 0.57291667 | G81: =V58 -> ともぞうサッカークラブ Ｕ１０Ｂ | N81: =P81+P82 -> 0 | O81: （ | P81: 0 | Q81: － | R81: 0 | S81: ） | T81: =R81+R82 -> 0 | U81: =AD58 -> 栃木ウーヴァＦＣ・Ｕ－１０ ウィナーズ | AC81: ( | AD81: 4 | AE81: ・ | AF81: 1 | AG81: )
P82: 0 | Q82: － | R82: 0
B83: Ａ | C83: ⑤ | D83: 0.59722222 | G83: =C58 -> 栃木Ｃｈａｒｍｅ．Ｆ．Ｃ | N83: =P83+P84 -> 0 | O83: （ | P83: 0 | Q83: － | R83: 0 | S83: ） | T83: =R83+R84 -> 0 | U83: =O58 -> ＫＳＣ鹿沼 | AC83: ( | AD83: 7 | AE83: ・ | AF83: 8 | AG83: )
P84: 0 | Q84: － | R84: 0
B85: Ｂ | C85: ⑤ | D85: 0.59722222 | G85: =G58 -> 大山フットボールクラブアミーゴ | N85: =P85+P86 -> 0 | O85: （ | P85: 0 | Q85: － | R85: 0 | S85: ） | T85: =R85+R86 -> 0 | U85: =K58 -> 栃木ＳＣ Ｕ－１２ | AC85: ( | AD85: 5 | AE85: ・ | AF85: 6 | AG85: )
P86: 0 | Q86: － | R86: 0
B87: Ａ | C87: ⑥ | D87: 0.62152778 | G87: =R58 -> 久下田ＦＣ | N87: =P87+P88 -> 0 | O87: （ | P87: 0 | Q87: － | R87: 0 | S87: ） | T87: =R87+R88 -> 0 | U87: =AD58 -> 栃木ウーヴァＦＣ・Ｕ－１０ ウィナーズ | AC87: ( | AD87: 3 | AE87: ・ | AF87: 4 | AG87: )
P88: 0 | Q88: － | R88: 0
B89: Ｂ | C89: ⑥ | D89: 0.62152778 | G89: =V58 -> ともぞうサッカークラブ Ｕ１０Ｂ | N89: =P89+P90 -> 0 | O89: （ | P89: 0 | Q89: － | R89: 0 | S89: ） | T89: =R89+R90 -> 0 | U89: =Z58 -> ＦＣバジェルボ那須烏山 | AC89: ( | AD89: 1 | AE89: ・ | AF89: 2 | AG89: )
P90: 0 | Q90: － | R90: 0
B92: =I54 &"リーグ" -> Bリーグ | F92: =B94 -> 栃木Ｃｈａｒｍｅ．Ｆ．Ｃ | H92: =B96 -> 大山フットボールクラブアミーゴ | J92: =B98 -> 栃木ＳＣ Ｕ－１２ | L92: =B100 -> ＫＳＣ鹿沼 | N92: 勝点 | O92: 得失点 | P92: 順位 | R92: =X54 &"リーグ" -> BBリーグ | V92: =R58 -> 久下田ＦＣ | X92: =V58 -> ともぞうサッカークラブ Ｕ１０Ｂ | Z92: =Z58 -> ＦＣバジェルボ那須烏山 | AB92: =AD58 -> 栃木ウーヴァＦＣ・Ｕ－１０ ウィナーズ | AD92: 勝点 | AE92: 得失点 | AF92: 順位
B94: =C58 -> 栃木Ｃｈａｒｍｅ．Ｆ．Ｃ | H94: =N67 -> 0 | I94: =T67 -> 0 | J94: =N75 -> 0 | K94: =T75 -> 0 | L94: =N83 -> 0 | M94: =T83 -> 0 | N94: =COUNTIF(F95:M95,"○")*3+COUNTIF(F95:M95,"△") -> 3 | O94: =H94-I94+J94-K94+L94-M94 -> 0 | R94: =R58 -> 久下田ＦＣ | X94: =N71 -> 0 | Y94: =T71 -> 0 | Z94: =N79 -> 0 | AA94: =T79 -> 0 | AB94: =N87 -> 0 | AC94: =T87 -> 0 | AD94: =COUNTIF(V95:AC95,"○")*3+COUNTIF(V95:AC95,"△") -> 3 | AE94: =X94-Y94+Z94-AA94+AB94-AC94 -> 0
H95: =IF(H94>I94,"○",IF(H94<I94,"×",IF(H94=I94,"△"))) -> △ | J95: =IF(J94>K94,"○",IF(J94<K94,"×",IF(J94=K94,"△"))) -> △ | L95: =IF(L94>M94,"○",IF(L94<M94,"×",IF(L94=M94,"△"))) -> △ | X95: =IF(X94>Y94,"○",IF(X94<Y94,"×",IF(X94=Y94,"△"))) -> △ | Z95: =IF(Z94>AA94,"○",IF(Z94<AA94,"×",IF(Z94=AA94,"△"))) -> △ | AB95: =IF(AB94>AC94,"○",IF(AB94<AC94,"×",IF(AB94=AC94,"△"))) -> △
B96: =G58 -> 大山フットボールクラブアミーゴ | F96: =I94 -> 0 | G96: =H94 -> 0 | J96: =N85 -> 0 | K96: =T85 -> 0 | L96: =N77 -> 0 | M96: =T77 -> 0 | N96: =COUNTIF(F97:M97,"○")*3+COUNTIF(F97:M97,"△") -> 3 | O96: =F96-G96+J96-K96+L96-M96 -> 0 | R96: =V58 -> ともぞうサッカークラブ Ｕ１０Ｂ | V96: =Y94 -> 0 | W96: =X94 -> 0 | Z96: =N89 -> 0 | AA96: =T89 -> 0 | AB96: =N81 -> 0 | AC96: =T81 -> 0 | AD96: =COUNTIF(V97:AC97,"○")*3+COUNTIF(V97:AC97,"△") -> 3 | AE96: =V96-W96+Z96-AA96+AB96-AC96 -> 0
F97: =IF(F96>G96,"○",IF(F96<G96,"×",IF(F96=G96,"△"))) -> △ | J97: =IF(J96>K96,"○",IF(J96<K96,"×",IF(J96=K96,"△"))) -> △ | L97: =IF(L96>M96,"○",IF(L96<M96,"×",IF(L96=M96,"△"))) -> △ | V97: =IF(V96>W96,"○",IF(V96<W96,"×",IF(V96=W96,"△"))) -> △ | Z97: =IF(Z96>AA96,"○",IF(Z96<AA96,"×",IF(Z96=AA96,"△"))) -> △ | AB97: =IF(AB96>AC96,"○",IF(AB96<AC96,"×",IF(AB96=AC96,"△"))) -> △
B98: =K58 -> 栃木ＳＣ Ｕ－１２ | F98: =K94 -> 0 | G98: =J94 -> 0 | H98: =K96 -> 0 | I98: =J96 -> 0 | L98: =N69 -> 0 | M98: =T69 -> 0 | N98: =COUNTIF(F99:M99,"○")*3+COUNTIF(F99:M99,"△") -> 3 | O98: =F98-G98+H98-I98+L98-M98 -> 0 | R98: =Z58 -> ＦＣバジェルボ那須烏山 | V98: =AA94 -> 0 | W98: =Z94 -> 0 | X98: =AA96 -> 0 | Y98: =Z96 -> 0 | AB98: =N73 -> 0 | AC98: =T73 -> 0 | AD98: =COUNTIF(V99:AC99,"○")*3+COUNTIF(V99:AC99,"△") -> 3 | AE98: =V98-W98+X98-Y98+AB98-AC98 -> 0
F99: =IF(F98>G98,"○",IF(F98<G98,"×",IF(F98=G98,"△"))) -> △ | H99: =IF(H98>I98,"○",IF(H98<I98,"×",IF(H98=I98,"△"))) -> △ | L99: =IF(L98>M98,"○",IF(L98<M98,"×",IF(L98=M98,"△"))) -> △ | V99: =IF(V98>W98,"○",IF(V98<W98,"×",IF(V98=W98,"△"))) -> △ | X99: =IF(X98>Y98,"○",IF(X98<Y98,"×",IF(X98=Y98,"△"))) -> △ | AB99: =IF(AB98>AC98,"○",IF(AB98<AC98,"×",IF(AB98=AC98,"△"))) -> △
B100: =O58 -> ＫＳＣ鹿沼 | F100: =M94 -> 0 | G100: =L94 -> 0 | H100: =M96 -> 0 | I100: =L96 -> 0 | J100: =M98 -> 0 | K100: =L98 -> 0 | N100: =COUNTIF(F101:M101,"○")*3+COUNTIF(F101:M101,"△") -> 3 | O100: =F100-G100+H100-I100+J100-K100 -> 0 | R100: =AD58 -> 栃木ウーヴァＦＣ・Ｕ－１０ ウィナーズ | V100: =AC94 -> 0 | W100: =AB94 -> 0 | X100: =AC96 -> 0 | Y100: =AB96 -> 0 | Z100: =AC98 -> 0 | AA100: =AB98 -> 0 | AD100: =COUNTIF(V101:AC101,"○")*3+COUNTIF(V101:AC101,"△") -> 3 | AE100: =V100-W100+X100-Y100+Z100-AA100 -> 0
F101: =IF(F100>G100,"○",IF(F100<G100,"×",IF(F100=G100,"△"))) -> △ | H101: =IF(H100>I100,"○",IF(H100<I100,"×",IF(H100=I100,"△"))) -> △ | J101: =IF(J100>K100,"○",IF(J100<K100,"×",IF(J100=K100,"△"))) -> △ | V101: =IF(V100>W100,"○",IF(V100<W100,"×",IF(V100=W100,"△"))) -> △ | X101: =IF(X100>Y100,"○",IF(X100<Y100,"×",IF(X100=Y100,"△"))) -> △ | Z101: =IF(Z100>AA100,"○",IF(Z100<AA100,"×",IF(Z100=AA100,"△"))) -> △

Sheet CD
A1: =U10組合せ!H3 -> ■第1日 10月12日 | I1: =U10組合せ!Q3 -> １次ラウンド | T1: 第3会場 | X1: =U10組合せ!A40 -> サンエコ自然の森サッカー場
I3: C | X3: CC
C6: 1 | G6: 2 | K6: 3 | O6: 4 | R6: 5 | V6: 6 | Z6: 7 | AD6: 8
C7: =U10組合せ!C40 -> 宇都宮フットボールクラブジュニア | G7: =U10組合せ!C42 -> 都賀クラブジュニア | K7: =U10組合せ!C44 -> ヴェルフェ矢板Ｕ－１２ｂｌａｎｃ | O7: =U10組合せ!C46 -> 茂木ＦＣ | R7: =U10組合せ!C48 -> 鹿沼西ＦＣ | V7: =U10組合せ!C50 -> ｕｎｉｏｎｓｐｏｒｔｓｃｌｕｂ | Z7: =U10組合せ!C52 -> 東那須野ＦＣフェニックス | AD7: =U10組合せ!C54 -> ＣＡ．アトレチコ 佐野
B15: ピッチ | AD15: 主 | AE15: ・ | AF15: 補
B16: Ａ | C16: ① | D16: 0.5 | G16: =C7 -> 宇都宮フットボールクラブジュニア | N16: =P16+P17 -> 0 | O16: （ | P16: 0 | Q16: － | R16: 0 | S16: ） | T16: =R16+R17 -> 0 | U16: =G7 -> 都賀クラブジュニア | AC16: ( | AD16: 5 | AE16: ・ | AF16: 6 | AG16: )
P17: 0 | Q17: － | R17: 0
B18: Ｂ | C18: ① | D18: 0.5 | G18: =K7 -> ヴェルフェ矢板Ｕ－１２ｂｌａｎｃ | N18: =P18+P19 -> 0 | O18: （ | P18: 0 | Q18: － | R18: 0 | S18: ） | T18: =R18+R19 -> 0 | U18: =O7 -> 茂木ＦＣ | AC18: ( | AD18: 7 | AE18: ・ | AF18: 8 | AG18: )
P19: 0 | Q19: － | R19: 0
B20: Ａ | C20: ② | D20: 0.52430556 | G20: =R7 -> 鹿沼西ＦＣ | N20: =P20+P21 -> 0 | O20: （ | P20: 0 | Q20: － | R20: 0 | S20: ） | T20: =R20+R21 -> 0 | U20: =V7 -> ｕｎｉｏｎｓｐｏｒｔｓｃｌｕｂ | AC20: ( | AD20: 1 | AE20: ・ | AF20: 2 | AG20: )
P21: 0 | Q21: － | R21: 0
B22: Ｂ | C22: ② | D22: 0.52430556 | G22: =Z7 -> 東那須野ＦＣフェニックス | N22: =P22+P23 -> 0 | O22: （ | P22: 0 | Q22: － | R22: 0 | S22: ） | T22: =R22+R23 -> 0 | U22: =AD7 -> ＣＡ．アトレチコ 佐野 | AC22: ( | AD22: 3 | AE22: ・ | AF22: 4 | AG22: )
P23: 0 | Q23: － | R23: 0
B24: Ａ | C24: ③ | D24: 0.54861111 | G24: =C7 -> 宇都宮フットボールクラブジュニア | N24: =P24+P25 -> 0 | O24: （ | P24: 0 | Q24: － | R24: 0 | S24: ） | T24: =R24+R25 -> 0 | U24: =K7 -> ヴェルフェ矢板Ｕ－１２ｂｌａｎｃ | AC24: ( | AD24: 6 | AE24: ・ | AF24: 7 | AG24: )
P25: 0 | Q25: － | R25: 0
B26: Ｂ | C26: ③ | D26: 0.54861111 | G26: =G7 -> 都賀クラブジュニア | N26: =P26+P27 -> 0 | O26: （ | P26: 0 | Q26: － | R26: 0 | S26: ） | T26: =R26+R27 -> 0 | U26: =O7 -> 茂木ＦＣ | AC26: ( | AD26: 8 | AE26: ・ | AF26: 5 | AG26: )
P27: 0 | Q27: － | R27: 0
B28: Ａ | C28: ④ | D28: 0.57291667 | G28: =R7 -> 鹿沼西ＦＣ | N28: =P28+P29 -> 0 | O28: （ | P28: 0 | Q28: － | R28: 0 | S28: ） | T28: =R28+R29 -> 0 | U28: =Z7 -> 東那須野ＦＣフェニックス | AC28: ( | AD28: 2 | AE28: ・ | AF28: 3 | AG28: )
P29: 0 | Q29: － | R29: 0
B30: Ｂ | C30: ④ | D30: 0.57291667 | G30: =V7 -> ｕｎｉｏｎｓｐｏｒｔｓｃｌｕｂ | N30: =P30+P31 -> 0 | O30: （ | P30: 0 | Q30: － | R30: 0 | S30: ） | T30: =R30+R31 -> 0 | U30: =AD7 -> ＣＡ．アトレチコ 佐野 | AC30: ( | AD30: 4 | AE30: ・ | AF30: 1 | AG30: )
P31: 0 | Q31: － | R31: 0
B32: Ａ | C32: ⑤ | D32: 0.59722222 | G32: =C7 -> 宇都宮フットボールクラブジュニア | N32: =P32+P33 -> 0 | O32: （ | P32: 0 | Q32: － | R32: 0 | S32: ） | T32: =R32+R33 -> 0 | U32: =O7 -> 茂木ＦＣ | AC32: ( | AD32: 7 | AE32: ・ | AF32: 8 | AG32: )
P33: 0 | Q33: － | R33: 0
B34: Ｂ | C34: ⑤ | D34: 0.59722222 | G34: =G7 -> 都賀クラブジュニア | N34: =P34+P35 -> 0 | O34: （ | P34: 0 | Q34: － | R34: 0 | S34: ） | T34: =R34+R35 -> 0 | U34: =K7 -> ヴェルフェ矢板Ｕ－１２ｂｌａｎｃ | AC34: ( | AD34: 5 | AE34: ・ | AF34: 6 | AG34: )
P35: 0 | Q35: － | R35: 0
B36: Ａ | C36: ⑥ | D36: 0.62152778 | G36: =R7 -> 鹿沼西ＦＣ | N36: =P36+P37 -> 0 | O36: （ | P36: 0 | Q36: － | R36: 0 | S36: ） | T36: =R36+R37 -> 0 | U36: =AD7 -> ＣＡ．アトレチコ 佐野 | AC36: ( | AD36: 3 | AE36: ・ | AF36: 4 | AG36: )
P37: 0 | Q37: － | R37: 0
B38: Ｂ | C38: ⑥ | D38: 0.62152778 | G38: =V7 -> ｕｎｉｏｎｓｐｏｒｔｓｃｌｕｂ | N38: =P38+P39 -> 0 | O38: （ | P38: 0 | Q38: － | R38: 0 | S38: ） | T38: =R38+R39 -> 0 | U38: =Z7 -> 東那須野ＦＣフェニックス | AC38: ( | AD38: 1 | AE38: ・ | AF38: 2 | AG38: )
P39: 0 | Q39: － | R39: 0
B41: =I3 &"リーグ" -> Cリーグ | F41: =B43 -> 宇都宮フットボールクラブジュニア | H41: =B45 -> 都賀クラブジュニア | J41: =B47 -> ヴェルフェ矢板Ｕ－１２ｂｌａｎｃ | L41: =B49 -> 茂木ＦＣ | N41: 勝点 | O41: 得失点 | P41: 順位 | R41: =X3 &"リーグ" -> CCリーグ | V41: =R7 -> 鹿沼西ＦＣ | X41: =V7 -> ｕｎｉｏｎｓｐｏｒｔｓｃｌｕｂ | Z41: =Z7 -> 東那須野ＦＣフェニックス | AB41: =AD7 -> ＣＡ．アトレチコ 佐野 | AD41: 勝点 | AE41: 得失点 | AF41: 順位
B43: =C7 -> 宇都宮フットボールクラブジュニア | H43: =N16 -> 0 | I43: =T16 -> 0 | J43: =N24 -> 0 | K43: =T24 -> 0 | L43: =N32 -> 0 | M43: =T32 -> 0 | N43: =COUNTIF(F44:M44,"○")*3+COUNTIF(F44:M44,"△") -> 3 | O43: =H43-I43+J43-K43+L43-M43 -> 0 | R43: =R7 -> 鹿沼西ＦＣ | X43: =N20 -> 0 | Y43: =T20 -> 0 | Z43: =N28 -> 0 | AA43: =T28 -> 0 | AB43: =N36 -> 0 | AC43: =T36 -> 0 | AD43: =COUNTIF(V44:AC44,"○")*3+COUNTIF(V44:AC44,"△") -> 3 | AE43: =X43-Y43+Z43-AA43+AB43-AC43 -> 0
H44: =IF(H43>I43,"○",IF(H43<I43,"×",IF(H43=I43,"△"))) -> △ | J44: =IF(J43>K43,"○",IF(J43<K43,"×",IF(J43=K43,"△"))) -> △ | L44: =IF(L43>M43,"○",IF(L43<M43,"×",IF(L43=M43,"△"))) -> △ | X44: =IF(X43>Y43,"○",IF(X43<Y43,"×",IF(X43=Y43,"△"))) -> △ | Z44: =IF(Z43>AA43,"○",IF(Z43<AA43,"×",IF(Z43=AA43,"△"))) -> △ | AB44: =IF(AB43>AC43,"○",IF(AB43<AC43,"×",IF(AB43=AC43,"△"))) -> △
B45: =G7 -> 都賀クラブジュニア | F45: =I43 -> 0 | G45: =H43 -> 0 | J45: =N34 -> 0 | K45: =T34 -> 0 | L45: =N26 -> 0 | M45: =T26 -> 0 | N45: =COUNTIF(F46:M46,"○")*3+COUNTIF(F46:M46,"△") -> 3 | O45: =F45-G45+J45-K45+L45-M45 -> 0 | R45: =V7 -> ｕｎｉｏｎｓｐｏｒｔｓｃｌｕｂ | V45: =Y43 -> 0 | W45: =X43 -> 0 | Z45: =N38 -> 0 | AA45: =T38 -> 0 | AB45: =N30 -> 0 | AC45: =T30 -> 0 | AD45: =COUNTIF(V46:AC46,"○")*3+COUNTIF(V46:AC46,"△") -> 3 | AE45: =V45-W45+Z45-AA45+AB45-AC45 -> 0
F46: =IF(F45>G45,"○",IF(F45<G45,"×",IF(F45=G45,"△"))) -> △ | J46: =IF(J45>K45,"○",IF(J45<K45,"×",IF(J45=K45,"△"))) -> △ | L46: =IF(L45>M45,"○",IF(L45<M45,"×",IF(L45=M45,"△"))) -> △ | V46: =IF(V45>W45,"○",IF(V45<W45,"×",IF(V45=W45,"△"))) -> △ | Z46: =IF(Z45>AA45,"○",IF(Z45<AA45,"×",IF(Z45=AA45,"△"))) -> △ | AB46: =IF(AB45>AC45,"○",IF(AB45<AC45,"×",IF(AB45=AC45,"△"))) -> △
B47: =K7 -> ヴェルフェ矢板Ｕ－１２ｂｌａｎｃ | F47: =K43 -> 0 | G47: =J43 -> 0 | H47: =K45 -> 0 | I47: =J45 -> 0 | L47: =N18 -> 0 | M47: =T18 -> 0 | N47: =COUNTIF(F48:M48,"○")*3+COUNTIF(F48:M48,"△") -> 3 | O47: =F47-G47+H47-I47+L47-M47 -> 0 | R47: =Z7 -> 東那須野ＦＣフェニックス | V47: =AA43 -> 0 | W47: =Z43 -> 0 | X47: =AA45 -> 0 | Y47: =Z45 -> 0 | AB47: =N22 -> 0 | AC47: =T22 -> 0 | AD47: =COUNTIF(V48:AC48,"○")*3+COUNTIF(V48:AC48,"△") -> 3 | AE47: =V47-W47+X47-Y47+AB47-AC47 -> 0
F48: =IF(F47>G47,"○",IF(F47<G47,"×",IF(F47=G47,"△"))) -> △ | H48: =IF(H47>I47,"○",IF(H47<I47,"×",IF(H47=I47,"△"))) -> △ | L48: =IF(L47>M47,"○",IF(L47<M47,"×",IF(L47=M47,"△"))) -> △ | V48: =IF(V47>W47,"○",IF(V47<W47,"×",IF(V47=W47,"△"))) -> △ | X48: =IF(X47>Y47,"○",IF(X47<Y47,"×",IF(X47=Y47,"△"))) -> △ | AB48: =IF(AB47>AC47,"○",IF(AB47<AC47,"×",IF(AB47=AC47,"△"))) -> △
B49: =O7 -> 茂木ＦＣ | F49: =M43 -> 0 | G49: =L43 -> 0 | H49: =M45 -> 0 | I49: =L45 -> 0 | J49: =M47 -> 0 | K49: =L47 -> 0 | N49: =COUNTIF(F50:M50,"○")*3+COUNTIF(F50:M50,"△") -> 3 | O49: =F49-G49+H49-I49+J49-K49 -> 0 | R49: =AD7 -> ＣＡ．アトレチコ 佐野 | V49: =AC43 -> 0 | W49: =AB43 -> 0 | X49: =AC45 -> 0 | Y49: =AB45 -> 0 | Z49: =AC47 -> 0 | AA49: =AB47 -> 0 | AD49: =COUNTIF(V50:AC50,"○")*3+COUNTIF(V50:AC50,"△") -> 3 | AE49: =V49-W49+X49-Y49+Z49-AA49 -> 0
F50: =IF(F49>G49,"○",IF(F49<G49,"×",IF(F49=G49,"△"))) -> △ | H50: =IF(H49>I49,"○",IF(H49<I49,"×",IF(H49=I49,"△"))) -> △ | J50: =IF(J49>K49,"○",IF(J49<K49,"×",IF(J49=K49,"△"))) -> △ | V50: =IF(V49>W49,"○",IF(V49<W49,"×",IF(V49=W49,"△"))) -> △ | X50: =IF(X49>Y49,"○",IF(X49<Y49,"×",IF(X49=Y49,"△"))) -> △ | Z50: =IF(Z49>AA49,"○",IF(Z49<AA49,"×",IF(Z49=AA49,"△"))) -> △
A52: =A1 -> ■第1日 10月12日 | I52: =I1 -> １次ラウンド | T52: 第4会場 | X52: =U10組合せ!A56 -> 芳賀町けやき台サッカー場
J54: D | W54: DD
F57: 1 | J57: 2 | N57: 3 | S57: 4 | W57: 5 | AA57: 6
F58: =U10組合せ!C57 -> 間東ＦＣミラクルズ | J58: =U10組合せ!C59 -> ＦＣ ＳＦｉＤＡ | N58: =U10組合せ!C61 -> 雀宮フットボールクラブ | S58: =U10組合せ!C65 -> ＴＯＣＨＩＧＩ ＫＦＣ | W58: =U10組合せ!C67 -> 祖母井クラブ | AA58: =U10組合せ!C69 -> ＴＡＣ ＫＵＺＵＵ ＦＣ
AD66: 主 | AE66: ・ | AF66: 補
B67: ① | C67: 0.5 | G67: =F58 -> 間東ＦＣミラクルズ | N67: =P67+P68 -> 0 | O67: （ | P67: 0 | Q67: － | R67: 0 | S67: ） | T67: =R67+R68 -> 0 | U67: =J58 -> ＦＣ ＳＦｉＤＡ | AC67: ( | AD67: 6 | AE67: ・ | AF67: 4 | AG67: )
P68: 0 | Q68: － | R68: 0
B70: ② | C70: 0.52430556 | G70: =S58 -> ＴＯＣＨＩＧＩ ＫＦＣ | N70: =P70+P71 -> 0 | O70: （ | P70: 0 | Q70: － | R70: 0 | S70: ） | T70: =R70+R71 -> 0 | U70: =W58 -> 祖母井クラブ | AC70: ( | AD70: 2 | AE70: ・ | AF70: 1 | AG70: )
P71: 0 | Q71: － | R71: 0
B73: ③ | C73: 0.54861111 | G73: =F58 -> 間東ＦＣミラクルズ | N73: =P73+P74 -> 0 | O73: （ | P73: 0 | Q73: － | R73: 0 | S73: ） | T73: =R73+R74 -> 0 | U73: =N58 -> 雀宮フットボールクラブ | AC73: ( | AD73: 5 | AE73: ・ | AF73: 6 | AG73: )
P74: 0 | Q74: － | R74: 0
B76: ④ | C76: 0.57291667 | G76: =S58 -> ＴＯＣＨＩＧＩ ＫＦＣ | N76: =P76+P77 -> 0 | O76: （ | P76: 0 | Q76: － | R76: 0 | S76: ） | T76: =R76+R77 -> 0 | U76: =AA58 -> ＴＡＣ ＫＵＺＵＵ ＦＣ | AC76: ( | AD76: 1 | AE76: ・ | AF76: 3 | AG76: )
P77: 0 | Q77: － | R77: 0
B79: ⑤ | C79: 0.59722222 | G79: =J58 -> ＦＣ ＳＦｉＤＡ | N79: =P79+P80 -> 0 | O79: （ | P79: 0 | Q79: － | R79: 0 | S79: ） | T79: =R79+R80 -> 0 | U79: =N58 -> 雀宮フットボールクラブ | AC79: ( | AD79: 4 | AE79: ・ | AF79: 5 | AG79: )
P80: 0 | Q80: － | R80: 0
B82: ⑥ | C82: 0.62152778 | G82: =W58 -> 祖母井クラブ | N82: =P82+P83 -> 0 | O82: （ | P82: 0 | Q82: － | R82: 0 | S82: ） | T82: =R82+R83 -> 0 | U82: =AA58 -> ＴＡＣ ＫＵＺＵＵ ＦＣ | AC82: ( | AD82: 3 | AE82: ・ | AF82: 2 | AG82: )
P83: 0 | Q83: － | R83: 0
C85: =J54 &"リーグ" -> Dリーグ | G85: =C87 -> 間東ＦＣミラクルズ | I85: =C89 -> ＦＣ ＳＦｉＤＡ | K85: =C91 -> 雀宮フットボールクラブ | M85: 勝点 | N85: 得失点 | O85: 総得点 | P85: 順位 | R85: =W54 &"リーグ" -> DDリーグ | V85: =R87 -> ＴＯＣＨＩＧＩ ＫＦＣ | X85: =R89 -> 祖母井クラブ | Z85: =R91 -> ＴＡＣ ＫＵＺＵＵ ＦＣ | AB85: 勝点 | AC85: 得失点 | AD85: 総得点 | AE85: 順位
C87: =F58 -> 間東ＦＣミラクルズ | I87: =N67 -> 0 | J87: =T67 -> 0 | K87: =N73 -> 0 | L87: =T73 -> 0 | M87: =COUNTIF(G88:L88,"○")*3+COUNTIF(G88:L88,"△") -> 2 | N87: =O87-J87-L87 -> 0 | O87: =I87+K87 -> 0 | R87: =S58 -> ＴＯＣＨＩＧＩ ＫＦＣ | X87: =N70 -> 0 | Y87: =T70 -> 0 | Z87: =N76 -> 0 | AA87: =T76 -> 0 | AB87: =COUNTIF(V88:AA88,"○")*3+COUNTIF(V88:AA88,"△") -> 2 | AC87: =AD87-Y87-AA87 -> 0 | AD87: =X87+Z87 -> 0
I88: =IF(I87>J87,"○",IF(I87<J87,"×",IF(I87=J87,"△"))) -> △ | K88: =IF(K87>L87,"○",IF(K87<L87,"×",IF(K87=L87,"△"))) -> △ | X88: =IF(X87>Y87,"○",IF(X87<Y87,"×",IF(X87=Y87,"△"))) -> △ | Z88: =IF(Z87>AA87,"○",IF(Z87<AA87,"×",IF(Z87=AA87,"△"))) -> △
C89: =J58 -> ＦＣ ＳＦｉＤＡ | G89: =J87 -> 0 | H89: =I87 -> 0 | K89: =N79 -> 0 | L89: =T79 -> 0 | M89: =COUNTIF(G90:L90,"○")*3+COUNTIF(G90:L90,"△") -> 2 | N89: =O89-H89-L89 -> 0 | O89: =G89+K89 -> 0 | R89: =W58 -> 祖母井クラブ | V89: =Y87 -> 0 | W89: =X87 -> 0 | Z89: =N82 -> 0 | AA89: =T82 -> 0 | AB89: =COUNTIF(V90:AA90,"○")*3+COUNTIF(V90:AA90,"△") -> 2 | AC89: =AD89-W89-AA89 -> 0 | AD89: =V89+Z89 -> 0
G90: =IF(G89>H89,"○",IF(G89<H89,"×",IF(G89=H89,"△"))) -> △ | K90: =IF(K89>L89,"○",IF(K89<L89,"×",IF(K89=L89,"△"))) -> △ | V90: =IF(V89>W89,"○",IF(V89<W89,"×",IF(V89=W89,"△"))) -> △ | Z90: =IF(Z89>AA89,"○",IF(Z89<AA89,"×",IF(Z89=AA89,"△"))) -> △
C91: =N58 -> 雀宮フットボールクラブ | G91: =L87 -> 0 | H91: =K87 -> 0 | I91: =L89 -> 0 | J91: =K89 -> 0 | M91: =COUNTIF(G92:L92,"○")*3+COUNTIF(G92:L92,"△") -> 2 | N91: =O91-H91-J91 -> 0 | O91: =G91+I91 -> 0 | R91: =AA58 -> ＴＡＣ ＫＵＺＵＵ ＦＣ | V91: =AA87 -> 0 | W91: =Z87 -> 0 | X91: =AA89 -> 0 | Y91: =Z89 -> 0 | AB91: =COUNTIF(V92:AA92,"○")*3+COUNTIF(V92:AA92,"△") -> 2 | AC91: =AD91-W91-Y91 -> 0 | AD91: =V91+X91 -> 0
G92: =IF(G91>H91,"○",IF(G91<H91,"×",IF(G91=H91,"△"))) -> △ | I92: =IF(I91>J91,"○",IF(I91<J91,"×",IF(I91=J91,"△"))) -> △ | V92: =IF(V91>W91,"○",IF(V91<W91,"×",IF(V91=W91,"△"))) -> △ | X92: =IF(X91>Y91,"○",IF(X91<Y91,"×",IF(X91=Y91,"△"))) -> △

Sheet FF
A1: =U10組合せ!H3 -> ■第1日 10月12日 | I1: =U10組合せ!Q3 -> １次ラウンド | T1: 第5会場 | X1: =U10組合せ!A72 -> 別処山公園サッカー場
I3: E | X3: EE
C6: 1 | G6: 2 | K6: 3 | O6: 4 | R6: 5 | V6: 6 | Z6: 7 | AD6: 8
C7: =U10組合せ!C72 -> 今市ＦＣプログレス | G7: =U10組合せ!C74 -> 佐野ＳＳＳ | K7: =U10組合せ!C76 -> カテット白沢サッカースクール | O7: =U10組合せ!C78 -> ＳＡＫＵＲＡ ＦＯＯＴＢＡＬＬ ＣＬＵＢ Ｊｒ | R7: =U10組合せ!C80 -> 南河内サッカースポーツ少年団 | V7: =U10組合せ!C82 -> ヴェルフェ矢板Ｕ－１２ＶＥＲＴ | Z7: =U10組合せ!C84 -> 高林・青木フットボールクラブ | AD7: =U10組合せ!C86 -> ＪＦＣファイターズ
B15: ピッチ | AD15: 主 | AE15: ・ | AF15: 補
B16: Ａ | C16: ① | D16: 0.5 | G16: =C7 -> 今市ＦＣプログレス | N16: =P16+P17 -> 0 | O16: （ | P16: 0 | Q16: － | R16: 0 | S16: ） | T16: =R16+R17 -> 0 | U16: =G7 -> 佐野ＳＳＳ | AC16: ( | AD16: 5 | AE16: ・ | AF16: 6 | AG16: )
P17: 0 | Q17: － | R17: 0
B18: Ｂ | C18: ① | D18: 0.5 | G18: =K7 -> カテット白沢サッカースクール | N18: =P18+P19 -> 0 | O18: （ | P18: 0 | Q18: － | R18: 0 | S18: ） | T18: =R18+R19 -> 0 | U18: =O7 -> ＳＡＫＵＲＡ ＦＯＯＴＢＡＬＬ ＣＬＵＢ Ｊｒ | AC18: ( | AD18: 7 | AE18: ・ | AF18: 8 | AG18: )
P19: 0 | Q19: － | R19: 0
B20: Ａ | C20: ② | D20: 0.52430556 | G20: =R7 -> 南河内サッカースポーツ少年団 | N20: =P20+P21 -> 0 | O20: （ | P20: 0 | Q20: － | R20: 0 | S20: ） | T20: =R20+R21 -> 0 | U20: =V7 -> ヴェルフェ矢板Ｕ－１２ＶＥＲＴ | AC20: ( | AD20: 1 | AE20: ・ | AF20: 2 | AG20: )
P21: 0 | Q21: － | R21: 0
B22: Ｂ | C22: ② | D22: 0.52430556 | G22: =Z7 -> 高林・青木フットボールクラブ | N22: =P22+P23 -> 0 | O22: （ | P22: 0 | Q22: － | R22: 0 | S22: ） | T22: =R22+R23 -> 0 | U22: =AD7 -> ＪＦＣファイターズ | AC22: ( | AD22: 3 | AE22: ・ | AF22: 4 | AG22: )
P23: 0 | Q23: － | R23: 0
B24: Ａ | C24: ③ | D24: 0.54861111 | G24: =C7 -> 今市ＦＣプログレス | N24: =P24+P25 -> 0 | O24: （ | P24: 0 | Q24: － | R24: 0 | S24: ） | T24: =R24+R25 -> 0 | U24: =K7 -> カテット白沢サッカースクール | AC24: ( | AD24: 6 | AE24: ・ | AF24: 7 | AG24: )
P25: 0 | Q25: － | R25: 0
B26: Ｂ | C26: ③ | D26: 0.54861111 | G26: =G7 -> 佐野ＳＳＳ | N26: =P26+P27 -> 0 | O26: （ | P26: 0 | Q26: － | R26: 0 | S26: ） | T26: =R26+R27 -> 0 | U26: =O7 -> ＳＡＫＵＲＡ ＦＯＯＴＢＡＬＬ ＣＬＵＢ Ｊｒ | AC26: ( | AD26: 8 | AE26: ・ | AF26: 5 | AG26: )
P27: 0 | Q27: － | R27: 0
B28: Ａ | C28: ④ | D28: 0.57291667 | G28: =R7 -> 南河内サッカースポーツ少年団 | N28: =P28+P29 -> 0 | O28: （ | P28: 0 | Q28: － | R28: 0 | S28: ） | T28: =R28+R29 -> 0 | U28: =Z7 -> 高林・青木フットボールクラブ | AC28: ( | AD28: 2 | AE28: ・ | AF28: 3 | AG28: )
P29: 0 | Q29: － | R29: 0
B30: Ｂ | C30: ④ | D30: 0.57291667 | G30: =V7 -> ヴェルフェ矢板Ｕ－１２ＶＥＲＴ | N30: =P30+P31 -> 0 | O30: （ | P30: 0 | Q30: － | R30: 0 | S30: ） | T30: =R30+R31 -> 0 | U30: =AD7 -> ＪＦＣファイターズ | AC30: ( | AD30: 4 | AE30: ・ | AF30: 1 | AG30: )
P31: 0 | Q31: － | R31: 0
B32: Ａ | C32: ⑤ | D32: 0.59722222 | G32: =C7 -> 今市ＦＣプログレス | N32: =P32+P33 -> 0 | O32: （ | P32: 0 | Q32: － | R32: 0 | S32: ） | T32: =R32+R33 -> 0 | U32: =O7 -> ＳＡＫＵＲＡ ＦＯＯＴＢＡＬＬ ＣＬＵＢ Ｊｒ | AC32: ( | AD32: 7 | AE32: ・ | AF32: 8 | AG32: )
P33: 0 | Q33: － | R33: 0
B34: Ｂ | C34: ⑤ | D34: 0.59722222 | G34: =G7 -> 佐野ＳＳＳ | N34: =P34+P35 -> 0 | O34: （ | P34: 0 | Q34: － | R34: 0 | S34: ） | T34: =R34+R35 -> 0 | U34: =K7 -> カテット白沢サッカースクール | AC34: ( | AD34: 5 | AE34: ・ | AF34: 6 | AG34: )
P35: 0 | Q35: － | R35: 0
B36: Ａ | C36: ⑥ | D36: 0.62152778 | G36: =R7 -> 南河内サッカースポーツ少年団 | N36: =P36+P37 -> 0 | O36: （ | P36: 0 | Q36: － | R36: 0 | S36: ） | T36: =R36+R37 -> 0 | U36: =AD7 -> ＪＦＣファイターズ | AC36: ( | AD36: 3 | AE36: ・ | AF36: 4 | AG36: )
P37: 0 | Q37: － | R37: 0
B38: Ｂ | C38: ⑥ | D38: 0.62152778 | G38: =V7 -> ヴェルフェ矢板Ｕ－１２ＶＥＲＴ | N38: =P38+P39 -> 0 | O38: （ | P38: 0 | Q38: － | R38: 0 | S38: ） | T38: =R38+R39 -> 0 | U38: =Z7 -> 高林・青木フットボールクラブ | AC38: ( | AD38: 1 | AE38: ・ | AF38: 2 | AG38: )
P39: 0 | Q39: － | R39: 0
B41: =I3 &"リーグ" -> Eリーグ | F41: =B43 -> 今市ＦＣプログレス | H41: =B45 -> 佐野ＳＳＳ | J41: =B47 -> カテット白沢サッカースクール | L41: =B49 -> ＳＡＫＵＲＡ ＦＯＯＴＢＡＬＬ ＣＬＵＢ Ｊｒ | N41: 勝点 | O41: 得失点 | P41: 順位 | R41: =X3 &"リーグ" -> EEリーグ | V41: =R7 -> 南河内サッカースポーツ少年団 | X41: =V7 -> ヴェルフェ矢板Ｕ－１２ＶＥＲＴ | Z41: =Z7 -> 高林・青木フットボールクラブ | AB41: =AD7 -> ＪＦＣファイターズ | AD41: 勝点 | AE41: 得失点 | AF41: 順位
B43: =C7 -> 今市ＦＣプログレス | H43: =N16 -> 0 | I43: =T16 -> 0 | J43: =N24 -> 0 | K43: =T24 -> 0 | L43: =N32 -> 0 | M43: =T32 -> 0 | N43: =COUNTIF(F44:M44,"○")*3+COUNTIF(F44:M44,"△") -> 3 | O43: =H43-I43+J43-K43+L43-M43 -> 0 | R43: =R7 -> 南河内サッカースポーツ少年団 | X43: =N20 -> 0 | Y43: =T20 -> 0 | Z43: =N28 -> 0 | AA43: =T28 -> 0 | AB43: =N36 -> 0 | AC43: =T36 -> 0 | AD43: =COUNTIF(V44:AC44,"○")*3+COUNTIF(V44:AC44,"△") -> 3 | AE43: =X43-Y43+Z43-AA43+AB43-AC43 -> 0
H44: =IF(H43>I43,"○",IF(H43<I43,"×",IF(H43=I43,"△"))) -> △ | J44: =IF(J43>K43,"○",IF(J43<K43,"×",IF(J43=K43,"△"))) -> △ | L44: =IF(L43>M43,"○",IF(L43<M43,"×",IF(L43=M43,"△"))) -> △ | X44: =IF(X43>Y43,"○",IF(X43<Y43,"×",IF(X43=Y43,"△"))) -> △ | Z44: =IF(Z43>AA43,"○",IF(Z43<AA43,"×",IF(Z43=AA43,"△"))) -> △ | AB44: =IF(AB43>AC43,"○",IF(AB43<AC43,"×",IF(AB43=AC43,"△"))) -> △
B45: =G7 -> 佐野ＳＳＳ | F45: =I43 -> 0 | G45: =H43 -> 0 | J45: =N34 -> 0 | K45: =T34 -> 0 | L45: =N26 -> 0 | M45: =T26 -> 0 | N45: =COUNTIF(F46:M46,"○")*3+COUNTIF(F46:M46,"△") -> 3 | O45: =F45-G45+J45-K45+L45-M45 -> 0 | R45: =V7 -> ヴェルフェ矢板Ｕ－１２ＶＥＲＴ | V45: =Y43 -> 0 | W45: =X43 -> 0 | Z45: =N38 -> 0 | AA45: =T38 -> 0 | AB45: =N30 -> 0 | AC45: =T30 -> 0 | AD45: =COUNTIF(V46:AC46,"○")*3+COUNTIF(V46:AC46,"△") -> 3 | AE45: =V45-W45+Z45-AA45+AB45-AC45 -> 0
F46: =IF(F45>G45,"○",IF(F45<G45,"×",IF(F45=G45,"△"))) -> △ | J46: =IF(J45>K45,"○",IF(J45<K45,"×",IF(J45=K45,"△"))) -> △ | L46: =IF(L45>M45,"○",IF(L45<M45,"×",IF(L45=M45,"△"))) -> △ | V46: =IF(V45>W45,"○",IF(V45<W45,"×",IF(V45=W45,"△"))) -> △ | Z46: =IF(Z45>AA45,"○",IF(Z45<AA45,"×",IF(Z45=AA45,"△"))) -> △ | AB46: =IF(AB45>AC45,"○",IF(AB45<AC45,"×",IF(AB45=AC45,"△"))) -> △
B47: =K7 -> カテット白沢サッカースクール | F47: =K43 -> 0 | G47: =J43 -> 0 | H47: =K45 -> 0 | I47: =J45 -> 0 | L47: =N18 -> 0 | M47: =T18 -> 0 | N47: =COUNTIF(F48:M48,"○")*3+COUNTIF(F48:M48,"△") -> 3 | O47: =F47-G47+H47-I47+L47-M47 -> 0 | R47: =Z7 -> 高林・青木フットボールクラブ | V47: =AA43 -> 0 | W47: =Z43 -> 0 | X47: =AA45 -> 0 | Y47: =Z45 -> 0 | AB47: =N22 -> 0 | AC47: =T22 -> 0 | AD47: =COUNTIF(V48:AC48,"○")*3+COUNTIF(V48:AC48,"△") -> 3 | AE47: =V47-W47+X47-Y47+AB47-AC47 -> 0
F48: =IF(F47>G47,"○",IF(F47<G47,"×",IF(F47=G47,"△"))) -> △ | H48: =IF(H47>I47,"○",IF(H47<I47,"×",IF(H47=I47,"△"))) -> △ | L48: =IF(L47>M47,"○",IF(L47<M47,"×",IF(L47=M47,"△"))) -> △ | V48: =IF(V47>W47,"○",IF(V47<W47,"×",IF(V47=W47,"△"))) -> △ | X48: =IF(X47>Y47,"○",IF(X47<Y47,"×",IF(X47=Y47,"△"))) -> △ | AB48: =IF(AB47>AC47,"○",IF(AB47<AC47,"×",IF(AB47=AC47,"△"))) -> △
B49: =O7 -> ＳＡＫＵＲＡ ＦＯＯＴＢＡＬＬ ＣＬＵＢ Ｊｒ | F49: =M43 -> 0 | G49: =L43 -> 0 | H49: =M45 -> 0 | I49: =L45 -> 0 | J49: =M47 -> 0 | K49: =L47 -> 0 | N49: =COUNTIF(F50:M50,"○")*3+COUNTIF(F50:M50,"△") -> 3 | O49: =F49-G49+H49-I49+J49-K49 -> 0 | R49: =AD7 -> ＪＦＣファイターズ | V49: =AC43 -> 0 | W49: =AB43 -> 0 | X49: =AC45 -> 0 | Y49: =AB45 -> 0 | Z49: =AC47 -> 0 | AA49: =AB47 -> 0 | AD49: =COUNTIF(V50:AC50,"○")*3+COUNTIF(V50:AC50,"△") -> 3 | AE49: =V49-W49+X49-Y49+Z49-AA49 -> 0
F50: =IF(F49>G49,"○",IF(F49<G49,"×",IF(F49=G49,"△"))) -> △ | H50: =IF(H49>I49,"○",IF(H49<I49,"×",IF(H49=I49,"△"))) -> △ | J50: =IF(J49>K49,"○",IF(J49<K49,"×",IF(J49=K49,"△"))) -> △ | V50: =IF(V49>W49,"○",IF(V49<W49,"×",IF(V49=W49,"△"))) -> △ | X50: =IF(X49>Y49,"○",IF(X49<Y49,"×",IF(X49=Y49,"△"))) -> △ | Z50: =IF(Z49>AA49,"○",IF(Z49<AA49,"×",IF(Z49=AA49,"△"))) -> △
A52: =A1 -> ■第1日 10月12日 | I52: =U10組合せ!Q3 -> １次ラウンド | T52: 第6会場 | X52: =U10組合せ!A88 -> 宇都宮市サッカー場（平出）
I54: F | X54: FF
C57: 1 | G57: 2 | K57: 3 | O57: 4 | R57: 5 | V57: 6 | Z57: 7 | AD57: 8
C58: =U10組合せ!C88 -> ＴＳＵＮＡＧＵ Ｓｐｏｒｔｓ Ａｃａｄｅｍｙ | G58: =U10組合せ!C90 -> さくらシティＦＣ | K58: =U10組合せ!C92 -> ＦＣ ＳＨＵＪＡＫＵ | O58: =U10組合せ!C94 -> ＦＣみらい | R58: =U10組合せ!C96 -> 豊郷ＪＦＣ宇都宮 | V58: =U10組合せ!C98 -> 益子ＳＣ | Z58: =U10組合せ!C100 -> フットボールクラブガナドール大田原Ｕ１２ | AD58: =U10組合せ!C102 -> 栃木ウーヴァＦＣ・Ｕ－１０ セレソン
B66: ピッチ | AD66: 主 | AE66: ・ | AF66: 補
B67: Ａ | C67: ① | D67: 0.5 | G67: =C58 -> ＴＳＵＮＡＧＵ Ｓｐｏｒｔｓ Ａｃａｄｅｍｙ | N67: =P67+P68 -> 0 | O67: （ | P67: 0 | Q67: － | R67: 0 | S67: ） | T67: =R67+R68 -> 0 | U67: =G58 -> さくらシティＦＣ | AC67: ( | AD67: 5 | AE67: ・ | AF67: 6 | AG67: )
P68: 0 | Q68: － | R68: 0
B69: Ｂ | C69: ① | D69: 0.5 | G69: =K58 -> ＦＣ ＳＨＵＪＡＫＵ | N69: =P69+P70 -> 0 | O69: （ | P69: 0 | Q69: － | R69: 0 | S69: ） | T69: =R69+R70 -> 0 | U69: =O58 -> ＦＣみらい | AC69: ( | AD69: 7 | AE69: ・ | AF69: 8 | AG69: )
P70: 0 | Q70: － | R70: 0
B71: Ａ | C71: ② | D71: 0.52430556 | G71: =R58 -> 豊郷ＪＦＣ宇都宮 | N71: =P71+P72 -> 0 | O71: （ | P71: 0 | Q71: － | R71: 0 | S71: ） | T71: =R71+R72 -> 0 | U71: =V58 -> 益子ＳＣ | AC71: ( | AD71: 1 | AE71: ・ | AF71: 2 | AG71: )
P72: 0 | Q72: － | R72: 0
B73: Ｂ | C73: ② | D73: 0.52430556 | G73: =Z58 -> フットボールクラブガナドール大田原Ｕ１２ | N73: =P73+P74 -> 0 | O73: （ | P73: 0 | Q73: － | R73: 0 | S73: ） | T73: =R73+R74 -> 0 | U73: =AD58 -> 栃木ウーヴァＦＣ・Ｕ－１０ セレソン | AC73: ( | AD73: 3 | AE73: ・ | AF73: 4 | AG73: )
P74: 0 | Q74: － | R74: 0
B75: Ａ | C75: ③ | D75: 0.54861111 | G75: =C58 -> ＴＳＵＮＡＧＵ Ｓｐｏｒｔｓ Ａｃａｄｅｍｙ | N75: =P75+P76 -> 0 | O75: （ | P75: 0 | Q75: － | R75: 0 | S75: ） | T75: =R75+R76 -> 0 | U75: =K58 -> ＦＣ ＳＨＵＪＡＫＵ | AC75: ( | AD75: 6 | AE75: ・ | AF75: 7 | AG75: )
P76: 0 | Q76: － | R76: 0
B77: Ｂ | C77: ③ | D77: 0.54861111 | G77: =G58 -> さくらシティＦＣ | N77: =P77+P78 -> 0 | O77: （ | P77: 0 | Q77: － | R77: 0 | S77: ） | T77: =R77+R78 -> 0 | U77: =O58 -> ＦＣみらい | AC77: ( | AD77: 8 | AE77: ・ | AF77: 5 | AG77: )
P78: 0 | Q78: － | R78: 0
B79: Ａ | C79: ④ | D79: 0.57291667 | G79: =R58 -> 豊郷ＪＦＣ宇都宮 | N79: =P79+P80 -> 0 | O79: （ | P79: 0 | Q79: － | R79: 0 | S79: ） | T79: =R79+R80 -> 0 | U79: =Z58 -> フットボールクラブガナドール大田原Ｕ１２ | AC79: ( | AD79: 2 | AE79: ・ | AF79: 3 | AG79: )
P80: 0 | Q80: － | R80: 0
B81: Ｂ | C81: ④ | D81: 0.57291667 | G81: =V58 -> 益子ＳＣ | N81: =P81+P82 -> 0 | O81: （ | P81: 0 | Q81: － | R81: 0 | S81: ） | T81: =R81+R82 -> 0 | U81: =AD58 -> 栃木ウーヴァＦＣ・Ｕ－１０ セレソン | AC81: ( | AD81: 4 | AE81: ・ | AF81: 1 | AG81: )
P82: 0 | Q82: － | R82: 0
B83: Ａ | C83: ⑤ | D83: 0.59722222 | G83: =C58 -> ＴＳＵＮＡＧＵ Ｓｐｏｒｔｓ Ａｃａｄｅｍｙ | N83: =P83+P84 -> 0 | O83: （ | P83: 0 | Q83: － | R83: 0 | S83: ） | T83: =R83+R84 -> 0 | U83: =O58 -> ＦＣみらい | AC83: ( | AD83: 7 | AE83: ・ | AF83: 8 | AG83: )
P84: 0 | Q84: － | R84: 0
B85: Ｂ | C85: ⑤ | D85: 0.59722222 | G85: =G58 -> さくらシティＦＣ | N85: =P85+P86 -> 0 | O85: （ | P85: 0 | Q85: － | R85: 0 | S85: ） | T85: =R85+R86 -> 0 | U85: =K58 -> ＦＣ ＳＨＵＪＡＫＵ | AC85: ( | AD85: 5 | AE85: ・ | AF85: 6 | AG85: )
P86: 0 | Q86: － | R86: 0
B87: Ａ | C87: ⑥ | D87: 0.62152778 | G87: =R58 -> 豊郷ＪＦＣ宇都宮 | N87: =P87+P88 -> 0 | O87: （ | P87: 0 | Q87: － | R87: 0 | S87: ） | T87: =R87+R88 -> 0 | U87: =AD58 -> 栃木ウーヴァＦＣ・Ｕ－１０ セレソン | AC87: ( | AD87: 3 | AE87: ・ | AF87: 4 | AG87: )
P88: 0 | Q88: － | R88: 0
B89: Ｂ | C89: ⑥ | D89: 0.62152778 | G89: =V58 -> 益子ＳＣ | N89: =P89+P90 -> 0 | O89: （ | P89: 0 | Q89: － | R89: 0 | S89: ） | T89: =R89+R90 -> 0 | U89: =Z58 -> フットボールクラブガナドール大田原Ｕ１２ | AC89: ( | AD89: 1 | AE89: ・ | AF89: 2 | AG89: )
P90: 0 | Q90: － | R90: 0
B92: =I54 &"リーグ" -> Fリーグ | F92: =B94 -> ＴＳＵＮＡＧＵ Ｓｐｏｒｔｓ Ａｃａｄｅｍｙ | H92: =B96 -> さくらシティＦＣ | J92: =B98 -> ＦＣ ＳＨＵＪＡＫＵ | L92: =B100 -> ＦＣみらい | N92: 勝点 | O92: 得失点 | P92: 順位 | R92: =X54 &"リーグ" -> FFリーグ | V92: =R58 -> 豊郷ＪＦＣ宇都宮 | X92: =V58 -> 益子ＳＣ | Z92: =Z58 -> フットボールクラブガナドール大田原Ｕ１２ | AB92: =AD58 -> 栃木ウーヴァＦＣ・Ｕ－１０ セレソン | AD92: 勝点 | AE92: 得失点 | AF92: 順位
B94: =C58 -> ＴＳＵＮＡＧＵ Ｓｐｏｒｔｓ Ａｃａｄｅｍｙ | H94: =N67 -> 0 | I94: =T67 -> 0 | J94: =N75 -> 0 | K94: =T75 -> 0 | L94: =N83 -> 0 | M94: =T83 -> 0 | N94: =COUNTIF(F95:M95,"○")*3+COUNTIF(F95:M95,"△") -> 3 | O94: =H94-I94+J94-K94+L94-M94 -> 0 | R94: =R58 -> 豊郷ＪＦＣ宇都宮 | X94: =N71 -> 0 | Y94: =T71 -> 0 | Z94: =N79 -> 0 | AA94: =T79 -> 0 | AB94: =N87 -> 0 | AC94: =T87 -> 0 | AD94: =COUNTIF(V95:AC95,"○")*3+COUNTIF(V95:AC95,"△") -> 3 | AE94: =X94-Y94+Z94-AA94+AB94-AC94 -> 0
H95: =IF(H94>I94,"○",IF(H94<I94,"×",IF(H94=I94,"△"))) -> △ | J95: =IF(J94>K94,"○",IF(J94<K94,"×",IF(J94=K94,"△"))) -> △ | L95: =IF(L94>M94,"○",IF(L94<M94,"×",IF(L94=M94,"△"))) -> △ | X95: =IF(X94>Y94,"○",IF(X94<Y94,"×",IF(X94=Y94,"△"))) -> △ | Z95: =IF(Z94>AA94,"○",IF(Z94<AA94,"×",IF(Z94=AA94,"△"))) -> △ | AB95: =IF(AB94>AC94,"○",IF(AB94<AC94,"×",IF(AB94=AC94,"△"))) -> △
B96: =G58 -> さくらシティＦＣ | F96: =I94 -> 0 | G96: =H94 -> 0 | J96: =N85 -> 0 | K96: =T85 -> 0 | L96: =N77 -> 0 | M96: =T77 -> 0 | N96: =COUNTIF(F97:M97,"○")*3+COUNTIF(F97:M97,"△") -> 3 | O96: =F96-G96+J96-K96+L96-M96 -> 0 | R96: =V58 -> 益子ＳＣ | V96: =Y94 -> 0 | W96: =X94 -> 0 | Z96: =N89 -> 0 | AA96: =T89 -> 0 | AB96: =N81 -> 0 | AC96: =T81 -> 0 | AD96: =COUNTIF(V97:AC97,"○")*3+COUNTIF(V97:AC97,"△") -> 3 | AE96: =V96-W96+Z96-AA96+AB96-AC96 -> 0
F97: =IF(F96>G96,"○",IF(F96<G96,"×",IF(F96=G96,"△"))) -> △ | J97: =IF(J96>K96,"○",IF(J96<K96,"×",IF(J96=K96,"△"))) -> △ | L97: =IF(L96>M96,"○",IF(L96<M96,"×",IF(L96=M96,"△"))) -> △ | V97: =IF(V96>W96,"○",IF(V96<W96,"×",IF(V96=W96,"△"))) -> △ | Z97: =IF(Z96>AA96,"○",IF(Z96<AA96,"×",IF(Z96=AA96,"△"))) -> △ | AB97: =IF(AB96>AC96,"○",IF(AB96<AC96,"×",IF(AB96=AC96,"△"))) -> △
B98: =K58 -> ＦＣ ＳＨＵＪＡＫＵ | F98: =K94 -> 0 | G98: =J94 -> 0 | H98: =K96 -> 0 | I98: =J96 -> 0 | L98: =N69 -> 0 | M98: =T69 -> 0 | N98: =COUNTIF(F99:M99,"○")*3+COUNTIF(F99:M99,"△") -> 3 | O98: =F98-G98+H98-I98+L98-M98 -> 0 | R98: =Z58 -> フットボールクラブガナドール大田原Ｕ１２ | V98: =AA94 -> 0 | W98: =Z94 -> 0 | X98: =AA96 -> 0 | Y98: =Z96 -> 0 | AB98: =N73 -> 0 | AC98: =T73 -> 0 | AD98: =COUNTIF(V99:AC99,"○")*3+COUNTIF(V99:AC99,"△") -> 3 | AE98: =V98-W98+X98-Y98+AB98-AC98 -> 0
F99: =IF(F98>G98,"○",IF(F98<G98,"×",IF(F98=G98,"△"))) -> △ | H99: =IF(H98>I98,"○",IF(H98<I98,"×",IF(H98=I98,"△"))) -> △ | L99: =IF(L98>M98,"○",IF(L98<M98,"×",IF(L98=M98,"△"))) -> △ | V99: =IF(V98>W98,"○",IF(V98<W98,"×",IF(V98=W98,"△"))) -> △ | X99: =IF(X98>Y98,"○",IF(X98<Y98,"×",IF(X98=Y98,"△"))) -> △ | AB99: =IF(AB98>AC98,"○",IF(AB98<AC98,"×",IF(AB98=AC98,"△"))) -> △
B100: =O58 -> ＦＣみらい | F100: =M94 -> 0 | G100: =L94 -> 0 | H100: =M96 -> 0 | I100: =L96 -> 0 | J100: =M98 -> 0 | K100: =L98 -> 0 | N100: =COUNTIF(F101:M101,"○")*3+COUNTIF(F101:M101,"△") -> 3 | O100: =F100-G100+H100-I100+J100-K100 -> 0 | R100: =AD58 -> 栃木ウーヴァＦＣ・Ｕ－１０ セレソン | V100: =AC94 -> 0 | W100: =AB94 -> 0 | X100: =AC96 -> 0 | Y100: =AB96 -> 0 | Z100: =AC98 -> 0 | AA100: =AB98 -> 0 | AD100: =COUNTIF(V101:AC101,"○")*3+COUNTIF(V101:AC101,"△") -> 3 | AE100: =V100-W100+X100-Y100+Z100-AA100 -> 0
F101: =IF(F100>G100,"○",IF(F100<G100,"×",IF(F100=G100,"△"))) -> △ | H101: =IF(H100>I100,"○",IF(H100<I100,"×",IF(H100=I100,"△"))) -> △ | J101: =IF(J100>K100,"○",IF(J100<K100,"×",IF(J100=K100,"△"))) -> △ | V101: =IF(V100>W100,"○",IF(V100<W100,"×",IF(V100=W100,"△"))) -> △ | X101: =IF(X100>Y100,"○",IF(X100<Y100,"×",IF(X100=Y100,"△"))) -> △ | Z101: =IF(Z100>AA100,"○",IF(Z100<AA100,"×",IF(Z100=AA100,"△"))) -> △

Sheet GH
A1: =U10組合せ!H3 -> ■第1日 10月12日 | I1: =U10組合せ!Q3 -> １次ラウンド | T1: 第7会場 | X1: =U10組合せ!A104 -> 宇都宮市石井緑地サッカー場1・2
I3: G | X3: GG
C6: 1 | G6: 2 | K6: 3 | O6: 4 | R6: 5 | V6: 6 | Z6: 7 | AD6: 8
C7: =U10組合せ!C104 -> 御厨フットボールクラブ | G7: =U10組合せ!C106 -> ＬＥＯＮＥ ＳＳ | K7: =U10組合せ!C108 -> 高根沢西フットボールクラブ | O7: =U10組合せ!C110 -> ＦＣ城東 | R7: =U10組合せ!C112 -> ともぞうサッカークラブ Ｕ１０ | V7: =U10組合せ!C114 -> ＦＣあわのレジェンド | Z7: =U10組合せ!C116 -> ＦＣ Ａｖａｎｃｅ | AD7: =U10組合せ!C118 -> 野木ＳＳＳ
B15: ピッチ | AD15: 主 | AE15: ・ | AF15: 補
B16: Ａ | C16: ① | D16: 0.5 | G16: =C7 -> 御厨フットボールクラブ | N16: =P16+P17 -> 0 | O16: （ | P16: 0 | Q16: － | R16: 0 | S16: ） | T16: =R16+R17 -> 0 | U16: =G7 -> ＬＥＯＮＥ ＳＳ | AC16: ( | AD16: 5 | AE16: ・ | AF16: 6 | AG16: )
P17: 0 | Q17: － | R17: 0
B18: Ｂ | C18: ① | D18: 0.5 | G18: =K7 -> 高根沢西フットボールクラブ | N18: =P18+P19 -> 0 | O18: （ | P18: 0 | Q18: － | R18: 0 | S18: ） | T18: =R18+R19 -> 0 | U18: =O7 -> ＦＣ城東 | AC18: ( | AD18: 7 | AE18: ・ | AF18: 8 | AG18: )
P19: 0 | Q19: － | R19: 0
B20: Ａ | C20: ② | D20: 0.52430556 | G20: =R7 -> ともぞうサッカークラブ Ｕ１０ | N20: =P20+P21 -> 0 | O20: （ | P20: 0 | Q20: － | R20: 0 | S20: ） | T20: =R20+R21 -> 0 | U20: =V7 -> ＦＣあわのレジェンド | AC20: ( | AD20: 1 | AE20: ・ | AF20: 2 | AG20: )
P21: 0 | Q21: － | R21: 0
B22: Ｂ | C22: ② | D22: 0.52430556 | G22: =Z7 -> ＦＣ Ａｖａｎｃｅ | N22: =P22+P23 -> 0 | O22: （ | P22: 0 | Q22: － | R22: 0 | S22: ） | T22: =R22+R23 -> 0 | U22: =AD7 -> 野木ＳＳＳ | AC22: ( | AD22: 3 | AE22: ・ | AF22: 4 | AG22: )
P23: 0 | Q23: － | R23: 0
B24: Ａ | C24: ③ | D24: 0.54861111 | G24: =C7 -> 御厨フットボールクラブ | N24: =P24+P25 -> 0 | O24: （ | P24: 0 | Q24: － | R24: 0 | S24: ） | T24: =R24+R25 -> 0 | U24: =K7 -> 高根沢西フットボールクラブ | AC24: ( | AD24: 6 | AE24: ・ | AF24: 7 | AG24: )
P25: 0 | Q25: － | R25: 0
B26: Ｂ | C26: ③ | D26: 0.54861111 | G26: =G7 -> ＬＥＯＮＥ ＳＳ | N26: =P26+P27 -> 0 | O26: （ | P26: 0 | Q26: － | R26: 0 | S26: ） | T26: =R26+R27 -> 0 | U26: =O7 -> ＦＣ城東 | AC26: ( | AD26: 8 | AE26: ・ | AF26: 5 | AG26: )
P27: 0 | Q27: － | R27: 0
B28: Ａ | C28: ④ | D28: 0.57291667 | G28: =R7 -> ともぞうサッカークラブ Ｕ１０ | N28: =P28+P29 -> 0 | O28: （ | P28: 0 | Q28: － | R28: 0 | S28: ） | T28: =R28+R29 -> 0 | U28: =Z7 -> ＦＣ Ａｖａｎｃｅ | AC28: ( | AD28: 2 | AE28: ・ | AF28: 3 | AG28: )
P29: 0 | Q29: － | R29: 0
B30: Ｂ | C30: ④ | D30: 0.57291667 | G30: =V7 -> ＦＣあわのレジェンド | N30: =P30+P31 -> 0 | O30: （ | P30: 0 | Q30: － | R30: 0 | S30: ） | T30: =R30+R31 -> 0 | U30: =AD7 -> 野木ＳＳＳ | AC30: ( | AD30: 4 | AE30: ・ | AF30: 1 | AG30: )
P31: 0 | Q31: － | R31: 0
B32: Ａ | C32: ⑤ | D32: 0.59722222 | G32: =C7 -> 御厨フットボールクラブ | N32: =P32+P33 -> 0 | O32: （ | P32: 0 | Q32: － | R32: 0 | S32: ） | T32: =R32+R33 -> 0 | U32: =O7 -> ＦＣ城東 | AC32: ( | AD32: 7 | AE32: ・ | AF32: 8 | AG32: )
P33: 0 | Q33: － | R33: 0
B34: Ｂ | C34: ⑤ | D34: 0.59722222 | G34: =G7 -> ＬＥＯＮＥ ＳＳ | N34: =P34+P35 -> 0 | O34: （ | P34: 0 | Q34: － | R34: 0 | S34: ） | T34: =R34+R35 -> 0 | U34: =K7 -> 高根沢西フットボールクラブ | AC34: ( | AD34: 5 | AE34: ・ | AF34: 6 | AG34: )
P35: 0 | Q35: － | R35: 0
B36: Ａ | C36: ⑥ | D36: 0.62152778 | G36: =R7 -> ともぞうサッカークラブ Ｕ１０ | N36: =P36+P37 -> 0 | O36: （ | P36: 0 | Q36: － | R36: 0 | S36: ） | T36: =R36+R37 -> 0 | U36: =AD7 -> 野木ＳＳＳ | AC36: ( | AD36: 3 | AE36: ・ | AF36: 4 | AG36: )
P37: 0 | Q37: － | R37: 0
B38: Ｂ | C38: ⑥ | D38: 0.62152778 | G38: =V7 -> ＦＣあわのレジェンド | N38: =P38+P39 -> 0 | O38: （ | P38: 0 | Q38: － | R38: 0 | S38: ） | T38: =R38+R39 -> 0 | U38: =Z7 -> ＦＣ Ａｖａｎｃｅ | AC38: ( | AD38: 1 | AE38: ・ | AF38: 2 | AG38: )
P39: 0 | Q39: － | R39: 0
B41: =I3 &"リーグ" -> Gリーグ | F41: =B43 -> 御厨フットボールクラブ | H41: =B45 -> ＬＥＯＮＥ ＳＳ | J41: =B47 -> 高根沢西フットボールクラブ | L41: =B49 -> ＦＣ城東 | N41: 勝点 | O41: 得失点 | P41: 順位 | R41: =X3 &"リーグ" -> GGリーグ | V41: =R7 -> ともぞうサッカークラブ Ｕ１０ | X41: =V7 -> ＦＣあわのレジェンド | Z41: =Z7 -> ＦＣ Ａｖａｎｃｅ | AB41: =AD7 -> 野木ＳＳＳ | AD41: 勝点 | AE41: 得失点 | AF41: 順位
B43: =C7 -> 御厨フットボールクラブ | H43: =N16 -> 0 | I43: =T16 -> 0 | J43: =N24 -> 0 | K43: =T24 -> 0 | L43: =N32 -> 0 | M43: =T32 -> 0 | N43: =COUNTIF(F44:M44,"○")*3+COUNTIF(F44:M44,"△") -> 3 | O43: =H43-I43+J43-K43+L43-M43 -> 0 | R43: =R7 -> ともぞうサッカークラブ Ｕ１０ | X43: =N20 -> 0 | Y43: =T20 -> 0 | Z43: =N28 -> 0 | AA43: =T28 -> 0 | AB43: =N36 -> 0 | AC43: =T36 -> 0 | AD43: =COUNTIF(V44:AC44,"○")*3+COUNTIF(V44:AC44,"△") -> 3 | AE43: =X43-Y43+Z43-AA43+AB43-AC43 -> 0
H44: =IF(H43>I43,"○",IF(H43<I43,"×",IF(H43=I43,"△"))) -> △ | J44: =IF(J43>K43,"○",IF(J43<K43,"×",IF(J43=K43,"△"))) -> △ | L44: =IF(L43>M43,"○",IF(L43<M43,"×",IF(L43=M43,"△"))) -> △ | X44: =IF(X43>Y43,"○",IF(X43<Y43,"×",IF(X43=Y43,"△"))) -> △ | Z44: =IF(Z43>AA43,"○",IF(Z43<AA43,"×",IF(Z43=AA43,"△"))) -> △ | AB44: =IF(AB43>AC43,"○",IF(AB43<AC43,"×",IF(AB43=AC43,"△"))) -> △
B45: =G7 -> ＬＥＯＮＥ ＳＳ | F45: =I43 -> 0 | G45: =H43 -> 0 | J45: =N34 -> 0 | K45: =T34 -> 0 | L45: =N26 -> 0 | M45: =T26 -> 0 | N45: =COUNTIF(F46:M46,"○")*3+COUNTIF(F46:M46,"△") -> 3 | O45: =F45-G45+J45-K45+L45-M45 -> 0 | R45: =V7 -> ＦＣあわのレジェンド | V45: =Y43 -> 0 | W45: =X43 -> 0 | Z45: =N38 -> 0 | AA45: =T38 -> 0 | AB45: =N30 -> 0 | AC45: =T30 -> 0 | AD45: =COUNTIF(V46:AC46,"○")*3+COUNTIF(V46:AC46,"△") -> 3 | AE45: =V45-W45+Z45-AA45+AB45-AC45 -> 0
F46: =IF(F45>G45,"○",IF(F45<G45,"×",IF(F45=G45,"△"))) -> △ | J46: =IF(J45>K45,"○",IF(J45<K45,"×",IF(J45=K45,"△"))) -> △ | L46: =IF(L45>M45,"○",IF(L45<M45,"×",IF(L45=M45,"△"))) -> △ | V46: =IF(V45>W45,"○",IF(V45<W45,"×",IF(V45=W45,"△"))) -> △ | Z46: =IF(Z45>AA45,"○",IF(Z45<AA45,"×",IF(Z45=AA45,"△"))) -> △ | AB46: =IF(AB45>AC45,"○",IF(AB45<AC45,"×",IF(AB45=AC45,"△"))) -> △
B47: =K7 -> 高根沢西フットボールクラブ | F47: =K43 -> 0 | G47: =J43 -> 0 | H47: =K45 -> 0 | I47: =J45 -> 0 | L47: =N18 -> 0 | M47: =T18 -> 0 | N47: =COUNTIF(F48:M48,"○")*3+COUNTIF(F48:M48,"△") -> 3 | O47: =F47-G47+H47-I47+L47-M47 -> 0 | R47: =Z7 -> ＦＣ Ａｖａｎｃｅ | V47: =AA43 -> 0 | W47: =Z43 -> 0 | X47: =AA45 -> 0 | Y47: =Z45 -> 0 | AB47: =N22 -> 0 | AC47: =T22 -> 0 | AD47: =COUNTIF(V48:AC48,"○")*3+COUNTIF(V48:AC48,"△") -> 3 | AE47: =V47-W47+X47-Y47+AB47-AC47 -> 0
F48: =IF(F47>G47,"○",IF(F47<G47,"×",IF(F47=G47,"△"))) -> △ | H48: =IF(H47>I47,"○",IF(H47<I47,"×",IF(H47=I47,"△"))) -> △ | L48: =IF(L47>M47,"○",IF(L47<M47,"×",IF(L47=M47,"△"))) -> △ | V48: =IF(V47>W47,"○",IF(V47<W47,"×",IF(V47=W47,"△"))) -> △ | X48: =IF(X47>Y47,"○",IF(X47<Y47,"×",IF(X47=Y47,"△"))) -> △ | AB48: =IF(AB47>AC47,"○",IF(AB47<AC47,"×",IF(AB47=AC47,"△"))) -> △
B49: =O7 -> ＦＣ城東 | F49: =M43 -> 0 | G49: =L43 -> 0 | H49: =M45 -> 0 | I49: =L45 -> 0 | J49: =M47 -> 0 | K49: =L47 -> 0 | N49: =COUNTIF(F50:M50,"○")*3+COUNTIF(F50:M50,"△") -> 3 | O49: =F49-G49+H49-I49+J49-K49 -> 0 | R49: =AD7 -> 野木ＳＳＳ | V49: =AC43 -> 0 | W49: =AB43 -> 0 | X49: =AC45 -> 0 | Y49: =AB45 -> 0 | Z49: =AC47 -> 0 | AA49: =AB47 -> 0 | AD49: =COUNTIF(V50:AC50,"○")*3+COUNTIF(V50:AC50,"△") -> 3 | AE49: =V49-W49+X49-Y49+Z49-AA49 -> 0
F50: =IF(F49>G49,"○",IF(F49<G49,"×",IF(F49=G49,"△"))) -> △ | H50: =IF(H49>I49,"○",IF(H49<I49,"×",IF(H49=I49,"△"))) -> △ | J50: =IF(J49>K49,"○",IF(J49<K49,"×",IF(J49=K49,"△"))) -> △ | V50: =IF(V49>W49,"○",IF(V49<W49,"×",IF(V49=W49,"△"))) -> △ | X50: =IF(X49>Y49,"○",IF(X49<Y49,"×",IF(X49=Y49,"△"))) -> △ | Z50: =IF(Z49>AA49,"○",IF(Z49<AA49,"×",IF(Z49=AA49,"△"))) -> △
A52: =A1 -> ■第1日 10月12日 | I52: =I1 -> １次ラウンド | T52: 第8会場 | X52: =U10組合せ!A120 -> 真岡市鬼怒自然公園サッカー場BB
J54: H | W54: HH
F57: 1 | J57: 2 | N57: 3 | S57: 4 | W57: 5 | AA57: 6
F58: =U10組合せ!C121 -> 南イレブン | J58: =U10組合せ!C123 -> 三重・山前ＦＣ | N58: =U10組合せ!C125 -> ＮＰＯ法人サウス宇都宮スポーツクラブ | S58: =U10組合せ!C129 -> ＦＣがむしゃら | W58: =U10組合せ!C131 -> Ｊ－ＳＰＯＲＴＳＦＯＯＴＢＡＬＬＣＬＵＢ | AA58: =U10組合せ!C133 -> 昭和・戸祭・附属サッカークラブ
AD66: 主 | AE66: ・ | AF66: 補
B67: ① | C67: 0.5 | G67: =F58 -> 南イレブン | N67: =P67+P68 -> 0 | O67: （ | P67: 0 | Q67: － | R67: 0 | S67: ） | T67: =R67+R68 -> 0 | U67: =J58 -> 三重・山前ＦＣ | AC67: ( | AD67: 6 | AE67: ・ | AF67: 4 | AG67: )
P68: 0 | Q68: － | R68: 0
B70: ② | C70: 0.52430556 | G70: =S58 -> ＦＣがむしゃら | N70: =P70+P71 -> 0 | O70: （ | P70: 0 | Q70: － | R70: 0 | S70: ） | T70: =R70+R71 -> 0 | U70: =W58 -> Ｊ－ＳＰＯＲＴＳＦＯＯＴＢＡＬＬＣＬＵＢ | AC70: ( | AD70: 2 | AE70: ・ | AF70: 1 | AG70: )
P71: 0 | Q71: － | R71: 0
B73: ③ | C73: 0.54861111 | G73: =F58 -> 南イレブン | N73: =P73+P74 -> 0 | O73: （ | P73: 0 | Q73: － | R73: 0 | S73: ） | T73: =R73+R74 -> 0 | U73: =N58 -> ＮＰＯ法人サウス宇都宮スポーツクラブ | AC73: ( | AD73: 5 | AE73: ・ | AF73: 6 | AG73: )
P74: 0 | Q74: － | R74: 0
B76: ④ | C76: 0.57291667 | G76: =S58 -> ＦＣがむしゃら | N76: =P76+P77 -> 0 | O76: （ | P76: 0 | Q76: － | R76: 0 | S76: ） | T76: =R76+R77 -> 0 | U76: =AA58 -> 昭和・戸祭・附属サッカークラブ | AC76: ( | AD76: 1 | AE76: ・ | AF76: 3 | AG76: )
P77: 0 | Q77: － | R77: 0
B79: ⑤ | C79: 0.59722222 | G79: =J58 -> 三重・山前ＦＣ | N79: =P79+P80 -> 0 | O79: （ | P79: 0 | Q79: － | R79: 0 | S79: ） | T79: =R79+R80 -> 0 | U79: =N58 -> ＮＰＯ法人サウス宇都宮スポーツクラブ | AC79: ( | AD79: 4 | AE79: ・ | AF79: 5 | AG79: )
P80: 0 | Q80: － | R80: 0
B82: ⑥ | C82: 0.62152778 | G82: =W58 -> Ｊ－ＳＰＯＲＴＳＦＯＯＴＢＡＬＬＣＬＵＢ | N82: =P82+P83 -> 0 | O82: （ | P82: 0 | Q82: － | R82: 0 | S82: ） | T82: =R82+R83 -> 0 | U82: =AA58 -> 昭和・戸祭・附属サッカークラブ | AC82: ( | AD82: 3 | AE82: ・ | AF82: 2 | AG82: )
P83: 0 | Q83: － | R83: 0
C85: =J54 &"リーグ" -> Hリーグ | G85: =C87 -> 南イレブン | I85: =C89 -> 三重・山前ＦＣ | K85: =C91 -> ＮＰＯ法人サウス宇都宮スポーツクラブ | M85: 勝点 | N85: 得失点 | O85: 総得点 | P85: 順位 | R85: =W54 &"リーグ" -> HHリーグ | V85: =R87 -> ＦＣがむしゃら | X85: =R89 -> Ｊ－ＳＰＯＲＴＳＦＯＯＴＢＡＬＬＣＬＵＢ | Z85: =R91 -> 昭和・戸祭・附属サッカークラブ | AB85: 勝点 | AC85: 得失点 | AD85: 総得点 | AE85: 順位
C87: =F58 -> 南イレブン | I87: =N67 -> 0 | J87: =T67 -> 0 | K87: =N73 -> 0 | L87: =T73 -> 0 | M87: =COUNTIF(G88:L88,"○")*3+COUNTIF(G88:L88,"△") -> 2 | N87: =O87-J87-L87 -> 0 | O87: =I87+K87 -> 0 | R87: =S58 -> ＦＣがむしゃら | X87: =N70 -> 0 | Y87: =T70 -> 0 | Z87: =N76 -> 0 | AA87: =T76 -> 0 | AB87: =COUNTIF(V88:AA88,"○")*3+COUNTIF(V88:AA88,"△") -> 2 | AC87: =AD87-Y87-AA87 -> 0 | AD87: =X87+Z87 -> 0
I88: =IF(I87>J87,"○",IF(I87<J87,"×",IF(I87=J87,"△"))) -> △ | K88: =IF(K87>L87,"○",IF(K87<L87,"×",IF(K87=L87,"△"))) -> △ | X88: =IF(X87>Y87,"○",IF(X87<Y87,"×",IF(X87=Y87,"△"))) -> △ | Z88: =IF(Z87>AA87,"○",IF(Z87<AA87,"×",IF(Z87=AA87,"△"))) -> △
C89: =J58 -> 三重・山前ＦＣ | G89: =J87 -> 0 | H89: =I87 -> 0 | K89: =N79 -> 0 | L89: =T79 -> 0 | M89: =COUNTIF(G90:L90,"○")*3+COUNTIF(G90:L90,"△") -> 2 | N89: =O89-H89-L89 -> 0 | O89: =G89+K89 -> 0 | R89: =W58 -> Ｊ－ＳＰＯＲＴＳＦＯＯＴＢＡＬＬＣＬＵＢ | V89: =Y87 -> 0 | W89: =X87 -> 0 | Z89: =N82 -> 0 | AA89: =T82 -> 0 | AB89: =COUNTIF(V90:AA90,"○")*3+COUNTIF(V90:AA90,"△") -> 2 | AC89: =AD89-W89-AA89 -> 0 | AD89: =V89+Z89 -> 0
G90: =IF(G89>H89,"○",IF(G89<H89,"×",IF(G89=H89,"△"))) -> △ | K90: =IF(K89>L89,"○",IF(K89<L89,"×",IF(K89=L89,"△"))) -> △ | V90: =IF(V89>W89,"○",IF(V89<W89,"×",IF(V89=W89,"△"))) -> △ | Z90: =IF(Z89>AA89,"○",IF(Z89<AA89,"×",IF(Z89=AA89,"△"))) -> △
C91: =N58 -> ＮＰＯ法人サウス宇都宮スポーツクラブ | G91: =L87 -> 0 | H91: =K87 -> 0 | I91: =L89 -> 0 | J91: =K89 -> 0 | M91: =COUNTIF(G92:L92,"○")*3+COUNTIF(G92:L92,"△") -> 2 | N91: =O91-H91-J91 -> 0 | O91: =G91+I91 -> 0 | R91: =AA58 -> 昭和・戸祭・附属サッカークラブ | V91: =AA87 -> 0 | W91: =Z87 -> 0 | X91: =AA89 -> 0 | Y91: =Z89 -> 0 | AB91: =COUNTIF(V92:AA92,"○")*3+COUNTIF(V92:AA92,"△") -> 2 | AC91: =AD91-W91-Y91 -> 0 | AD91: =V91+X91 -> 0
G92: =IF(G91>H91,"○",IF(G91<H91,"×",IF(G91=H91,"△"))) -> △ | I92: =IF(I91>J91,"○",IF(I91<J91,"×",IF(I91=J91,"△"))) -> △ | V92: =IF(V91>W91,"○",IF(V91<W91,"×",IF(V91=W91,"△"))) -> △ | X92: =IF(X91>Y91,"○",IF(X91<Y91,"×",IF(X91=Y91,"△"))) -> △

Sheet IJ
A1: =U10組合せ!H3 -> ■第1日 10月12日 | I1: =U10組合せ!Q3 -> １次ラウンド | T1: 第9会場 | X1: =U10組合せ!AH120 -> 城見ヶ丘運動公園サッカー場
I3: I | X3: II
C6: 1 | G6: 2 | K6: 3 | O6: 4 | R6: 5 | V6: 6 | Z6: 7 | AD6: 8
C7: =U10組合せ!AF134 -> 大谷東フットボールクラブ | G7: =U10組合せ!AF132 -> ＦＣアリーバ | K7: =U10組合せ!AF130 -> 那須野ヶ原ＦＣボンジボーラ イエロー | O7: =U10組合せ!AF128 -> ＢＬＵＥ ＴＨＵＮＤＥＲ | R7: =U10組合せ!AF126 -> ＪＦＣアミスタ市貝 | V7: =U10組合せ!AF124 -> ＦＣ毛野 | Z7: =U10組合せ!AF122 -> 石井フットボールクラブ | AD7: =U10組合せ!AF120 -> 鹿沼東光ＦＣ
B15: ピッチ | AD15: 主 | AE15: ・ | AF15: 補
B16: Ａ | C16: ① | D16: 0.5 | G16: =C7 -> 大谷東フットボールクラブ | N16: =P16+P17 -> 0 | O16: （ | P16: 0 | Q16: － | R16: 0 | S16: ） | T16: =R16+R17 -> 0 | U16: =G7 -> ＦＣアリーバ | AC16: ( | AD16: 5 | AE16: ・ | AF16: 6 | AG16: )
P17: 0 | Q17: － | R17: 0
B18: Ｂ | C18: ① | D18: 0.5 | G18: =K7 -> 那須野ヶ原ＦＣボンジボーラ イエロー | N18: =P18+P19 -> 0 | O18: （ | P18: 0 | Q18: － | R18: 0 | S18: ） | T18: =R18+R19 -> 0 | U18: =O7 -> ＢＬＵＥ ＴＨＵＮＤＥＲ | AC18: ( | AD18: 7 | AE18: ・ | AF18: 8 | AG18: )
P19: 0 | Q19: － | R19: 0
B20: Ａ | C20: ② | D20: 0.52430556 | G20: =R7 -> ＪＦＣアミスタ市貝 | N20: =P20+P21 -> 0 | O20: （ | P20: 0 | Q20: － | R20: 0 | S20: ） | T20: =R20+R21 -> 0 | U20: =V7 -> ＦＣ毛野 | AC20: ( | AD20: 1 | AE20: ・ | AF20: 2 | AG20: )
P21: 0 | Q21: － | R21: 0
B22: Ｂ | C22: ② | D22: 0.52430556 | G22: =Z7 -> 石井フットボールクラブ | N22: =P22+P23 -> 0 | O22: （ | P22: 0 | Q22: － | R22: 0 | S22: ） | T22: =R22+R23 -> 0 | U22: =AD7 -> 鹿沼東光ＦＣ | AC22: ( | AD22: 3 | AE22: ・ | AF22: 4 | AG22: )
P23: 0 | Q23: － | R23: 0
B24: Ａ | C24: ③ | D24: 0.54861111 | G24: =C7 -> 大谷東フットボールクラブ | N24: =P24+P25 -> 0 | O24: （ | P24: 0 | Q24: － | R24: 0 | S24: ） | T24: =R24+R25 -> 0 | U24: =K7 -> 那須野ヶ原ＦＣボンジボーラ イエロー | AC24: ( | AD24: 6 | AE24: ・ | AF24: 7 | AG24: )
P25: 0 | Q25: － | R25: 0
B26: Ｂ | C26: ③ | D26: 0.54861111 | G26: =G7 -> ＦＣアリーバ | N26: =P26+P27 -> 0 | O26: （ | P26: 0 | Q26: － | R26: 0 | S26: ） | T26: =R26+R27 -> 0 | U26: =O7 -> ＢＬＵＥ ＴＨＵＮＤＥＲ | AC26: ( | AD26: 8 | AE26: ・ | AF26: 5 | AG26: )
P27: 0 | Q27: － | R27: 0
B28: Ａ | C28: ④ | D28: 0.57291667 | G28: =R7 -> ＪＦＣアミスタ市貝 | N28: =P28+P29 -> 0 | O28: （ | P28: 0 | Q28: － | R28: 0 | S28: ） | T28: =R28+R29 -> 0 | U28: =Z7 -> 石井フットボールクラブ | AC28: ( | AD28: 2 | AE28: ・ | AF28: 3 | AG28: )
P29: 0 | Q29: － | R29: 0
B30: Ｂ | C30: ④ | D30: 0.57291667 | G30: =V7 -> ＦＣ毛野 | N30: =P30+P31 -> 0 | O30: （ | P30: 0 | Q30: － | R30: 0 | S30: ） | T30: =R30+R31 -> 0 | U30: =AD7 -> 鹿沼東光ＦＣ | AC30: ( | AD30: 4 | AE30: ・ | AF30: 1 | AG30: )
P31: 0 | Q31: － | R31: 0
B32: Ａ | C32: ⑤ | D32: 0.59722222 | G32: =C7 -> 大谷東フットボールクラブ | N32: =P32+P33 -> 0 | O32: （ | P32: 0 | Q32: － | R32: 0 | S32: ） | T32: =R32+R33 -> 0 | U32: =O7 -> ＢＬＵＥ ＴＨＵＮＤＥＲ | AC32: ( | AD32: 7 | AE32: ・ | AF32: 8 | AG32: )
P33: 0 | Q33: － | R33: 0
B34: Ｂ | C34: ⑤ | D34: 0.59722222 | G34: =G7 -> ＦＣアリーバ | N34: =P34+P35 -> 0 | O34: （ | P34: 0 | Q34: － | R34: 0 | S34: ） | T34: =R34+R35 -> 0 | U34: =K7 -> 那須野ヶ原ＦＣボンジボーラ イエロー | AC34: ( | AD34: 5 | AE34: ・ | AF34: 6 | AG34: )
P35: 0 | Q35: － | R35: 0
B36: Ａ | C36: ⑥ | D36: 0.62152778 | G36: =R7 -> ＪＦＣアミスタ市貝 | N36: =P36+P37 -> 0 | O36: （ | P36: 0 | Q36: － | R36: 0 | S36: ） | T36: =R36+R37 -> 0 | U36: =AD7 -> 鹿沼東光ＦＣ | AC36: ( | AD36: 3 | AE36: ・ | AF36: 4 | AG36: )
P37: 0 | Q37: － | R37: 0
B38: Ｂ | C38: ⑥ | D38: 0.62152778 | G38: =V7 -> ＦＣ毛野 | N38: =P38+P39 -> 0 | O38: （ | P38: 0 | Q38: － | R38: 0 | S38: ） | T38: =R38+R39 -> 0 | U38: =Z7 -> 石井フットボールクラブ | AC38: ( | AD38: 1 | AE38: ・ | AF38: 2 | AG38: )
P39: 0 | Q39: － | R39: 0
B41: =I3 &"リーグ" -> Iリーグ | F41: =B43 -> 大谷東フットボールクラブ | H41: =B45 -> ＦＣアリーバ | J41: =B47 -> 那須野ヶ原ＦＣボンジボーラ イエロー | L41: =B49 -> ＢＬＵＥ ＴＨＵＮＤＥＲ | N41: 勝点 | O41: 得失点 | P41: 順位 | R41: =X3 &"リーグ" -> IIリーグ | V41: =R7 -> ＪＦＣアミスタ市貝 | X41: =V7 -> ＦＣ毛野 | Z41: =Z7 -> 石井フットボールクラブ | AB41: =AD7 -> 鹿沼東光ＦＣ | AD41: 勝点 | AE41: 得失点 | AF41: 順位
B43: =C7 -> 大谷東フットボールクラブ | H43: =N16 -> 0 | I43: =T16 -> 0 | J43: =N24 -> 0 | K43: =T24 -> 0 | L43: =N32 -> 0 | M43: =T32 -> 0 | N43: =COUNTIF(F44:M44,"○")*3+COUNTIF(F44:M44,"△") -> 3 | O43: =H43-I43+J43-K43+L43-M43 -> 0 | R43: =R7 -> ＪＦＣアミスタ市貝 | X43: =N20 -> 0 | Y43: =T20 -> 0 | Z43: =N28 -> 0 | AA43: =T28 -> 0 | AB43: =N36 -> 0 | AC43: =T36 -> 0 | AD43: =COUNTIF(V44:AC44,"○")*3+COUNTIF(V44:AC44,"△") -> 3 | AE43: =X43-Y43+Z43-AA43+AB43-AC43 -> 0
H44: =IF(H43>I43,"○",IF(H43<I43,"×",IF(H43=I43,"△"))) -> △ | J44: =IF(J43>K43,"○",IF(J43<K43,"×",IF(J43=K43,"△"))) -> △ | L44: =IF(L43>M43,"○",IF(L43<M43,"×",IF(L43=M43,"△"))) -> △ | X44: =IF(X43>Y43,"○",IF(X43<Y43,"×",IF(X43=Y43,"△"))) -> △ | Z44: =IF(Z43>AA43,"○",IF(Z43<AA43,"×",IF(Z43=AA43,"△"))) -> △ | AB44: =IF(AB43>AC43,"○",IF(AB43<AC43,"×",IF(AB43=AC43,"△"))) -> △
B45: =G7 -> ＦＣアリーバ | F45: =I43 -> 0 | G45: =H43 -> 0 | J45: =N34 -> 0 | K45: =T34 -> 0 | L45: =N26 -> 0 | M45: =T26 -> 0 | N45: =COUNTIF(F46:M46,"○")*3+COUNTIF(F46:M46,"△") -> 3 | O45: =F45-G45+J45-K45+L45-M45 -> 0 | R45: =V7 -> ＦＣ毛野 | V45: =Y43 -> 0 | W45: =X43 -> 0 | Z45: =N38 -> 0 | AA45: =T38 -> 0 | AB45: =N30 -> 0 | AC45: =T30 -> 0 | AD45: =COUNTIF(V46:AC46,"○")*3+COUNTIF(V46:AC46,"△") -> 3 | AE45: =V45-W45+Z45-AA45+AB45-AC45 -> 0
F46: =IF(F45>G45,"○",IF(F45<G45,"×",IF(F45=G45,"△"))) -> △ | J46: =IF(J45>K45,"○",IF(J45<K45,"×",IF(J45=K45,"△"))) -> △ | L46: =IF(L45>M45,"○",IF(L45<M45,"×",IF(L45=M45,"△"))) -> △ | V46: =IF(V45>W45,"○",IF(V45<W45,"×",IF(V45=W45,"△"))) -> △ | Z46: =IF(Z45>AA45,"○",IF(Z45<AA45,"×",IF(Z45=AA45,"△"))) -> △ | AB46: =IF(AB45>AC45,"○",IF(AB45<AC45,"×",IF(AB45=AC45,"△"))) -> △
B47: =K7 -> 那須野ヶ原ＦＣボンジボーラ イエロー | F47: =K43 -> 0 | G47: =J43 -> 0 | H47: =K45 -> 0 | I47: =J45 -> 0 | L47: =N18 -> 0 | M47: =T18 -> 0 | N47: =COUNTIF(F48:M48,"○")*3+COUNTIF(F48:M48,"△") -> 3 | O47: =F47-G47+H47-I47+L47-M47 -> 0 | R47: =Z7 -> 石井フットボールクラブ | V47: =AA43 -> 0 | W47: =Z43 -> 0 | X47: =AA45 -> 0 | Y47: =Z45 -> 0 | AB47: =N22 -> 0 | AC47: =T22 -> 0 | AD47: =COUNTIF(V48:AC48,"○")*3+COUNTIF(V48:AC48,"△") -> 3 | AE47: =V47-W47+X47-Y47+AB47-AC47 -> 0
F48: =IF(F47>G47,"○",IF(F47<G47,"×",IF(F47=G47,"△"))) -> △ | H48: =IF(H47>I47,"○",IF(H47<I47,"×",IF(H47=I47,"△"))) -> △ | L48: =IF(L47>M47,"○",IF(L47<M47,"×",IF(L47=M47,"△"))) -> △ | V48: =IF(V47>W47,"○",IF(V47<W47,"×",IF(V47=W47,"△"))) -> △ | X48: =IF(X47>Y47,"○",IF(X47<Y47,"×",IF(X47=Y47,"△"))) -> △ | AB48: =IF(AB47>AC47,"○",IF(AB47<AC47,"×",IF(AB47=AC47,"△"))) -> △
B49: =O7 -> ＢＬＵＥ ＴＨＵＮＤＥＲ | F49: =M43 -> 0 | G49: =L43 -> 0 | H49: =M45 -> 0 | I49: =L45 -> 0 | J49: =M47 -> 0 | K49: =L47 -> 0 | N49: =COUNTIF(F50:M50,"○")*3+COUNTIF(F50:M50,"△") -> 3 | O49: =F49-G49+H49-I49+J49-K49 -> 0 | R49: =AD7 -> 鹿沼東光ＦＣ | V49: =AC43 -> 0 | W49: =AB43 -> 0 | X49: =AC45 -> 0 | Y49: =AB45 -> 0 | Z49: =AC47 -> 0 | AA49: =AB47 -> 0 | AD49: =COUNTIF(V50:AC50,"○")*3+COUNTIF(V50:AC50,"△") -> 3 | AE49: =V49-W49+X49-Y49+Z49-AA49 -> 0
F50: =IF(F49>G49,"○",IF(F49<G49,"×",IF(F49=G49,"△"))) -> △ | H50: =IF(H49>I49,"○",IF(H49<I49,"×",IF(H49=I49,"△"))) -> △ | J50: =IF(J49>K49,"○",IF(J49<K49,"×",IF(J49=K49,"△"))) -> △ | V50: =IF(V49>W49,"○",IF(V49<W49,"×",IF(V49=W49,"△"))) -> △ | X50: =IF(X49>Y49,"○",IF(X49<Y49,"×",IF(X49=Y49,"△"))) -> △ | Z50: =IF(Z49>AA49,"○",IF(Z49<AA49,"×",IF(Z49=AA49,"△"))) -> △
A52: =A1 -> ■第1日 10月12日 | I52: =U10組合せ!Q3 -> １次ラウンド | T52: 第10会場 | X52: =U10組合せ!AH104 -> 宇都宮市石井緑地サッカー場5・6
I54: J | X54: JJ
C57: 1 | G57: 2 | K57: 3 | O57: 4 | R57: 5 | V57: 6 | Z57: 7 | AD57: 8
C58: =U10組合せ!AF118 -> 小山ウエストＪＦＣ | G58: =U10組合せ!AF116 -> ＴＥＡＭ é ｘｉｔｏ | K58: =U10組合せ!AF114 -> 上松山クラブ | O58: =U10組合せ!AF112 -> ＧＲＳ足利Ｊｒ． | R58: =U10組合せ!AF110 -> 清原陽東サッカースポーツ少年団 | V58: =U10組合せ!AF108 -> 紫塚ＦＣ | Z58: =U10組合せ!AF106 -> ＪＦＣアミスタ市貝Ｂ | AD58: =U10組合せ!AF104 -> ＪＦＣ Ｗｉｎｇ
B66: ピッチ | AD66: 主 | AE66: ・ | AF66: 補
B67: Ａ | C67: ① | D67: 0.5 | G67: =C58 -> 小山ウエストＪＦＣ | N67: =P67+P68 -> 0 | O67: （ | P67: 0 | Q67: － | R67: 0 | S67: ） | T67: =R67+R68 -> 0 | U67: =G58 -> ＴＥＡＭ é ｘｉｔｏ | AC67: ( | AD67: 5 | AE67: ・ | AF67: 6 | AG67: )
P68: 0 | Q68: － | R68: 0
B69: Ｂ | C69: ① | D69: 0.5 | G69: =K58 -> 上松山クラブ | N69: =P69+P70 -> 0 | O69: （ | P69: 0 | Q69: － | R69: 0 | S69: ） | T69: =R69+R70 -> 0 | U69: =O58 -> ＧＲＳ足利Ｊｒ． | AC69: ( | AD69: 7 | AE69: ・ | AF69: 8 | AG69: )
P70: 0 | Q70: － | R70: 0
B71: Ａ | C71: ② | D71: 0.52430556 | G71: =R58 -> 清原陽東サッカースポーツ少年団 | N71: =P71+P72 -> 0 | O71: （ | P71: 0 | Q71: － | R71: 0 | S71: ） | T71: =R71+R72 -> 0 | U71: =V58 -> 紫塚ＦＣ | AC71: ( | AD71: 1 | AE71: ・ | AF71: 2 | AG71: )
P72: 0 | Q72: － | R72: 0
B73: Ｂ | C73: ② | D73: 0.52430556 | G73: =Z58 -> ＪＦＣアミスタ市貝Ｂ | N73: =P73+P74 -> 0 | O73: （ | P73: 0 | Q73: － | R73: 0 | S73: ） | T73: =R73+R74 -> 0 | U73: =AD58 -> ＪＦＣ Ｗｉｎｇ | AC73: ( | AD73: 3 | AE73: ・ | AF73: 4 | AG73: )
P74: 0 | Q74: － | R74: 0
B75: Ａ | C75: ③ | D75: 0.54861111 | G75: =C58 -> 小山ウエストＪＦＣ | N75: =P75+P76 -> 0 | O75: （ | P75: 0 | Q75: － | R75: 0 | S75: ） | T75: =R75+R76 -> 0 | U75: =K58 -> 上松山クラブ | AC75: ( | AD75: 6 | AE75: ・ | AF75: 7 | AG75: )
P76: 0 | Q76: － | R76: 0
B77: Ｂ | C77: ③ | D77: 0.54861111 | G77: =G58 -> ＴＥＡＭ é ｘｉｔｏ | N77: =P77+P78 -> 0 | O77: （ | P77: 0 | Q77: － | R77: 0 | S77: ） | T77: =R77+R78 -> 0 | U77: =O58 -> ＧＲＳ足利Ｊｒ． | AC77: ( | AD77: 8 | AE77: ・ | AF77: 5 | AG77: )
P78: 0 | Q78: － | R78: 0
B79: Ａ | C79: ④ | D79: 0.57291667 | G79: =R58 -> 清原陽東サッカースポーツ少年団 | N79: =P79+P80 -> 0 | O79: （ | P79: 0 | Q79: － | R79: 0 | S79: ） | T79: =R79+R80 -> 0 | U79: =Z58 -> ＪＦＣアミスタ市貝Ｂ | AC79: ( | AD79: 2 | AE79: ・ | AF79: 3 | AG79: )
P80: 0 | Q80: － | R80: 0
B81: Ｂ | C81: ④ | D81: 0.57291667 | G81: =V58 -> 紫塚ＦＣ | N81: =P81+P82 -> 0 | O81: （ | P81: 0 | Q81: － | R81: 0 | S81: ） | T81: =R81+R82 -> 0 | U81: =AD58 -> ＪＦＣ Ｗｉｎｇ | AC81: ( | AD81: 4 | AE81: ・ | AF81: 1 | AG81: )
P82: 0 | Q82: － | R82: 0
B83: Ａ | C83: ⑤ | D83: 0.59722222 | G83: =C58 -> 小山ウエストＪＦＣ | N83: =P83+P84 -> 0 | O83: （ | P83: 0 | Q83: － | R83: 0 | S83: ） | T83: =R83+R84 -> 0 | U83: =O58 -> ＧＲＳ足利Ｊｒ． | AC83: ( | AD83: 7 | AE83: ・ | AF83: 8 | AG83: )
P84: 0 | Q84: － | R84: 0
B85: Ｂ | C85: ⑤ | D85: 0.59722222 | G85: =G58 -> ＴＥＡＭ é ｘｉｔｏ | N85: =P85+P86 -> 0 | O85: （ | P85: 0 | Q85: － | R85: 0 | S85: ） | T85: =R85+R86 -> 0 | U85: =K58 -> 上松山クラブ | AC85: ( | AD85: 5 | AE85: ・ | AF85: 6 | AG85: )
P86: 0 | Q86: － | R86: 0
B87: Ａ | C87: ⑥ | D87: 0.62152778 | G87: =R58 -> 清原陽東サッカースポーツ少年団 | N87: =P87+P88 -> 0 | O87: （ | P87: 0 | Q87: － | R87: 0 | S87: ） | T87: =R87+R88 -> 0 | U87: =AD58 -> ＪＦＣ Ｗｉｎｇ | AC87: ( | AD87: 3 | AE87: ・ | AF87: 4 | AG87: )
P88: 0 | Q88: － | R88: 0
B89: Ｂ | C89: ⑥ | D89: 0.62152778 | G89: =V58 -> 紫塚ＦＣ | N89: =P89+P90 -> 0 | O89: （ | P89: 0 | Q89: － | R89: 0 | S89: ） | T89: =R89+R90 -> 0 | U89: =Z58 -> ＪＦＣアミスタ市貝Ｂ | AC89: ( | AD89: 1 | AE89: ・ | AF89: 2 | AG89: )
P90: 0 | Q90: － | R90: 0
B92: =I54 &"リーグ" -> Jリーグ | F92: =B94 -> 小山ウエストＪＦＣ | H92: =B96 -> ＴＥＡＭ é ｘｉｔｏ | J92: =B98 -> 上松山クラブ | L92: =B100 -> ＧＲＳ足利Ｊｒ． | N92: 勝点 | O92: 得失点 | P92: 順位 | R92: =X54 &"リーグ" -> JJリーグ | V92: =R58 -> 清原陽東サッカースポーツ少年団 | X92: =V58 -> 紫塚ＦＣ | Z92: =Z58 -> ＪＦＣアミスタ市貝Ｂ | AB92: =AD58 -> ＪＦＣ Ｗｉｎｇ | AD92: 勝点 | AE92: 得失点 | AF92: 順位
B94: =C58 -> 小山ウエストＪＦＣ | H94: =N67 -> 0 | I94: =T67 -> 0 | J94: =N75 -> 0 | K94: =T75 -> 0 | L94: =N83 -> 0 | M94: =T83 -> 0 | N94: =COUNTIF(F95:M95,"○")*3+COUNTIF(F95:M95,"△") -> 3 | O94: =H94-I94+J94-K94+L94-M94 -> 0 | R94: =R58 -> 清原陽東サッカースポーツ少年団 | X94: =N71 -> 0 | Y94: =T71 -> 0 | Z94: =N79 -> 0 | AA94: =T79 -> 0 | AB94: =N87 -> 0 | AC94: =T87 -> 0 | AD94: =COUNTIF(V95:AC95,"○")*3+COUNTIF(V95:AC95,"△") -> 3 | AE94: =X94-Y94+Z94-AA94+AB94-AC94 -> 0
H95: =IF(H94>I94,"○",IF(H94<I94,"×",IF(H94=I94,"△"))) -> △ | J95: =IF(J94>K94,"○",IF(J94<K94,"×",IF(J94=K94,"△"))) -> △ | L95: =IF(L94>M94,"○",IF(L94<M94,"×",IF(L94=M94,"△"))) -> △ | X95: =IF(X94>Y94,"○",IF(X94<Y94,"×",IF(X94=Y94,"△"))) -> △ | Z95: =IF(Z94>AA94,"○",IF(Z94<AA94,"×",IF(Z94=AA94,"△"))) -> △ | AB95: =IF(AB94>AC94,"○",IF(AB94<AC94,"×",IF(AB94=AC94,"△"))) -> △
B96: =G58 -> ＴＥＡＭ é ｘｉｔｏ | F96: =I94 -> 0 | G96: =H94 -> 0 | J96: =N85 -> 0 | K96: =T85 -> 0 | L96: =N77 -> 0 | M96: =T77 -> 0 | N96: =COUNTIF(F97:M97,"○")*3+COUNTIF(F97:M97,"△") -> 3 | O96: =F96-G96+J96-K96+L96-M96 -> 0 | R96: =V58 -> 紫塚ＦＣ | V96: =Y94 -> 0 | W96: =X94 -> 0 | Z96: =N89 -> 0 | AA96: =T89 -> 0 | AB96: =N81 -> 0 | AC96: =T81 -> 0 | AD96: =COUNTIF(V97:AC97,"○")*3+COUNTIF(V97:AC97,"△") -> 3 | AE96: =V96-W96+Z96-AA96+AB96-AC96 -> 0
F97: =IF(F96>G96,"○",IF(F96<G96,"×",IF(F96=G96,"△"))) -> △ | J97: =IF(J96>K96,"○",IF(J96<K96,"×",IF(J96=K96,"△"))) -> △ | L97: =IF(L96>M96,"○",IF(L96<M96,"×",IF(L96=M96,"△"))) -> △ | V97: =IF(V96>W96,"○",IF(V96<W96,"×",IF(V96=W96,"△"))) -> △ | Z97: =IF(Z96>AA96,"○",IF(Z96<AA96,"×",IF(Z96=AA96,"△"))) -> △ | AB97: =IF(AB96>AC96,"○",IF(AB96<AC96,"×",IF(AB96=AC96,"△"))) -> △
B98: =K58 -> 上松山クラブ | F98: =K94 -> 0 | G98: =J94 -> 0 | H98: =K96 -> 0 | I98: =J96 -> 0 | L98: =N69 -> 0 | M98: =T69 -> 0 | N98: =COUNTIF(F99:M99,"○")*3+COUNTIF(F99:M99,"△") -> 3 | O98: =F98-G98+H98-I98+L98-M98 -> 0 | R98: =Z58 -> ＪＦＣアミスタ市貝Ｂ | V98: =AA94 -> 0 | W98: =Z94 -> 0 | X98: =AA96 -> 0 | Y98: =Z96 -> 0 | AB98: =N73 -> 0 | AC98: =T73 -> 0 | AD98: =COUNTIF(V99:AC99,"○")*3+COUNTIF(V99:AC99,"△") -> 3 | AE98: =V98-W98+X98-Y98+AB98-AC98 -> 0
F99: =IF(F98>G98,"○",IF(F98<G98,"×",IF(F98=G98,"△"))) -> △ | H99: =IF(H98>I98,"○",IF(H98<I98,"×",IF(H98=I98,"△"))) -> △ | L99: =IF(L98>M98,"○",IF(L98<M98,"×",IF(L98=M98,"△"))) -> △ | V99: =IF(V98>W98,"○",IF(V98<W98,"×",IF(V98=W98,"△"))) -> △ | X99: =IF(X98>Y98,"○",IF(X98<Y98,"×",IF(X98=Y98,"△"))) -> △ | AB99: =IF(AB98>AC98,"○",IF(AB98<AC98,"×",IF(AB98=AC98,"△"))) -> △
B100: =O58 -> ＧＲＳ足利Ｊｒ． | F100: =M94 -> 0 | G100: =L94 -> 0 | H100: =M96 -> 0 | I100: =L96 -> 0 | J100: =M98 -> 0 | K100: =L98 -> 0 | N100: =COUNTIF(F101:M101,"○")*3+COUNTIF(F101:M101,"△") -> 3 | O100: =F100-G100+H100-I100+J100-K100 -> 0 | R100: =AD58 -> ＪＦＣ Ｗｉｎｇ | V100: =AC94 -> 0 | W100: =AB94 -> 0 | X100: =AC96 -> 0 | Y100: =AB96 -> 0 | Z100: =AC98 -> 0 | AA100: =AB98 -> 0 | AD100: =COUNTIF(V101:AC101,"○")*3+COUNTIF(V101:AC101,"△") -> 3 | AE100: =V100-W100+X100-Y100+Z100-AA100 -> 0
F101: =IF(F100>G100,"○",IF(F100<G100,"×",IF(F100=G100,"△"))) -> △ | H101: =IF(H100>I100,"○",IF(H100<I100,"×",IF(H100=I100,"△"))) -> △ | J101: =IF(J100>K100,"○",IF(J100<K100,"×",IF(J100=K100,"△"))) -> △ | V101: =IF(V100>W100,"○",IF(V100<W100,"×",IF(V100=W100,"△"))) -> △ | X101: =IF(X100>Y100,"○",IF(X100<Y100,"×",IF(X100=Y100,"△"))) -> △ | Z101: =IF(Z100>AA100,"○",IF(Z100<AA100,"×",IF(Z100=AA100,"△"))) -> △

Sheet KL
A1: =U10組合せ!H3 -> ■第1日 10月12日 | I1: =U10組合せ!Q3 -> １次ラウンド | T1: 第11会場 | X1: =U10組合せ!AH88 -> 宇都宮市石井緑地サッカー場3・4
I3: K | X3: KK
C6: 1 | G6: 2 | K6: 3 | O6: 4 | R6: 5 | V6: 6 | Z6: 7 | AD6: 8
C7: =U10組合せ!AF102 -> 亀山サッカークラブ | G7: =U10組合せ!AF100 -> ＦＣ黒羽 | K7: =U10組合せ!AF98 -> ＩＳＯＳＯＣＣＥＲＣＬＵＢセグンド | O7: =U10組合せ!AF96 -> しおやＦＣヴィガウス | R7: =U10組合せ!AF94 -> ＦＣスポルト宇都宮 | V7: =U10組合せ!AF92 -> 北押原ＦＣ | Z7: =U10組合せ!AF90 -> ＦＣカンピオーネ | AD7: =U10組合せ!AF88 -> ＦＣ西那須２１アストロ
B15: ピッチ | AD15: 主 | AE15: ・ | AF15: 補
B16: Ａ | C16: ① | D16: 0.5 | G16: =C7 -> 亀山サッカークラブ | N16: =P16+P17 -> 0 | O16: （ | P16: 0 | Q16: － | R16: 0 | S16: ） | T16: =R16+R17 -> 0 | U16: =G7 -> ＦＣ黒羽 | AC16: ( | AD16: 5 | AE16: ・ | AF16: 6 | AG16: )
P17: 0 | Q17: － | R17: 0
B18: Ｂ | C18: ① | D18: 0.5 | G18: =K7 -> ＩＳＯＳＯＣＣＥＲＣＬＵＢセグンド | N18: =P18+P19 -> 0 | O18: （ | P18: 0 | Q18: － | R18: 0 | S18: ） | T18: =R18+R19 -> 0 | U18: =O7 -> しおやＦＣヴィガウス | AC18: ( | AD18: 7 | AE18: ・ | AF18: 8 | AG18: )
P19: 0 | Q19: － | R19: 0
B20: Ａ | C20: ② | D20: 0.52430556 | G20: =R7 -> ＦＣスポルト宇都宮 | N20: =P20+P21 -> 0 | O20: （ | P20: 0 | Q20: － | R20: 0 | S20: ） | T20: =R20+R21 -> 0 | U20: =V7 -> 北押原ＦＣ | AC20: ( | AD20: 1 | AE20: ・ | AF20: 2 | AG20: )
P21: 0 | Q21: － | R21: 0
B22: Ｂ | C22: ② | D22: 0.52430556 | G22: =Z7 -> ＦＣカンピオーネ | N22: =P22+P23 -> 0 | O22: （ | P22: 0 | Q22: － | R22: 0 | S22: ） | T22: =R22+R23 -> 0 | U22: =AD7 -> ＦＣ西那須２１アストロ | AC22: ( | AD22: 3 | AE22: ・ | AF22: 4 | AG22: )
P23: 0 | Q23: － | R23: 0
B24: Ａ | C24: ③ | D24: 0.54861111 | G24: =C7 -> 亀山サッカークラブ | N24: =P24+P25 -> 0 | O24: （ | P24: 0 | Q24: － | R24: 0 | S24: ） | T24: =R24+R25 -> 0 | U24: =K7 -> ＩＳＯＳＯＣＣＥＲＣＬＵＢセグンド | AC24: ( | AD24: 6 | AE24: ・ | AF24: 7 | AG24: )
P25: 0 | Q25: － | R25: 0
B26: Ｂ | C26: ③ | D26: 0.54861111 | G26: =G7 -> ＦＣ黒羽 | N26: =P26+P27 -> 0 | O26: （ | P26: 0 | Q26: － | R26: 0 | S26: ） | T26: =R26+R27 -> 0 | U26: =O7 -> しおやＦＣヴィガウス | AC26: ( | AD26: 8 | AE26: ・ | AF26: 5 | AG26: )
P27: 0 | Q27: － | R27: 0
B28: Ａ | C28: ④ | D28: 0.57291667 | G28: =R7 -> ＦＣスポルト宇都宮 | N28: =P28+P29 -> 0 | O28: （ | P28: 0 | Q28: － | R28: 0 | S28: ） | T28: =R28+R29 -> 0 | U28: =Z7 -> ＦＣカンピオーネ | AC28: ( | AD28: 2 | AE28: ・ | AF28: 3 | AG28: )
P29: 0 | Q29: － | R29: 0
B30: Ｂ | C30: ④ | D30: 0.57291667 | G30: =V7 -> 北押原ＦＣ | N30: =P30+P31 -> 0 | O30: （ | P30: 0 | Q30: － | R30: 0 | S30: ） | T30: =R30+R31 -> 0 | U30: =AD7 -> ＦＣ西那須２１アストロ | AC30: ( | AD30: 4 | AE30: ・ | AF30: 1 | AG30: )
P31: 0 | Q31: － | R31: 0
B32: Ａ | C32: ⑤ | D32: 0.59722222 | G32: =C7 -> 亀山サッカークラブ | N32: =P32+P33 -> 0 | O32: （ | P32: 0 | Q32: － | R32: 0 | S32: ） | T32: =R32+R33 -> 0 | U32: =O7 -> しおやＦＣヴィガウス | AC32: ( | AD32: 7 | AE32: ・ | AF32: 8 | AG32: )
P33: 0 | Q33: － | R33: 0
B34: Ｂ | C34: ⑤ | D34: 0.59722222 | G34: =G7 -> ＦＣ黒羽 | N34: =P34+P35 -> 0 | O34: （ | P34: 0 | Q34: － | R34: 0 | S34: ） | T34: =R34+R35 -> 0 | U34: =K7 -> ＩＳＯＳＯＣＣＥＲＣＬＵＢセグンド | AC34: ( | AD34: 5 | AE34: ・ | AF34: 6 | AG34: )
P35: 0 | Q35: － | R35: 0
B36: Ａ | C36: ⑥ | D36: 0.62152778 | G36: =R7 -> ＦＣスポルト宇都宮 | N36: =P36+P37 -> 0 | O36: （ | P36: 0 | Q36: － | R36: 0 | S36: ） | T36: =R36+R37 -> 0 | U36: =AD7 -> ＦＣ西那須２１アストロ | AC36: ( | AD36: 3 | AE36: ・ | AF36: 4 | AG36: )
P37: 0 | Q37: － | R37: 0
B38: Ｂ | C38: ⑥ | D38: 0.62152778 | G38: =V7 -> 北押原ＦＣ | N38: =P38+P39 -> 0 | O38: （ | P38: 0 | Q38: － | R38: 0 | S38: ） | T38: =R38+R39 -> 0 | U38: =Z7 -> ＦＣカンピオーネ | AC38: ( | AD38: 1 | AE38: ・ | AF38: 2 | AG38: )
P39: 0 | Q39: － | R39: 0
B41: =I3 &"リーグ" -> Kリーグ | F41: =B43 -> 亀山サッカークラブ | H41: =B45 -> ＦＣ黒羽 | J41: =B47 -> ＩＳＯＳＯＣＣＥＲＣＬＵＢセグンド | L41: =B49 -> しおやＦＣヴィガウス | N41: 勝点 | O41: 得失点 | P41: 順位 | R41: =X3 &"リーグ" -> KKリーグ | V41: =R7 -> ＦＣスポルト宇都宮 | X41: =V7 -> 北押原ＦＣ | Z41: =Z7 -> ＦＣカンピオーネ | AB41: =AD7 -> ＦＣ西那須２１アストロ | AD41: 勝点 | AE41: 得失点 | AF41: 順位
B43: =C7 -> 亀山サッカークラブ | H43: =N16 -> 0 | I43: =T16 -> 0 | J43: =N24 -> 0 | K43: =T24 -> 0 | L43: =N32 -> 0 | M43: =T32 -> 0 | N43: =COUNTIF(F44:M44,"○")*3+COUNTIF(F44:M44,"△") -> 3 | O43: =H43-I43+J43-K43+L43-M43 -> 0 | R43: =R7 -> ＦＣスポルト宇都宮 | X43: =N20 -> 0 | Y43: =T20 -> 0 | Z43: =N28 -> 0 | AA43: =T28 -> 0 | AB43: =N36 -> 0 | AC43: =T36 -> 0 | AD43: =COUNTIF(V44:AC44,"○")*3+COUNTIF(V44:AC44,"△") -> 3 | AE43: =X43-Y43+Z43-AA43+AB43-AC43 -> 0
H44: =IF(H43>I43,"○",IF(H43<I43,"×",IF(H43=I43,"△"))) -> △ | J44: =IF(J43>K43,"○",IF(J43<K43,"×",IF(J43=K43,"△"))) -> △ | L44: =IF(L43>M43,"○",IF(L43<M43,"×",IF(L43=M43,"△"))) -> △ | X44: =IF(X43>Y43,"○",IF(X43<Y43,"×",IF(X43=Y43,"△"))) -> △ | Z44: =IF(Z43>AA43,"○",IF(Z43<AA43,"×",IF(Z43=AA43,"△"))) -> △ | AB44: =IF(AB43>AC43,"○",IF(AB43<AC43,"×",IF(AB43=AC43,"△"))) -> △
B45: =G7 -> ＦＣ黒羽 | F45: =I43 -> 0 | G45: =H43 -> 0 | J45: =N34 -> 0 | K45: =T34 -> 0 | L45: =N26 -> 0 | M45: =T26 -> 0 | N45: =COUNTIF(F46:M46,"○")*3+COUNTIF(F46:M46,"△") -> 3 | O45: =F45-G45+J45-K45+L45-M45 -> 0 | R45: =V7 -> 北押原ＦＣ | V45: =Y43 -> 0 | W45: =X43 -> 0 | Z45: =N38 -> 0 | AA45: =T38 -> 0 | AB45: =N30 -> 0 | AC45: =T30 -> 0 | AD45: =COUNTIF(V46:AC46,"○")*3+COUNTIF(V46:AC46,"△") -> 3 | AE45: =V45-W45+Z45-AA45+AB45-AC45 -> 0
F46: =IF(F45>G45,"○",IF(F45<G45,"×",IF(F45=G45,"△"))) -> △ | J46: =IF(J45>K45,"○",IF(J45<K45,"×",IF(J45=K45,"△"))) -> △ | L46: =IF(L45>M45,"○",IF(L45<M45,"×",IF(L45=M45,"△"))) -> △ | V46: =IF(V45>W45,"○",IF(V45<W45,"×",IF(V45=W45,"△"))) -> △ | Z46: =IF(Z45>AA45,"○",IF(Z45<AA45,"×",IF(Z45=AA45,"△"))) -> △ | AB46: =IF(AB45>AC45,"○",IF(AB45<AC45,"×",IF(AB45=AC45,"△"))) -> △
B47: =K7 -> ＩＳＯＳＯＣＣＥＲＣＬＵＢセグンド | F47: =K43 -> 0 | G47: =J43 -> 0 | H47: =K45 -> 0 | I47: =J45 -> 0 | L47: =N18 -> 0 | M47: =T18 -> 0 | N47: =COUNTIF(F48:M48,"○")*3+COUNTIF(F48:M48,"△") -> 3 | O47: =F47-G47+H47-I47+L47-M47 -> 0 | R47: =Z7 -> ＦＣカンピオーネ | V47: =AA43 -> 0 | W47: =Z43 -> 0 | X47: =AA45 -> 0 | Y47: =Z45 -> 0 | AB47: =N22 -> 0 | AC47: =T22 -> 0 | AD47: =COUNTIF(V48:AC48,"○")*3+COUNTIF(V48:AC48,"△") -> 3 | AE47: =V47-W47+X47-Y47+AB47-AC47 -> 0
F48: =IF(F47>G47,"○",IF(F47<G47,"×",IF(F47=G47,"△"))) -> △ | H48: =IF(H47>I47,"○",IF(H47<I47,"×",IF(H47=I47,"△"))) -> △ | L48: =IF(L47>M47,"○",IF(L47<M47,"×",IF(L47=M47,"△"))) -> △ | V48: =IF(V47>W47,"○",IF(V47<W47,"×",IF(V47=W47,"△"))) -> △ | X48: =IF(X47>Y47,"○",IF(X47<Y47,"×",IF(X47=Y47,"△"))) -> △ | AB48: =IF(AB47>AC47,"○",IF(AB47<AC47,"×",IF(AB47=AC47,"△"))) -> △
B49: =O7 -> しおやＦＣヴィガウス | F49: =M43 -> 0 | G49: =L43 -> 0 | H49: =M45 -> 0 | I49: =L45 -> 0 | J49: =M47 -> 0 | K49: =L47 -> 0 | N49: =COUNTIF(F50:M50,"○")*3+COUNTIF(F50:M50,"△") -> 3 | O49: =F49-G49+H49-I49+J49-K49 -> 0 | R49: =AD7 -> ＦＣ西那須２１アストロ | V49: =AC43 -> 0 | W49: =AB43 -> 0 | X49: =AC45 -> 0 | Y49: =AB45 -> 0 | Z49: =AC47 -> 0 | AA49: =AB47 -> 0 | AD49: =COUNTIF(V50:AC50,"○")*3+COUNTIF(V50:AC50,"△") -> 3 | AE49: =V49-W49+X49-Y49+Z49-AA49 -> 0
F50: =IF(F49>G49,"○",IF(F49<G49,"×",IF(F49=G49,"△"))) -> △ | H50: =IF(H49>I49,"○",IF(H49<I49,"×",IF(H49=I49,"△"))) -> △ | J50: =IF(J49>K49,"○",IF(J49<K49,"×",IF(J49=K49,"△"))) -> △ | V50: =IF(V49>W49,"○",IF(V49<W49,"×",IF(V49=W49,"△"))) -> △ | X50: =IF(X49>Y49,"○",IF(X49<Y49,"×",IF(X49=Y49,"△"))) -> △ | Z50: =IF(Z49>AA49,"○",IF(Z49<AA49,"×",IF(Z49=AA49,"△"))) -> △
A52: =A1 -> ■第1日 10月12日 | I52: =I1 -> １次ラウンド | T52: 第12会場 | X52: =U10組合せ!AH72 -> 真岡市鬼怒自然公園サッカー場BA
J54: L | W54: LL
F57: 1 | J57: 2 | N57: 3 | S57: 4 | W57: 5 | AA57: 6
F58: =U10組合せ!AF85 -> ＦＣ ＣＡＳＡ ＦＯＲＴＵＮＡ ＯＹＡＭＡ | J58: =U10組合せ!AF83 -> 足利サッカークラブジュニア Ｕ－９ | N58: =U10組合せ!AF81 -> 緑が丘ＹＦＣサッカー教室 | S58: =U10組合せ!AF77 -> 大谷北ＦＣフォルテ | W58: =U10組合せ!AF75 -> エスペランサＭＯＫＡ | AA58: =U10組合せ!AF73 -> 野原グランディオスＦＣ
AD66: 主 | AE66: ・ | AF66: 補
B67: ① | C67: 0.5 | G67: =F58 -> ＦＣ ＣＡＳＡ ＦＯＲＴＵＮＡ ＯＹＡＭＡ | N67: =P67+P68 -> 0 | O67: （ | P67: 0 | Q67: － | R67: 0 | S67: ） | T67: =R67+R68 -> 0 | U67: =J58 -> 足利サッカークラブジュニア Ｕ－９ | AC67: ( | AD67: 6 | AE67: ・ | AF67: 4 | AG67: )
P68: 0 | Q68: － | R68: 0
B70: ② | C70: 0.52430556 | G70: =S58 -> 大谷北ＦＣフォルテ | N70: =P70+P71 -> 0 | O70: （ | P70: 0 | Q70: － | R70: 0 | S70: ） | T70: =R70+R71 -> 0 | U70: =W58 -> エスペランサＭＯＫＡ | AC70: ( | AD70: 2 | AE70: ・ | AF70: 1 | AG70: )
P71: 0 | Q71: － | R71: 0
B73: ③ | C73: 0.54861111 | G73: =F58 -> ＦＣ ＣＡＳＡ ＦＯＲＴＵＮＡ ＯＹＡＭＡ | N73: =P73+P74 -> 0 | O73: （ | P73: 0 | Q73: － | R73: 0 | S73: ） | T73: =R73+R74 -> 0 | U73: =N58 -> 緑が丘ＹＦＣサッカー教室 | AC73: ( | AD73: 5 | AE73: ・ | AF73: 6 | AG73: )
P74: 0 | Q74: － | R74: 0
B76: ④ | C76: 0.57291667 | G76: =S58 -> 大谷北ＦＣフォルテ | N76: =P76+P77 -> 0 | O76: （ | P76: 0 | Q76: － | R76: 0 | S76: ） | T76: =R76+R77 -> 0 | U76: =AA58 -> 野原グランディオスＦＣ | AC76: ( | AD76: 1 | AE76: ・ | AF76: 3 | AG76: )
P77: 0 | Q77: － | R77: 0
B79: ⑤ | C79: 0.59722222 | G79: =J58 -> 足利サッカークラブジュニア Ｕ－９ | N79: =P79+P80 -> 0 | O79: （ | P79: 0 | Q79: － | R79: 0 | S79: ） | T79: =R79+R80 -> 0 | U79: =N58 -> 緑が丘ＹＦＣサッカー教室 | AC79: ( | AD79: 4 | AE79: ・ | AF79: 5 | AG79: )
P80: 0 | Q80: － | R80: 0
B82: ⑥ | C82: 0.62152778 | G82: =W58 -> エスペランサＭＯＫＡ | N82: =P82+P83 -> 0 | O82: （ | P82: 0 | Q82: － | R82: 0 | S82: ） | T82: =R82+R83 -> 0 | U82: =AA58 -> 野原グランディオスＦＣ | AC82: ( | AD82: 3 | AE82: ・ | AF82: 2 | AG82: )
P83: 0 | Q83: － | R83: 0
C85: =J54 &"リーグ" -> Lリーグ | G85: =C87 -> ＦＣ ＣＡＳＡ ＦＯＲＴＵＮＡ ＯＹＡＭＡ | I85: =C89 -> 足利サッカークラブジュニア Ｕ－９ | K85: =C91 -> 緑が丘ＹＦＣサッカー教室 | M85: 勝点 | N85: 得失点 | O85: 総得点 | P85: 順位 | R85: =W54 &"リーグ" -> LLリーグ | V85: =R87 -> 大谷北ＦＣフォルテ | X85: =R89 -> エスペランサＭＯＫＡ | Z85: =R91 -> 野原グランディオスＦＣ | AB85: 勝点 | AC85: 得失点 | AD85: 総得点 | AE85: 順位
C87: =F58 -> ＦＣ ＣＡＳＡ ＦＯＲＴＵＮＡ ＯＹＡＭＡ | I87: =N67 -> 0 | J87: =T67 -> 0 | K87: =N73 -> 0 | L87: =T73 -> 0 | M87: =COUNTIF(G88:L88,"○")*3+COUNTIF(G88:L88,"△") -> 2 | N87: =O87-J87-L87 -> 0 | O87: =I87+K87 -> 0 | R87: =S58 -> 大谷北ＦＣフォルテ | X87: =N70 -> 0 | Y87: =T70 -> 0 | Z87: =N76 -> 0 | AA87: =T76 -> 0 | AB87: =COUNTIF(V88:AA88,"○")*3+COUNTIF(V88:AA88,"△") -> 2 | AC87: =AD87-Y87-AA87 -> 0 | AD87: =X87+Z87 -> 0
I88: =IF(I87>J87,"○",IF(I87<J87,"×",IF(I87=J87,"△"))) -> △ | K88: =IF(K87>L87,"○",IF(K87<L87,"×",IF(K87=L87,"△"))) -> △ | X88: =IF(X87>Y87,"○",IF(X87<Y87,"×",IF(X87=Y87,"△"))) -> △ | Z88: =IF(Z87>AA87,"○",IF(Z87<AA87,"×",IF(Z87=AA87,"△"))) -> △
C89: =J58 -> 足利サッカークラブジュニア Ｕ－９ | G89: =J87 -> 0 | H89: =I87 -> 0 | K89: =N79 -> 0 | L89: =T79 -> 0 | M89: =COUNTIF(G90:L90,"○")*3+COUNTIF(G90:L90,"△") -> 2 | N89: =O89-H89-L89 -> 0 | O89: =G89+K89 -> 0 | R89: =W58 -> エスペランサＭＯＫＡ | V89: =Y87 -> 0 | W89: =X87 -> 0 | Z89: =N82 -> 0 | AA89: =T82 -> 0 | AB89: =COUNTIF(V90:AA90,"○")*3+COUNTIF(V90:AA90,"△") -> 2 | AC89: =AD89-W89-AA89 -> 0 | AD89: =V89+Z89 -> 0
G90: =IF(G89>H89,"○",IF(G89<H89,"×",IF(G89=H89,"△"))) -> △ | K90: =IF(K89>L89,"○",IF(K89<L89,"×",IF(K89=L89,"△"))) -> △ | V90: =IF(V89>W89,"○",IF(V89<W89,"×",IF(V89=W89,"△"))) -> △ | Z90: =IF(Z89>AA89,"○",IF(Z89<AA89,"×",IF(Z89=AA89,"△"))) -> △
C91: =N58 -> 緑が丘ＹＦＣサッカー教室 | G91: =L87 -> 0 | H91: =K87 -> 0 | I91: =L89 -> 0 | J91: =K89 -> 0 | M91: =COUNTIF(G92:L92,"○")*3+COUNTIF(G92:L92,"△") -> 2 | N91: =O91-H91-J91 -> 0 | O91: =G91+I91 -> 0 | R91: =AA58 -> 野原グランディオスＦＣ | V91: =AA87 -> 0 | W91: =Z87 -> 0 | X91: =AA89 -> 0 | Y91: =Z89 -> 0 | AB91: =COUNTIF(V92:AA92,"○")*3+COUNTIF(V92:AA92,"△") -> 2 | AC91: =AD91-W91-Y91 -> 0 | AD91: =V91+X91 -> 0
G92: =IF(G91>H91,"○",IF(G91<H91,"×",IF(G91=H91,"△"))) -> △ | I92: =IF(I91>J91,"○",IF(I91<J91,"×",IF(I91=J91,"△"))) -> △ | V92: =IF(V91>W91,"○",IF(V91<W91,"×",IF(V91=W91,"△"))) -> △ | X92: =IF(X91>Y91,"○",IF(X91<Y91,"×",IF(X91=Y91,"△"))) -> △

Sheet MN
A1: =U10組合せ!H3 -> ■第1日 10月12日 | I1: =U10組合せ!Q3 -> １次ラウンド | T1: 第13会場 | X1: =U10組合せ!AH56 -> 真岡ハイトラ運動公園多目的広場
I3: M | X3: MM
C6: 1 | G6: 2 | K6: 3 | O6: 4 | R6: 5 | V6: 6 | Z6: 7 | AD6: 8
C7: =U10組合せ!AF70 -> 坂西ジュニオール | G7: =U10組合せ!AF68 -> 国本ジュニアサッカークラブ | K7: =U10組合せ!AF66 -> 西原ＦＣ | O7: =U10組合せ!AF64 -> Ｐｅｇａｓｕｓ藤岡２００７ | R7: =U10組合せ!AF62 -> ＨＦＣ．ＺＥＲＯ | V7: =U10組合せ!AF60 -> ＳＵＧＡＯサッカークラブ | Z7: =U10組合せ!AF58 -> 阿久津サッカークラブ | AD7: =U10組合せ!AF56 -> ＦＣ ＶＡＬＯＮ
B15: ピッチ | AD15: 主 | AE15: ・ | AF15: 補
B16: Ａ | C16: ① | D16: 0.5 | G16: =C7 -> 坂西ジュニオール | N16: =P16+P17 -> 0 | O16: （ | P16: 0 | Q16: － | R16: 0 | S16: ） | T16: =R16+R17 -> 0 | U16: =G7 -> 国本ジュニアサッカークラブ | AC16: ( | AD16: 5 | AE16: ・ | AF16: 6 | AG16: )
P17: 0 | Q17: － | R17: 0
B18: Ｂ | C18: ① | D18: 0.5 | G18: =K7 -> 西原ＦＣ | N18: =P18+P19 -> 0 | O18: （ | P18: 0 | Q18: － | R18: 0 | S18: ） | T18: =R18+R19 -> 0 | U18: =O7 -> Ｐｅｇａｓｕｓ藤岡２００７ | AC18: ( | AD18: 7 | AE18: ・ | AF18: 8 | AG18: )
P19: 0 | Q19: － | R19: 0
B20: Ａ | C20: ② | D20: 0.52430556 | G20: =R7 -> ＨＦＣ．ＺＥＲＯ | N20: =P20+P21 -> 0 | O20: （ | P20: 0 | Q20: － | R20: 0 | S20: ） | T20: =R20+R21 -> 0 | U20: =V7 -> ＳＵＧＡＯサッカークラブ | AC20: ( | AD20: 1 | AE20: ・ | AF20: 2 | AG20: )
P21: 0 | Q21: － | R21: 0
B22: Ｂ | C22: ② | D22: 0.52430556 | G22: =Z7 -> 阿久津サッカークラブ | N22: =P22+P23 -> 0 | O22: （ | P22: 0 | Q22: － | R22: 0 | S22: ） | T22: =R22+R23 -> 0 | U22: =AD7 -> ＦＣ ＶＡＬＯＮ | AC22: ( | AD22: 3 | AE22: ・ | AF22: 4 | AG22: )
P23: 0 | Q23: － | R23: 0
B24: Ａ | C24: ③ | D24: 0.54861111 | G24: =C7 -> 坂西ジュニオール | N24: =P24+P25 -> 0 | O24: （ | P24: 0 | Q24: － | R24: 0 | S24: ） | T24: =R24+R25 -> 0 | U24: =K7 -> 西原ＦＣ | AC24: ( | AD24: 6 | AE24: ・ | AF24: 7 | AG24: )
P25: 0 | Q25: － | R25: 0
B26: Ｂ | C26: ③ | D26: 0.54861111 | G26: =G7 -> 国本ジュニアサッカークラブ | N26: =P26+P27 -> 0 | O26: （ | P26: 0 | Q26: － | R26: 0 | S26: ） | T26: =R26+R27 -> 0 | U26: =O7 -> Ｐｅｇａｓｕｓ藤岡２００７ | AC26: ( | AD26: 8 | AE26: ・ | AF26: 5 | AG26: )
P27: 0 | Q27: － | R27: 0
B28: Ａ | C28: ④ | D28: 0.57291667 | G28: =R7 -> ＨＦＣ．ＺＥＲＯ | N28: =P28+P29 -> 0 | O28: （ | P28: 0 | Q28: － | R28: 0 | S28: ） | T28: =R28+R29 -> 0 | U28: =Z7 -> 阿久津サッカークラブ | AC28: ( | AD28: 2 | AE28: ・ | AF28: 3 | AG28: )
P29: 0 | Q29: － | R29: 0
B30: Ｂ | C30: ④ | D30: 0.57291667 | G30: =V7 -> ＳＵＧＡＯサッカークラブ | N30: =P30+P31 -> 0 | O30: （ | P30: 0 | Q30: － | R30: 0 | S30: ） | T30: =R30+R31 -> 0 | U30: =AD7 -> ＦＣ ＶＡＬＯＮ | AC30: ( | AD30: 4 | AE30: ・ | AF30: 1 | AG30: )
P31: 0 | Q31: － | R31: 0
B32: Ａ | C32: ⑤ | D32: 0.59722222 | G32: =C7 -> 坂西ジュニオール | N32: =P32+P33 -> 0 | O32: （ | P32: 0 | Q32: － | R32: 0 | S32: ） | T32: =R32+R33 -> 0 | U32: =O7 -> Ｐｅｇａｓｕｓ藤岡２００７ | AC32: ( | AD32: 7 | AE32: ・ | AF32: 8 | AG32: )
P33: 0 | Q33: － | R33: 0
B34: Ｂ | C34: ⑤ | D34: 0.59722222 | G34: =G7 -> 国本ジュニアサッカークラブ | N34: =P34+P35 -> 0 | O34: （ | P34: 0 | Q34: － | R34: 0 | S34: ） | T34: =R34+R35 -> 0 | U34: =K7 -> 西原ＦＣ | AC34: ( | AD34: 5 | AE34: ・ | AF34: 6 | AG34: )
P35: 0 | Q35: － | R35: 0
B36: Ａ | C36: ⑥ | D36: 0.62152778 | G36: =R7 -> ＨＦＣ．ＺＥＲＯ | N36: =P36+P37 -> 0 | O36: （ | P36: 0 | Q36: － | R36: 0 | S36: ） | T36: =R36+R37 -> 0 | U36: =AD7 -> ＦＣ ＶＡＬＯＮ | AC36: ( | AD36: 3 | AE36: ・ | AF36: 4 | AG36: )
P37: 0 | Q37: － | R37: 0
B38: Ｂ | C38: ⑥ | D38: 0.62152778 | G38: =V7 -> ＳＵＧＡＯサッカークラブ | N38: =P38+P39 -> 0 | O38: （ | P38: 0 | Q38: － | R38: 0 | S38: ） | T38: =R38+R39 -> 0 | U38: =Z7 -> 阿久津サッカークラブ | AC38: ( | AD38: 1 | AE38: ・ | AF38: 2 | AG38: )
P39: 0 | Q39: － | R39: 0
B41: =I3 &"リーグ" -> Mリーグ | F41: =B43 -> 坂西ジュニオール | H41: =B45 -> 国本ジュニアサッカークラブ | J41: =B47 -> 西原ＦＣ | L41: =B49 -> Ｐｅｇａｓｕｓ藤岡２００７ | N41: 勝点 | O41: 得失点 | P41: 順位 | R41: =X3 &"リーグ" -> MMリーグ | V41: =R7 -> ＨＦＣ．ＺＥＲＯ | X41: =V7 -> ＳＵＧＡＯサッカークラブ | Z41: =Z7 -> 阿久津サッカークラブ | AB41: =AD7 -> ＦＣ ＶＡＬＯＮ | AD41: 勝点 | AE41: 得失点 | AF41: 順位
B43: =C7 -> 坂西ジュニオール | H43: =N16 -> 0 | I43: =T16 -> 0 | J43: =N24 -> 0 | K43: =T24 -> 0 | L43: =N32 -> 0 | M43: =T32 -> 0 | N43: =COUNTIF(F44:M44,"○")*3+COUNTIF(F44:M44,"△") -> 3 | O43: =H43-I43+J43-K43+L43-M43 -> 0 | R43: =R7 -> ＨＦＣ．ＺＥＲＯ | X43: =N20 -> 0 | Y43: =T20 -> 0 | Z43: =N28 -> 0 | AA43: =T28 -> 0 | AB43: =N36 -> 0 | AC43: =T36 -> 0 | AD43: =COUNTIF(V44:AC44,"○")*3+COUNTIF(V44:AC44,"△") -> 3 | AE43: =X43-Y43+Z43-AA43+AB43-AC43 -> 0
H44: =IF(H43>I43,"○",IF(H43<I43,"×",IF(H43=I43,"△"))) -> △ | J44: =IF(J43>K43,"○",IF(J43<K43,"×",IF(J43=K43,"△"))) -> △ | L44: =IF(L43>M43,"○",IF(L43<M43,"×",IF(L43=M43,"△"))) -> △ | X44: =IF(X43>Y43,"○",IF(X43<Y43,"×",IF(X43=Y43,"△"))) -> △ | Z44: =IF(Z43>AA43,"○",IF(Z43<AA43,"×",IF(Z43=AA43,"△"))) -> △ | AB44: =IF(AB43>AC43,"○",IF(AB43<AC43,"×",IF(AB43=AC43,"△"))) -> △
B45: =G7 -> 国本ジュニアサッカークラブ | F45: =I43 -> 0 | G45: =H43 -> 0 | J45: =N34 -> 0 | K45: =T34 -> 0 | L45: =N26 -> 0 | M45: =T26 -> 0 | N45: =COUNTIF(F46:M46,"○")*3+COUNTIF(F46:M46,"△") -> 3 | O45: =F45-G45+J45-K45+L45-M45 -> 0 | R45: =V7 -> ＳＵＧＡＯサッカークラブ | V45: =Y43 -> 0 | W45: =X43 -> 0 | Z45: =N38 -> 0 | AA45: =T38 -> 0 | AB45: =N30 -> 0 | AC45: =T30 -> 0 | AD45: =COUNTIF(V46:AC46,"○")*3+COUNTIF(V46:AC46,"△") -> 3 | AE45: =V45-W45+Z45-AA45+AB45-AC45 -> 0
F46: =IF(F45>G45,"○",IF(F45<G45,"×",IF(F45=G45,"△"))) -> △ | J46: =IF(J45>K45,"○",IF(J45<K45,"×",IF(J45=K45,"△"))) -> △ | L46: =IF(L45>M45,"○",IF(L45<M45,"×",IF(L45=M45,"△"))) -> △ | V46: =IF(V45>W45,"○",IF(V45<W45,"×",IF(V45=W45,"△"))) -> △ | Z46: =IF(Z45>AA45,"○",IF(Z45<AA45,"×",IF(Z45=AA45,"△"))) -> △ | AB46: =IF(AB45>AC45,"○",IF(AB45<AC45,"×",IF(AB45=AC45,"△"))) -> △
B47: =K7 -> 西原ＦＣ | F47: =K43 -> 0 | G47: =J43 -> 0 | H47: =K45 -> 0 | I47: =J45 -> 0 | L47: =N18 -> 0 | M47: =T18 -> 0 | N47: =COUNTIF(F48:M48,"○")*3+COUNTIF(F48:M48,"△") -> 3 | O47: =F47-G47+H47-I47+L47-M47 -> 0 | R47: =Z7 -> 阿久津サッカークラブ | V47: =AA43 -> 0 | W47: =Z43 -> 0 | X47: =AA45 -> 0 | Y47: =Z45 -> 0 | AB47: =N22 -> 0 | AC47: =T22 -> 0 | AD47: =COUNTIF(V48:AC48,"○")*3+COUNTIF(V48:AC48,"△") -> 3 | AE47: =V47-W47+X47-Y47+AB47-AC47 -> 0
F48: =IF(F47>G47,"○",IF(F47<G47,"×",IF(F47=G47,"△"))) -> △ | H48: =IF(H47>I47,"○",IF(H47<I47,"×",IF(H47=I47,"△"))) -> △ | L48: =IF(L47>M47,"○",IF(L47<M47,"×",IF(L47=M47,"△"))) -> △ | V48: =IF(V47>W47,"○",IF(V47<W47,"×",IF(V47=W47,"△"))) -> △ | X48: =IF(X47>Y47,"○",IF(X47<Y47,"×",IF(X47=Y47,"△"))) -> △ | AB48: =IF(AB47>AC47,"○",IF(AB47<AC47,"×",IF(AB47=AC47,"△"))) -> △
B49: =O7 -> Ｐｅｇａｓｕｓ藤岡２００７ | F49: =M43 -> 0 | G49: =L43 -> 0 | H49: =M45 -> 0 | I49: =L45 -> 0 | J49: =M47 -> 0 | K49: =L47 -> 0 | N49: =COUNTIF(F50:M50,"○")*3+COUNTIF(F50:M50,"△") -> 3 | O49: =F49-G49+H49-I49+J49-K49 -> 0 | R49: =AD7 -> ＦＣ ＶＡＬＯＮ | V49: =AC43 -> 0 | W49: =AB43 -> 0 | X49: =AC45 -> 0 | Y49: =AB45 -> 0 | Z49: =AC47 -> 0 | AA49: =AB47 -> 0 | AD49: =COUNTIF(V50:AC50,"○")*3+COUNTIF(V50:AC50,"△") -> 3 | AE49: =V49-W49+X49-Y49+Z49-AA49 -> 0
F50: =IF(F49>G49,"○",IF(F49<G49,"×",IF(F49=G49,"△"))) -> △ | H50: =IF(H49>I49,"○",IF(H49<I49,"×",IF(H49=I49,"△"))) -> △ | J50: =IF(J49>K49,"○",IF(J49<K49,"×",IF(J49=K49,"△"))) -> △ | V50: =IF(V49>W49,"○",IF(V49<W49,"×",IF(V49=W49,"△"))) -> △ | X50: =IF(X49>Y49,"○",IF(X49<Y49,"×",IF(X49=Y49,"△"))) -> △ | Z50: =IF(Z49>AA49,"○",IF(Z49<AA49,"×",IF(Z49=AA49,"△"))) -> △
A52: =A1 -> ■第1日 10月12日 | I52: =I1 -> １次ラウンド | T52: 第14会場 | X52: =U10組合せ!AH40 -> 真岡市鬼怒自然公園サッカー場AA
J54: N | W54: NN
F57: 1 | J57: 2 | N57: 3 | S57: 4 | W57: 5 | AA57: 6
F58: =U10組合せ!AF53 -> 那須野ヶ原ＦＣボンジボーラ Ｕ９ | J58: =U10組合せ!AF51 -> 今市ジュニオール | N58: =U10組合せ!AF49 -> ＦＣグランディール宇都宮 | S58: =U10組合せ!AF45 -> Ｋ－ＷＥＳＴ．ＦＣ２００１ | W58: =U10組合せ!AF43 -> 真岡西サッカークラブブリッツ | AA58: =U10組合せ!AF41 -> 宝木キッカーズＭＯＲＡＬＥ１０
AD66: 主 | AE66: ・ | AF66: 補
B67: ① | C67: 0.5 | G67: =F58 -> 那須野ヶ原ＦＣボンジボーラ Ｕ９ | N67: =P67+P68 -> 0 | O67: （ | P67: 0 | Q67: － | R67: 0 | S67: ） | T67: =R67+R68 -> 0 | U67: =J58 -> 今市ジュニオール | AC67: ( | AD67: 6 | AE67: ・ | AF67: 4 | AG67: )
P68: 0 | Q68: － | R68: 0
B70: ② | C70: 0.52430556 | G70: =S58 -> Ｋ－ＷＥＳＴ．ＦＣ２００１ | N70: =P70+P71 -> 0 | O70: （ | P70: 0 | Q70: － | R70: 0 | S70: ） | T70: =R70+R71 -> 0 | U70: =W58 -> 真岡西サッカークラブブリッツ | AC70: ( | AD70: 2 | AE70: ・ | AF70: 1 | AG70: )
P71: 0 | Q71: － | R71: 0
B73: ③ | C73: 0.54861111 | G73: =F58 -> 那須野ヶ原ＦＣボンジボーラ Ｕ９ | N73: =P73+P74 -> 0 | O73: （ | P73: 0 | Q73: － | R73: 0 | S73: ） | T73: =R73+R74 -> 0 | U73: =N58 -> ＦＣグランディール宇都宮 | AC73: ( | AD73: 5 | AE73: ・ | AF73: 6 | AG73: )
P74: 0 | Q74: － | R74: 0
B76: ④ | C76: 0.57291667 | G76: =S58 -> Ｋ－ＷＥＳＴ．ＦＣ２００１ | N76: =P76+P77 -> 0 | O76: （ | P76: 0 | Q76: － | R76: 0 | S76: ） | T76: =R76+R77 -> 0 | U76: =AA58 -> 宝木キッカーズＭＯＲＡＬＥ１０ | AC76: ( | AD76: 1 | AE76: ・ | AF76: 3 | AG76: )
P77: 0 | Q77: － | R77: 0
B79: ⑤ | C79: 0.59722222 | G79: =J58 -> 今市ジュニオール | N79: =P79+P80 -> 0 | O79: （ | P79: 0 | Q79: － | R79: 0 | S79: ） | T79: =R79+R80 -> 0 | U79: =N58 -> ＦＣグランディール宇都宮 | AC79: ( | AD79: 4 | AE79: ・ | AF79: 5 | AG79: )
P80: 0 | Q80: － | R80: 0
B82: ⑥ | C82: 0.62152778 | G82: =W58 -> 真岡西サッカークラブブリッツ | N82: =P82+P83 -> 0 | O82: （ | P82: 0 | Q82: － | R82: 0 | S82: ） | T82: =R82+R83 -> 0 | U82: =AA58 -> 宝木キッカーズＭＯＲＡＬＥ１０ | AC82: ( | AD82: 3 | AE82: ・ | AF82: 2 | AG82: )
P83: 0 | Q83: － | R83: 0
C85: =J54 &"リーグ" -> Nリーグ | G85: =C87 -> 那須野ヶ原ＦＣボンジボーラ Ｕ９ | I85: =C89 -> 今市ジュニオール | K85: =C91 -> ＦＣグランディール宇都宮 | M85: 勝点 | N85: 得失点 | O85: 総得点 | P85: 順位 | R85: =W54 &"リーグ" -> NNリーグ | V85: =R87 -> Ｋ－ＷＥＳＴ．ＦＣ２００１ | X85: =R89 -> 真岡西サッカークラブブリッツ | Z85: =R91 -> 宝木キッカーズＭＯＲＡＬＥ１０ | AB85: 勝点 | AC85: 得失点 | AD85: 総得点 | AE85: 順位
C87: =F58 -> 那須野ヶ原ＦＣボンジボーラ Ｕ９ | I87: =N67 -> 0 | J87: =T67 -> 0 | K87: =N73 -> 0 | L87: =T73 -> 0 | M87: =COUNTIF(G88:L88,"○")*3+COUNTIF(G88:L88,"△") -> 2 | N87: =O87-J87-L87 -> 0 | O87: =I87+K87 -> 0 | R87: =S58 -> Ｋ－ＷＥＳＴ．ＦＣ２００１ | X87: =N70 -> 0 | Y87: =T70 -> 0 | Z87: =N76 -> 0 | AA87: =T76 -> 0 | AB87: =COUNTIF(V88:AA88,"○")*3+COUNTIF(V88:AA88,"△") -> 2 | AC87: =AD87-Y87-AA87 -> 0 | AD87: =X87+Z87 -> 0
I88: =IF(I87>J87,"○",IF(I87<J87,"×",IF(I87=J87,"△"))) -> △ | K88: =IF(K87>L87,"○",IF(K87<L87,"×",IF(K87=L87,"△"))) -> △ | X88: =IF(X87>Y87,"○",IF(X87<Y87,"×",IF(X87=Y87,"△"))) -> △ | Z88: =IF(Z87>AA87,"○",IF(Z87<AA87,"×",IF(Z87=AA87,"△"))) -> △
C89: =J58 -> 今市ジュニオール | G89: =J87 -> 0 | H89: =I87 -> 0 | K89: =N79 -> 0 | L89: =T79 -> 0 | M89: =COUNTIF(G90:L90,"○")*3+COUNTIF(G90:L90,"△") -> 2 | N89: =O89-H89-L89 -> 0 | O89: =G89+K89 -> 0 | R89: =W58 -> 真岡西サッカークラブブリッツ | V89: =Y87 -> 0 | W89: =X87 -> 0 | Z89: =N82 -> 0 | AA89: =T82 -> 0 | AB89: =COUNTIF(V90:AA90,"○")*3+COUNTIF(V90:AA90,"△") -> 2 | AC89: =AD89-W89-AA89 -> 0 | AD89: =V89+Z89 -> 0
G90: =IF(G89>H89,"○",IF(G89<H89,"×",IF(G89=H89,"△"))) -> △ | K90: =IF(K89>L89,"○",IF(K89<L89,"×",IF(K89=L89,"△"))) -> △ | V90: =IF(V89>W89,"○",IF(V89<W89,"×",IF(V89=W89,"△"))) -> △ | Z90: =IF(Z89>AA89,"○",IF(Z89<AA89,"×",IF(Z89=AA89,"△"))) -> △
C91: =N58 -> ＦＣグランディール宇都宮 | G91: =L87 -> 0 | H91: =K87 -> 0 | I91: =L89 -> 0 | J91: =K89 -> 0 | M91: =COUNTIF(G92:L92,"○")*3+COUNTIF(G92:L92,"△") -> 2 | N91: =O91-H91-J91 -> 0 | O91: =G91+I91 -> 0 | R91: =AA58 -> 宝木キッカーズＭＯＲＡＬＥ１０ | V91: =AA87 -> 0 | W91: =Z87 -> 0 | X91: =AA89 -> 0 | Y91: =Z89 -> 0 | AB91: =COUNTIF(V92:AA92,"○")*3+COUNTIF(V92:AA92,"△") -> 2 | AC91: =AD91-W91-Y91 -> 0 | AD91: =V91+X91 -> 0
G92: =IF(G91>H91,"○",IF(G91<H91,"×",IF(G91=H91,"△"))) -> △ | I92: =IF(I91>J91,"○",IF(I91<J91,"×",IF(I91=J91,"△"))) -> △ | V92: =IF(V91>W91,"○",IF(V91<W91,"×",IF(V91=W91,"△"))) -> △ | X92: =IF(X91>Y91,"○",IF(X91<Y91,"×",IF(X91=Y91,"△"))) -> △

Sheet OP
A1: =U10組合せ!H3 -> ■第1日 10月12日 | I1: =U10組合せ!Q3 -> １次ラウンド | T1: 第15会場 | X1: =U10組合せ!AH24 -> 南河内東部運動広場
I3: O | X3: OO
C6: 1 | G6: 2 | K6: 3 | O6: 4 | R6: 5 | V6: 6 | Z6: 7 | AD6: 8
C7: =U10組合せ!AF38 -> クレアＦＣアルドーレ | G7: =U10組合せ!AF36 -> Ｆ．Ｃ．栃木ジュニア | K7: =U10組合せ!AF34 -> 富士見サッカースポーツ少年団 | O7: =U10組合せ!AF32 -> フットボールクラブ氏家 | R7: =U10組合せ!AF30 -> 石橋ＦＣ | V7: =U10組合せ!AF28 -> おおぞらＳＣ | Z7: =U10組合せ!AF26 -> ＮＩＫＫＯ ＳＰＯＲＴＳ ＣＬＵＢ | AD7: =U10組合せ!AF24 -> 那須野ヶ原ＦＣボンジボーラ ブルー
B15: ピッチ | AD15: 主 | AE15: ・ | AF15: 補
B16: Ａ | C16: ① | D16: 0.5 | G16: =C7 -> クレアＦＣアルドーレ | N16: =P16+P17 -> 0 | O16: （ | P16: 0 | Q16: － | R16: 0 | S16: ） | T16: =R16+R17 -> 0 | U16: =G7 -> Ｆ．Ｃ．栃木ジュニア | AC16: ( | AD16: 5 | AE16: ・ | AF16: 6 | AG16: )
P17: 0 | Q17: － | R17: 0
B18: Ｂ | C18: ① | D18: 0.5 | G18: =K7 -> 富士見サッカースポーツ少年団 | N18: =P18+P19 -> 0 | O18: （ | P18: 0 | Q18: － | R18: 0 | S18: ） | T18: =R18+R19 -> 0 | U18: =O7 -> フットボールクラブ氏家 | AC18: ( | AD18: 7 | AE18: ・ | AF18: 8 | AG18: )
P19: 0 | Q19: － | R19: 0
B20: Ａ | C20: ② | D20: 0.52430556 | G20: =R7 -> 石橋ＦＣ | N20: =P20+P21 -> 0 | O20: （ | P20: 0 | Q20: － | R20: 0 | S20: ） | T20: =R20+R21 -> 0 | U20: =V7 -> おおぞらＳＣ | AC20: ( | AD20: 1 | AE20: ・ | AF20: 2 | AG20: )
P21: 0 | Q21: － | R21: 0
B22: Ｂ | C22: ② | D22: 0.52430556 | G22: =Z7 -> ＮＩＫＫＯ ＳＰＯＲＴＳ ＣＬＵＢ | N22: =P22+P23 -> 0 | O22: （ | P22: 0 | Q22: － | R22: 0 | S22: ） | T22: =R22+R23 -> 0 | U22: =AD7 -> 那須野ヶ原ＦＣボンジボーラ ブルー | AC22: ( | AD22: 3 | AE22: ・ | AF22: 4 | AG22: )
P23: 0 | Q23: － | R23: 0
B24: Ａ | C24: ③ | D24: 0.54861111 | G24: =C7 -> クレアＦＣアルドーレ | N24: =P24+P25 -> 0 | O24: （ | P24: 0 | Q24: － | R24: 0 | S24: ） | T24: =R24+R25 -> 0 | U24: =K7 -> 富士見サッカースポーツ少年団 | AC24: ( | AD24: 6 | AE24: ・ | AF24: 7 | AG24: )
P25: 0 | Q25: － | R25: 0
B26: Ｂ | C26: ③ | D26: 0.54861111 | G26: =G7 -> Ｆ．Ｃ．栃木ジュニア | N26: =P26+P27 -> 0 | O26: （ | P26: 0 | Q26: － | R26: 0 | S26: ） | T26: =R26+R27 -> 0 | U26: =O7 -> フットボールクラブ氏家 | AC26: ( | AD26: 8 | AE26: ・ | AF26: 5 | AG26: )
P27: 0 | Q27: － | R27: 0
B28: Ａ | C28: ④ | D28: 0.57291667 | G28: =R7 -> 石橋ＦＣ | N28: =P28+P29 -> 0 | O28: （ | P28: 0 | Q28: － | R28: 0 | S28: ） | T28: =R28+R29 -> 0 | U28: =Z7 -> ＮＩＫＫＯ ＳＰＯＲＴＳ ＣＬＵＢ | AC28: ( | AD28: 2 | AE28: ・ | AF28: 3 | AG28: )
P29: 0 | Q29: － | R29: 0
B30: Ｂ | C30: ④ | D30: 0.57291667 | G30: =V7 -> おおぞらＳＣ | N30: =P30+P31 -> 0 | O30: （ | P30: 0 | Q30: － | R30: 0 | S30: ） | T30: =R30+R31 -> 0 | U30: =AD7 -> 那須野ヶ原ＦＣボンジボーラ ブルー | AC30: ( | AD30: 4 | AE30: ・ | AF30: 1 | AG30: )
P31: 0 | Q31: － | R31: 0
B32: Ａ | C32: ⑤ | D32: 0.59722222 | G32: =C7 -> クレアＦＣアルドーレ | N32: =P32+P33 -> 0 | O32: （ | P32: 0 | Q32: － | R32: 0 | S32: ） | T32: =R32+R33 -> 0 | U32: =O7 -> フットボールクラブ氏家 | AC32: ( | AD32: 7 | AE32: ・ | AF32: 8 | AG32: )
P33: 0 | Q33: － | R33: 0
B34: Ｂ | C34: ⑤ | D34: 0.59722222 | G34: =G7 -> Ｆ．Ｃ．栃木ジュニア | N34: =P34+P35 -> 0 | O34: （ | P34: 0 | Q34: － | R34: 0 | S34: ） | T34: =R34+R35 -> 0 | U34: =K7 -> 富士見サッカースポーツ少年団 | AC34: ( | AD34: 5 | AE34: ・ | AF34: 6 | AG34: )
P35: 0 | Q35: － | R35: 0
B36: Ａ | C36: ⑥ | D36: 0.62152778 | G36: =R7 -> 石橋ＦＣ | N36: =P36+P37 -> 0 | O36: （ | P36: 0 | Q36: － | R36: 0 | S36: ） | T36: =R36+R37 -> 0 | U36: =AD7 -> 那須野ヶ原ＦＣボンジボーラ ブルー | AC36: ( | AD36: 3 | AE36: ・ | AF36: 4 | AG36: )
P37: 0 | Q37: － | R37: 0
B38: Ｂ | C38: ⑥ | D38: 0.62152778 | G38: =V7 -> おおぞらＳＣ | N38: =P38+P39 -> 0 | O38: （ | P38: 0 | Q38: － | R38: 0 | S38: ） | T38: =R38+R39 -> 0 | U38: =Z7 -> ＮＩＫＫＯ ＳＰＯＲＴＳ ＣＬＵＢ | AC38: ( | AD38: 1 | AE38: ・ | AF38: 2 | AG38: )
P39: 0 | Q39: － | R39: 0
B41: =I3 &"リーグ" -> Oリーグ | F41: =B43 -> クレアＦＣアルドーレ | H41: =B45 -> Ｆ．Ｃ．栃木ジュニア | J41: =B47 -> 富士見サッカースポーツ少年団 | L41: =B49 -> フットボールクラブ氏家 | N41: 勝点 | O41: 得失点 | P41: 順位 | R41: =X3 &"リーグ" -> OOリーグ | V41: =R7 -> 石橋ＦＣ | X41: =V7 -> おおぞらＳＣ | Z41: =Z7 -> ＮＩＫＫＯ ＳＰＯＲＴＳ ＣＬＵＢ | AB41: =AD7 -> 那須野ヶ原ＦＣボンジボーラ ブルー | AD41: 勝点 | AE41: 得失点 | AF41: 順位
B43: =C7 -> クレアＦＣアルドーレ | H43: =N16 -> 0 | I43: =T16 -> 0 | J43: =N24 -> 0 | K43: =T24 -> 0 | L43: =N32 -> 0 | M43: =T32 -> 0 | N43: =COUNTIF(F44:M44,"○")*3+COUNTIF(F44:M44,"△") -> 3 | O43: =H43-I43+J43-K43+L43-M43 -> 0 | R43: =R7 -> 石橋ＦＣ | X43: =N20 -> 0 | Y43: =T20 -> 0 | Z43: =N28 -> 0 | AA43: =T28 -> 0 | AB43: =N36 -> 0 | AC43: =T36 -> 0 | AD43: =COUNTIF(V44:AC44,"○")*3+COUNTIF(V44:AC44,"△") -> 3 | AE43: =X43-Y43+Z43-AA43+AB43-AC43 -> 0
H44: =IF(H43>I43,"○",IF(H43<I43,"×",IF(H43=I43,"△"))) -> △ | J44: =IF(J43>K43,"○",IF(J43<K43,"×",IF(J43=K43,"△"))) -> △ | L44: =IF(L43>M43,"○",IF(L43<M43,"×",IF(L43=M43,"△"))) -> △ | X44: =IF(X43>Y43,"○",IF(X43<Y43,"×",IF(X43=Y43,"△"))) -> △ | Z44: =IF(Z43>AA43,"○",IF(Z43<AA43,"×",IF(Z43=AA43,"△"))) -> △ | AB44: =IF(AB43>AC43,"○",IF(AB43<AC43,"×",IF(AB43=AC43,"△"))) -> △
B45: =G7 -> Ｆ．Ｃ．栃木ジュニア | F45: =I43 -> 0 | G45: =H43 -> 0 | J45: =N34 -> 0 | K45: =T34 -> 0 | L45: =N26 -> 0 | M45: =T26 -> 0 | N45: =COUNTIF(F46:M46,"○")*3+COUNTIF(F46:M46,"△") -> 3 | O45: =F45-G45+J45-K45+L45-M45 -> 0 | R45: =V7 -> おおぞらＳＣ | V45: =Y43 -> 0 | W45: =X43 -> 0 | Z45: =N38 -> 0 | AA45: =T38 -> 0 | AB45: =N30 -> 0 | AC45: =T30 -> 0 | AD45: =COUNTIF(V46:AC46,"○")*3+COUNTIF(V46:AC46,"△") -> 3 | AE45: =V45-W45+Z45-AA45+AB45-AC45 -> 0
F46: =IF(F45>G45,"○",IF(F45<G45,"×",IF(F45=G45,"△"))) -> △ | J46: =IF(J45>K45,"○",IF(J45<K45,"×",IF(J45=K45,"△"))) -> △ | L46: =IF(L45>M45,"○",IF(L45<M45,"×",IF(L45=M45,"△"))) -> △ | V46: =IF(V45>W45,"○",IF(V45<W45,"×",IF(V45=W45,"△"))) -> △ | Z46: =IF(Z45>AA45,"○",IF(Z45<AA45,"×",IF(Z45=AA45,"△"))) -> △ | AB46: =IF(AB45>AC45,"○",IF(AB45<AC45,"×",IF(AB45=AC45,"△"))) -> △
B47: =K7 -> 富士見サッカースポーツ少年団 | F47: =K43 -> 0 | G47: =J43 -> 0 | H47: =K45 -> 0 | I47: =J45 -> 0 | L47: =N18 -> 0 | M47: =T18 -> 0 | N47: =COUNTIF(F48:M48,"○")*3+COUNTIF(F48:M48,"△") -> 3 | O47: =F47-G47+H47-I47+L47-M47 -> 0 | R47: =Z7 -> ＮＩＫＫＯ ＳＰＯＲＴＳ ＣＬＵＢ | V47: =AA43 -> 0 | W47: =Z43 -> 0 | X47: =AA45 -> 0 | Y47: =Z45 -> 0 | AB47: =N22 -> 0 | AC47: =T22 -> 0 | AD47: =COUNTIF(V48:AC48,"○")*3+COUNTIF(V48:AC48,"△") -> 3 | AE47: =V47-W47+X47-Y47+AB47-AC47 -> 0
F48: =IF(F47>G47,"○",IF(F47<G47,"×",IF(F47=G47,"△"))) -> △ | H48: =IF(H47>I47,"○",IF(H47<I47,"×",IF(H47=I47,"△"))) -> △ | L48: =IF(L47>M47,"○",IF(L47<M47,"×",IF(L47=M47,"△"))) -> △ | V48: =IF(V47>W47,"○",IF(V47<W47,"×",IF(V47=W47,"△"))) -> △ | X48: =IF(X47>Y47,"○",IF(X47<Y47,"×",IF(X47=Y47,"△"))) -> △ | AB48: =IF(AB47>AC47,"○",IF(AB47<AC47,"×",IF(AB47=AC47,"△"))) -> △
B49: =O7 -> フットボールクラブ氏家 | F49: =M43 -> 0 | G49: =L43 -> 0 | H49: =M45 -> 0 | I49: =L45 -> 0 | J49: =M47 -> 0 | K49: =L47 -> 0 | N49: =COUNTIF(F50:M50,"○")*3+COUNTIF(F50:M50,"△") -> 3 | O49: =F49-G49+H49-I49+J49-K49 -> 0 | R49: =AD7 -> 那須野ヶ原ＦＣボンジボーラ ブルー | V49: =AC43 -> 0 | W49: =AB43 -> 0 | X49: =AC45 -> 0 | Y49: =AB45 -> 0 | Z49: =AC47 -> 0 | AA49: =AB47 -> 0 | AD49: =COUNTIF(V50:AC50,"○")*3+COUNTIF(V50:AC50,"△") -> 3 | AE49: =V49-W49+X49-Y49+Z49-AA49 -> 0
F50: =IF(F49>G49,"○",IF(F49<G49,"×",IF(F49=G49,"△"))) -> △ | H50: =IF(H49>I49,"○",IF(H49<I49,"×",IF(H49=I49,"△"))) -> △ | J50: =IF(J49>K49,"○",IF(J49<K49,"×",IF(J49=K49,"△"))) -> △ | V50: =IF(V49>W49,"○",IF(V49<W49,"×",IF(V49=W49,"△"))) -> △ | X50: =IF(X49>Y49,"○",IF(X49<Y49,"×",IF(X49=Y49,"△"))) -> △ | Z50: =IF(Z49>AA49,"○",IF(Z49<AA49,"×",IF(Z49=AA49,"△"))) -> △
A52: =A1 -> ■第1日 10月12日 | I52: =I1 -> １次ラウンド | T52: 第16会場 | X52: =U10組合せ!AH8 -> 真岡市鬼怒自然公園サッカー場AB
J54: P | W54: PP
F57: 1 | J57: 2 | N57: 3 | S57: 4 | W57: 5 | AA57: 6
F58: =U10組合せ!AF21 -> 佐野ＳＳＳヴィラ | J58: =U10組合せ!AF19 -> ＩＳＯＳＯＣＣＥＲＣＬＵＢ | N58: =U10組合せ!AF17 -> ＫＯＨＡＲＵ ＰＲＯＵＤ栃木フットボールクラブ | S58: =U10組合せ!AF13 -> ＭＯＲＡＮＧＯ栃木フットボールクラブＵ１２ | W58: =U10組合せ!AF11 -> ＦＣ真岡２１ファンタジー | AA58: =U10組合せ!AF9 -> 本郷北フットボールクラブ
AD66: 主 | AE66: ・ | AF66: 補
B67: ① | C67: 0.5 | G67: =F58 -> 佐野ＳＳＳヴィラ | N67: =P67+P68 -> 0 | O67: （ | P67: 0 | Q67: － | R67: 0 | S67: ） | T67: =R67+R68 -> 0 | U67: =J58 -> ＩＳＯＳＯＣＣＥＲＣＬＵＢ | AC67: ( | AD67: 6 | AE67: ・ | AF67: 4 | AG67: )
P68: 0 | Q68: － | R68: 0
B70: ② | C70: 0.52430556 | G70: =S58 -> ＭＯＲＡＮＧＯ栃木フットボールクラブＵ１２ | N70: =P70+P71 -> 0 | O70: （ | P70: 0 | Q70: － | R70: 0 | S70: ） | T70: =R70+R71 -> 0 | U70: =W58 -> ＦＣ真岡２１ファンタジー | AC70: ( | AD70: 2 | AE70: ・ | AF70: 1 | AG70: )
P71: 0 | Q71: － | R71: 0
B73: ③ | C73: 0.54861111 | G73: =F58 -> 佐野ＳＳＳヴィラ | N73: =P73+P74 -> 0 | O73: （ | P73: 0 | Q73: － | R73: 0 | S73: ） | T73: =R73+R74 -> 0 | U73: =N58 -> ＫＯＨＡＲＵ ＰＲＯＵＤ栃木フットボールクラブ | AC73: ( | AD73: 5 | AE73: ・ | AF73: 6 | AG73: )
P74: 0 | Q74: － | R74: 0
B76: ④ | C76: 0.57291667 | G76: =S58 -> ＭＯＲＡＮＧＯ栃木フットボールクラブＵ１２ | N76: =P76+P77 -> 0 | O76: （ | P76: 0 | Q76: － | R76: 0 | S76: ） | T76: =R76+R77 -> 0 | U76: =AA58 -> 本郷北フットボールクラブ | AC76: ( | AD76: 1 | AE76: ・ | AF76: 3 | AG76: )
P77: 0 | Q77: － | R77: 0
B79: ⑤ | C79: 0.59722222 | G79: =J58 -> ＩＳＯＳＯＣＣＥＲＣＬＵＢ | N79: =P79+P80 -> 0 | O79: （ | P79: 0 | Q79: － | R79: 0 | S79: ） | T79: =R79+R80 -> 0 | U79: =N58 -> ＫＯＨＡＲＵ ＰＲＯＵＤ栃木フットボールクラブ | AC79: ( | AD79: 4 | AE79: ・ | AF79: 5 | AG79: )
P80: 0 | Q80: － | R80: 0
B82: ⑥ | C82: 0.62152778 | G82: =W58 -> ＦＣ真岡２１ファンタジー | N82: =P82+P83 -> 0 | O82: （ | P82: 0 | Q82: － | R82: 0 | S82: ） | T82: =R82+R83 -> 0 | U82: =AA58 -> 本郷北フットボールクラブ | AC82: ( | AD82: 3 | AE82: ・ | AF82: 2 | AG82: )
P83: 0 | Q83: － | R83: 0
C85: =J54 &"リーグ" -> Pリーグ | G85: =C87 -> 佐野ＳＳＳヴィラ | I85: =C89 -> ＩＳＯＳＯＣＣＥＲＣＬＵＢ | K85: =C91 -> ＫＯＨＡＲＵ ＰＲＯＵＤ栃木フットボールクラブ | M85: 勝点 | N85: 得失点 | O85: 総得点 | P85: 順位 | R85: =W54 &"リーグ" -> PPリーグ | V85: =R87 -> ＭＯＲＡＮＧＯ栃木フットボールクラブＵ１２ | X85: =R89 -> ＦＣ真岡２１ファンタジー | Z85: =R91 -> 本郷北フットボールクラブ | AB85: 勝点 | AC85: 得失点 | AD85: 総得点 | AE85: 順位
C87: =F58 -> 佐野ＳＳＳヴィラ | I87: =N67 -> 0 | J87: =T67 -> 0 | K87: =N73 -> 0 | L87: =T73 -> 0 | M87: =COUNTIF(G88:L88,"○")*3+COUNTIF(G88:L88,"△") -> 2 | N87: =O87-J87-L87 -> 0 | O87: =I87+K87 -> 0 | R87: =S58 -> ＭＯＲＡＮＧＯ栃木フットボールクラブＵ１２ | X87: =N70 -> 0 | Y87: =T70 -> 0 | Z87: =N76 -> 0 | AA87: =T76 -> 0 | AB87: =COUNTIF(V88:AA88,"○")*3+COUNTIF(V88:AA88,"△") -> 2 | AC87: =AD87-Y87-AA87 -> 0 | AD87: =X87+Z87 -> 0
I88: =IF(I87>J87,"○",IF(I87<J87,"×",IF(I87=J87,"△"))) -> △ | K88: =IF(K87>L87,"○",IF(K87<L87,"×",IF(K87=L87,"△"))) -> △ | X88: =IF(X87>Y87,"○",IF(X87<Y87,"×",IF(X87=Y87,"△"))) -> △ | Z88: =IF(Z87>AA87,"○",IF(Z87<AA87,"×",IF(Z87=AA87,"△"))) -> △
C89: =J58 -> ＩＳＯＳＯＣＣＥＲＣＬＵＢ | G89: =J87 -> 0 | H89: =I87 -> 0 | K89: =N79 -> 0 | L89: =T79 -> 0 | M89: =COUNTIF(G90:L90,"○")*3+COUNTIF(G90:L90,"△") -> 2 | N89: =O89-H89-L89 -> 0 | O89: =G89+K89 -> 0 | R89: =W58 -> ＦＣ真岡２１ファンタジー | V89: =Y87 -> 0 | W89: =X87 -> 0 | Z89: =N82 -> 0 | AA89: =T82 -> 0 | AB89: =COUNTIF(V90:AA90,"○")*3+COUNTIF(V90:AA90,"△") -> 2 | AC89: =AD89-W89-AA89 -> 0 | AD89: =V89+Z89 -> 0
G90: =IF(G89>H89,"○",IF(G89<H89,"×",IF(G89=H89,"△"))) -> △ | K90: =IF(K89>L89,"○",IF(K89<L89,"×",IF(K89=L89,"△"))) -> △ | V90: =IF(V89>W89,"○",IF(V89<W89,"×",IF(V89=W89,"△"))) -> △ | Z90: =IF(Z89>AA89,"○",IF(Z89<AA89,"×",IF(Z89=AA89,"△"))) -> △
C91: =N58 -> ＫＯＨＡＲＵ ＰＲＯＵＤ栃木フットボールクラブ | G91: =L87 -> 0 | H91: =K87 -> 0 | I91: =L89 -> 0 | J91: =K89 -> 0 | M91: =COUNTIF(G92:L92,"○")*3+COUNTIF(G92:L92,"△") -> 2 | N91: =O91-H91-J91 -> 0 | O91: =G91+I91 -> 0 | R91: =AA58 -> 本郷北フットボールクラブ | V91: =AA87 -> 0 | W91: =Z87 -> 0 | X91: =AA89 -> 0 | Y91: =Z89 -> 0 | AB91: =COUNTIF(V92:AA92,"○")*3+COUNTIF(V92:AA92,"△") -> 2 | AC91: =AD91-W91-Y91 -> 0 | AD91: =V91+X91 -> 0
G92: =IF(G91>H91,"○",IF(G91<H91,"×",IF(G91=H91,"△"))) -> △ | I92: =IF(I91>J91,"○",IF(I91<J91,"×",IF(I91=J91,"△"))) -> △ | V92: =IF(V91>W91,"○",IF(V91<W91,"×",IF(V91=W91,"△"))) -> △ | X92: =IF(X91>Y91,"○",IF(X91<Y91,"×",IF(X91=Y91,"△"))) -> △

Sheet ２日目ab
A1: =U10組合せ!H4 -> ■第2日 10月13日 | M1: 第１会場 | R1: =U10組合せ!J65 -> 真岡ハイトラ運動公園陸上競技場
D2: =U10組合せ!Q4 -> 決勝トーナメント（１・２回戦）
K3: aブロック
F4: A⑤ | T4: A⑥
C6: A① | I6: B① | Q6: A③ | W6: B③
A8: 1 | D8: 2 | G8: 3 | J8: 4 | O8: 5 | R8: 6 | U8: 7 | X8: 8
A9: A1位 | D9: AA１位 | G9: B1位 | J9: BB1位 | O9: C1位 | R9: CC1位 | U9: D1位 | X9: DD1位
K21: bブロック
F22: B⑤ | T22: B⑥
C24: A② | I24: B② | Q24: A④ | W24: B④
A26: 9 | D26: 10 | G26: 11 | J26: 12 | O26: 13 | R26: 14 | U26: 15 | X26: 16
A27: E1位 | D27: EE1位 | G27: F1位 | J27: FF1位 | O27: G1位 | R27: GG1位 | U27: H1位 | X27: HH1位
A39: ＜ピッチ＞ | V39: 主 | X39: ・ | Y39: 補
A40: A | B40: ① | C40: 0.375 | E40: =A9 -> A1位 | J40: =L40+L41 -> 0 | K40: （ | M40: － | O40: ） | P40: =N40+N41 -> 0 | Q40: =D9 -> AA１位 | V40: 審判委員会 | X40: ・ | Y40: 5
M41: －
A43: B | B43: ① | C43: 0.375 | E43: =G9 -> B1位 | J43: =L43+L44 -> 0 | K43: （ | M43: － | O43: ） | P43: =N43+N44 -> 0 | Q43: =J9 -> BB1位 | V43: 審判委員会 | X43: ・ | Y43: 6
M44: －
A46: A | B46: ② | C46: 0.39930556 | E46: =A27 -> E1位 | J46: =L46+L47 -> 0 | K46: （ | M46: － | O46: ） | P46: =N46+N47 -> 0 | Q46: =D27 -> EE1位 | V46: 審判委員会 | X46: ・ | Y46: 13
M47: －
A49: B | B49: ② | C49: 0.39930556 | E49: =G27 -> F1位 | J49: =L49+L50 -> 0 | K49: （ | M49: － | O49: ） | P49: =N49+N50 -> 0 | Q49: =J27 -> FF1位 | V49: 審判委員会 | X49: ・ | Y49: 14
M50: －
A52: A | B52: ③ | C52: 0.42361111 | E52: =O9 -> C1位 | J52: =L52+L53 -> 0 | K52: （ | M52: － | O52: ） | P52: =N52+N53 -> 0 | Q52: =R9 -> CC1位 | V52: 審判委員会 | X52: ・ | Y52: 1
M53: －
A55: B | B55: ③ | C55: 0.42361111 | E55: =U9 -> D1位 | J55: =L55+L56 -> 0 | K55: （ | M55: － | O55: ） | P55: =N55+N56 -> 0 | Q55: =X9 -> DD1位 | V55: 審判委員会 | X55: ・ | Y55: 2
M56: －
A58: A | B58: ④ | C58: 0.44791667 | E58: =O27 -> G1位 | J58: =L58+L59 -> 0 | K58: （ | M58: － | O58: ） | P58: =N58+N59 -> 0 | Q58: =R27 -> GG1位 | V58: 審判委員会 | X58: ・ | Y58: 9
M59: －
A61: B | B61: ④ | C61: 0.44791667 | E61: =U27 -> H1位 | J61: =L61+L62 -> 0 | K61: （ | M61: － | O61: ） | P61: =N61+N62 -> 0 | Q61: =X27 -> HH1位 | V61: 審判委員会 | X61: ・ | Y61: 10
M62: －
A64: A | B64: ⑤ | C64: 0.47222222 | E64: A①勝 | J64: =L64+L65 -> 0 | K64: （ | M64: － | O64: ） | P64: =N64+N65 -> 0 | Q64: B①勝 | V64: 審判委員会 | X64: ・ | Y64: 7
M65: －
A67: B | B67: ⑤ | C67: 0.47222222 | E67: A②勝 | J67: =L67+L68 -> 0 | K67: （ | M67: － | O67: ） | P67: =N67+N68 -> 0 | Q67: B②勝 | V67: 審判委員会 | X67: ・ | Y67: 15
M68: －
A70: A | B70: ⑥ | C70: 0.49652778 | E70: A③勝 | J70: =L70+L71 -> 0 | K70: （ | M70: － | O70: ） | P70: =N70+N71 -> 0 | Q70: B③勝 | V70: 審判委員会 | X70: ・ | Y70: 3
M71: －
A73: B | B73: ⑥ | C73: 0.49652778 | E73: A④勝 | J73: =L73+L74 -> 0 | K73: （ | M73: － | O73: ） | P73: =N73+N74 -> 0 | Q73: B④勝 | V73: 審判委員会 | X73: ・ | Y73: 11
M74: －

Sheet ２日目cd
A1: =U10組合せ!H4 -> ■第2日 10月13日 | M1: 第2会場 | R1: =U10組合せ!Y65 -> 真岡ハイトラ運動公園運動広場１
D2: =U10組合せ!Q4 -> 決勝トーナメント（１・２回戦）
K3: cブロック
F4: A⑤ | T4: A⑥
C6: A① | I6: B① | Q6: A③ | W6: B③
A8: 1 | D8: 2 | G8: 3 | J8: 4 | O8: 5 | R8: 6 | U8: 7 | X8: 8
A9: I1位 | D9: II1位 | G9: J1位 | J9: JJ1位 | O9: K1位 | R9: KK1位 | U9: L1位 | X9: LL1位
K21: dブロック
F22: B⑤ | T22: B⑥
C24: A② | I24: B② | Q24: A④ | W24: B④
A26: 9 | D26: 10 | G26: 11 | J26: 12 | O26: 13 | R26: 14 | U26: 15 | X26: 16
A27: M1位 | D27: MM1位 | G27: N1位 | J27: NN1位 | O27: O1位 | R27: OO1位 | U27: P1位 | X27: PP1位
A39: ＜ピッチ＞ | V39: 主 | X39: ・ | Y39: 補
A40: A | B40: ① | C40: 0.375 | E40: =A9 -> I1位 | J40: =L40+L41 -> 0 | K40: （ | M40: － | O40: ） | P40: =N40+N41 -> 0 | Q40: =D9 -> II1位 | V40: 審判委員会 | X40: ・ | Y40: 5
M41: －
A43: B | B43: ① | C43: 0.375 | E43: =G9 -> J1位 | J43: =L43+L44 -> 0 | K43: （ | M43: － | O43: ） | P43: =N43+N44 -> 0 | Q43: =J9 -> JJ1位 | V43: 審判委員会 | X43: ・ | Y43: 6
M44: －
A46: A | B46: ② | C46: 0.39930556 | E46: =A27 -> M1位 | J46: =L46+L47 -> 0 | K46: （ | M46: － | O46: ） | P46: =N46+N47 -> 0 | Q46: =D27 -> MM1位 | V46: 審判委員会 | X46: ・ | Y46: 13
M47: －
A49: B | B49: ② | C49: 0.39930556 | E49: =G27 -> N1位 | J49: =L49+L50 -> 0 | K49: （ | M49: － | O49: ） | P49: =N49+N50 -> 0 | Q49: =J27 -> NN1位 | V49: 審判委員会 | X49: ・ | Y49: 14
M50: －
A52: A | B52: ③ | C52: 0.42361111 | E52: =O9 -> K1位 | J52: =L52+L53 -> 0 | K52: （ | M52: － | O52: ） | P52: =N52+N53 -> 0 | Q52: =R9 -> KK1位 | V52: 審判委員会 | X52: ・ | Y52: 1
M53: －
A55: B | B55: ③ | C55: 0.42361111 | E55: =U9 -> L1位 | J55: =L55+L56 -> 0 | K55: （ | M55: － | O55: ） | P55: =N55+N56 -> 0 | Q55: =X9 -> LL1位 | V55: 審判委員会 | X55: ・ | Y55: 2
M56: －
A58: A | B58: ④ | C58: 0.44791667 | E58: =O27 -> O1位 | J58: =L58+L59 -> 0 | K58: （ | M58: － | O58: ） | P58: =N58+N59 -> 0 | Q58: =R27 -> OO1位 | V58: 審判委員会 | X58: ・ | Y58: 9
M59: －
A61: B | B61: ④ | C61: 0.44791667 | E61: =U27 -> P1位 | J61: =L61+L62 -> 0 | K61: （ | M61: － | O61: ） | P61: =N61+N62 -> 0 | Q61: =X27 -> PP1位 | V61: 審判委員会 | X61: ・ | Y61: 10
M62: －
A64: A | B64: ⑤ | C64: 0.47222222 | E64: A①勝 | J64: =L64+L65 -> 0 | K64: （ | M64: － | O64: ） | P64: =N64+N65 -> 0 | Q64: B①勝 | V64: 審判委員会 | X64: ・ | Y64: 7
M65: －
A67: B | B67: ⑤ | C67: 0.47222222 | E67: A②勝 | J67: =L67+L68 -> 0 | K67: （ | M67: － | O67: ） | P67: =N67+N68 -> 0 | Q67: B②勝 | V67: 審判委員会 | X67: ・ | Y67: 15
M68: －
A70: A | B70: ⑥ | C70: 0.49652778 | E70: A③勝 | J70: =L70+L71 -> 0 | K70: （ | M70: － | O70: ） | P70: =N70+N71 -> 0 | Q70: B③勝 | V70: 審判委員会 | X70: ・ | Y70: 3
M71: －
A73: B | B73: ⑥ | C73: 0.49652778 | E73: A④勝 | J73: =L73+L74 -> 0 | K73: （ | M73: － | O73: ） | P73: =N73+N74 -> 0 | Q73: B④勝 | V73: 審判委員会 | X73: ・ | Y73: 11
M74: －

Sheet 準々決勝・準決勝・決勝
A1: =U10組合せ!H5 -> ■第3日 10月19日 | O1: 会場 | R1: =U10組合せ!Q73 -> 真岡ハイトラ運動公園運動広場1
C2: =U10組合せ!Q5 -> 決勝トーナメント（準々決勝・準決勝・決勝）
M4: A④
G5: A③ | T5: B③
D6: A① | J6: B① | Q6: A② | W6: B②
C7: a | I7: b | P7: c | V7: d
B8: 1 | E8: 2 | H8: 3 | K8: 4 | O8: 5 | R8: 6 | U8: 7 | X8: 8
B9: 1 | E9: 2 | H9: 3 | K9: 4 | O9: 5 | R9: 6 | U9: 7 | X9: 8
A18: 準々決勝 | V18: 主 ・ 補
A19: A① | C19: 0.375 | E19: =B9 -> 1 | J19: =L19+L20 -> 0 | K19: （ | L19: 0 | M19: ー | N19: 0 | O19: ） | P19: =N19+N20 -> 0 | Q19: =E9 -> 2 | V19: 審判委員会
L20: 0 | M20: ー | N20: 0
A22: B① | C22: 0.375 | E22: =H9 -> 3 | J22: =L22+L23 -> 0 | K22: （ | L22: 0 | M22: ー | N22: 0 | O22: ） | P22: =N22+N23 -> 0 | Q22: =K9 -> 4 | V22: 審判委員会
L23: 0 | M23: ー | N23: 0
A25: A② | C25: 0.39930556 | E25: =O9 -> 5 | J25: =L25+L26 -> 0 | K25: （ | L25: 0 | M25: ー | N25: 0 | O25: ） | P25: =N25+N26 -> 0 | Q25: =R9 -> 6 | V25: 審判委員会
L26: 0 | M26: ー | N26: 0
A28: B② | C28: 0.39930556 | E28: =U9 -> 7 | J28: =L28+L29 -> 0 | K28: （ | L28: 0 | M28: ー | N28: 0 | O28: ） | P28: =N28+N29 -> 0 | Q28: =X9 -> 8 | V28: 審判委員会
L29: 0 | M29: ー | N29: 0
A31: 準決勝
A32: A③ | C32: 0.44791667 | E32: A①勝 | J32: =L32+L33 -> 0 | K32: （ | L32: 0 | M32: ー | N32: 0 | O32: ） | P32: =N32+N33 -> 0 | Q32: B①勝 | V32: 審判委員会
L33: 0 | M33: ー | N33: 0
A35: B③ | C35: 0.44791667 | E35: A②勝 | J35: =L35+L36 -> 0 | K35: （ | L35: 0 | M35: ー | N35: 0 | O35: ） | P35: =N35+N36 -> 0 | Q35: B②勝 | V35: 審判委員会
L36: 0 | M36: ー | N36: 0
A38: 決勝
A39: A④ | C39: 0.49652778 | E39: A③勝 | J39: =L39+L40 -> 0 | K39: （ | L39: 0 | M39: ー | N39: 0 | O39: ） | P39: =N39+N40 -> 0 | Q39: B③勝 | V39: 審判委員会
L40: 0 | M40: ー | N40: 0
A42: ■成 績
B44: 優 勝 | O44: 敢闘賞
B46: 準優勝 | O46: 敢闘賞
B48: 第３位 | O48: 敢闘賞
B50: 第３位 | O50: 敢闘賞

Sheet 8×7
A1: =U10組合せ!H3 -> ■第1日 10月12日 | I1: =U10組合せ!Q3 -> １次ラウンド | T1: 第1会場 | X1: =U10組合せ!A8 -> 真岡ハイトラ運動公園陸上競技場
I3: A | X3: AA
C6: 1 | G6: 2 | K6: 3 | O6: 4 | R6: 5 | V6: 6 | Z6: 7 | AD6: 8
C7: =U10組合せ!C8 -> ＴＥＡＭ リフレＳＣ | G7: =U10組合せ!C10 -> 大田原城山サッカークラブ | K7: =U10組合せ!C12 -> 足利サッカークラブジュニア | O7: =U10組合せ!C14 -> ＦＣプリメーロ | R7: =U10組合せ!C16 -> ＦＣ中村Ｕ－１０ | V7: =U10組合せ!C18 -> Ｓ４ スペランツァ | Z7: =U10組合せ!C20 -> さくらボン・ディ・ボーラ | AD7: =U10組合せ!C22 -> 藤原ＦＣ
B15: ピッチ | AD15: 主 | AE15: ・ | AF15: 補
B16: Ａ | C16: ① | D16: 0.5 | G16: =C7 -> ＴＥＡＭ リフレＳＣ | N16: =P16+P17 -> 0 | O16: （ | P16: 0 | Q16: － | R16: 0 | S16: ） | T16: =R16+R17 -> 0 | U16: =G7 -> 大田原城山サッカークラブ | AC16: ( | AD16: 5 | AE16: ・ | AF16: 6 | AG16: )
P17: 0 | Q17: － | R17: 0
B18: Ｂ | C18: ① | D18: 0.5 | G18: =K7 -> 足利サッカークラブジュニア | N18: =P18+P19 -> 0 | O18: （ | P18: 0 | Q18: － | R18: 0 | S18: ） | T18: =R18+R19 -> 0 | U18: =O7 -> ＦＣプリメーロ | AC18: ( | AD18: 7 | AE18: ・ | AF18: 8 | AG18: )
P19: 0 | Q19: － | R19: 0
B20: Ａ | C20: ② | D20: 0.52430556 | G20: =R7 -> ＦＣ中村Ｕ－１０ | N20: =P20+P21 -> 0 | O20: （ | P20: 0 | Q20: － | R20: 0 | S20: ） | T20: =R20+R21 -> 0 | U20: =V7 -> Ｓ４ スペランツァ | AC20: ( | AD20: 1 | AE20: ・ | AF20: 2 | AG20: )
P21: 0 | Q21: － | R21: 0
B22: Ｂ | C22: ② | D22: 0.52430556 | G22: =Z7 -> さくらボン・ディ・ボーラ | N22: =P22+P23 -> 0 | O22: （ | P22: 0 | Q22: － | R22: 0 | S22: ） | T22: =R22+R23 -> 0 | U22: =AD7 -> 藤原ＦＣ | AC22: ( | AD22: 3 | AE22: ・ | AF22: 4 | AG22: )
P23: 0 | Q23: － | R23: 0
B24: Ａ | C24: ③ | D24: 0.54861111 | G24: =C7 -> ＴＥＡＭ リフレＳＣ | N24: =P24+P25 -> 0 | O24: （ | P24: 0 | Q24: － | R24: 0 | S24: ） | T24: =R24+R25 -> 0 | U24: =K7 -> 足利サッカークラブジュニア | AC24: ( | AD24: 6 | AE24: ・ | AF24: 7 | AG24: )
P25: 0 | Q25: － | R25: 0
B26: Ｂ | C26: ③ | D26: 0.54861111 | G26: =G7 -> 大田原城山サッカークラブ | N26: =P26+P27 -> 0 | O26: （ | P26: 0 | Q26: － | R26: 0 | S26: ） | T26: =R26+R27 -> 0 | U26: =O7 -> ＦＣプリメーロ | AC26: ( | AD26: 8 | AE26: ・ | AF26: 5 | AG26: )
P27: 0 | Q27: － | R27: 0
B28: Ａ | C28: ④ | D28: 0.57291667 | G28: =R7 -> ＦＣ中村Ｕ－１０ | N28: =P28+P29 -> 0 | O28: （ | P28: 0 | Q28: － | R28: 0 | S28: ） | T28: =R28+R29 -> 0 | U28: =Z7 -> さくらボン・ディ・ボーラ | AC28: ( | AD28: 2 | AE28: ・ | AF28: 3 | AG28: )
P29: 0 | Q29: － | R29: 0
B30: Ｂ | C30: ④ | D30: 0.57291667 | G30: =V7 -> Ｓ４ スペランツァ | N30: =P30+P31 -> 0 | O30: （ | P30: 0 | Q30: － | R30: 0 | S30: ） | T30: =R30+R31 -> 0 | U30: =AD7 -> 藤原ＦＣ | AC30: ( | AD30: 4 | AE30: ・ | AF30: 1 | AG30: )
P31: 0 | Q31: － | R31: 0
B32: Ａ | C32: ⑤ | D32: 0.59722222 | G32: =C7 -> ＴＥＡＭ リフレＳＣ | N32: =P32+P33 -> 0 | O32: （ | P32: 0 | Q32: － | R32: 0 | S32: ） | T32: =R32+R33 -> 0 | U32: =O7 -> ＦＣプリメーロ | AC32: ( | AD32: 7 | AE32: ・ | AF32: 8 | AG32: )
P33: 0 | Q33: － | R33: 0
B34: Ｂ | C34: ⑤ | D34: 0.59722222 | G34: =G7 -> 大田原城山サッカークラブ | N34: =P34+P35 -> 0 | O34: （ | P34: 0 | Q34: － | R34: 0 | S34: ） | T34: =R34+R35 -> 0 | U34: =K7 -> 足利サッカークラブジュニア | AC34: ( | AD34: 5 | AE34: ・ | AF34: 6 | AG34: )
P35: 0 | Q35: － | R35: 0
B36: Ａ | C36: ⑥ | D36: 0.62152778 | G36: =R7 -> ＦＣ中村Ｕ－１０ | N36: =P36+P37 -> 0 | O36: （ | P36: 0 | Q36: － | R36: 0 | S36: ） | T36: =R36+R37 -> 0 | U36: =AD7 -> 藤原ＦＣ | AC36: ( | AD36: 3 | AE36: ・ | AF36: 4 | AG36: )
P37: 0 | Q37: － | R37: 0
B38: Ｂ | C38: ⑥ | D38: 0.62152778 | G38: =V7 -> Ｓ４ スペランツァ | N38: =P38+P39 -> 0 | O38: （ | P38: 0 | Q38: － | R38: 0 | S38: ） | T38: =R38+R39 -> 0 | U38: =Z7 -> さくらボン・ディ・ボーラ | AC38: ( | AD38: 1 | AE38: ・ | AF38: 2 | AG38: )
P39: 0 | Q39: － | R39: 0
B41: =I3 &"リーグ" -> Aリーグ | F41: =B43 -> ＴＥＡＭ リフレＳＣ | H41: =B45 -> 大田原城山サッカークラブ | J41: =B47 -> 足利サッカークラブジュニア | L41: =B49 -> ＦＣプリメーロ | N41: 勝点 | O41: 得失点 | P41: 順位 | R41: =X3 &"リーグ" -> AAリーグ | V41: =R7 -> ＦＣ中村Ｕ－１０ | X41: =V7 -> Ｓ４ スペランツァ | Z41: =Z7 -> さくらボン・ディ・ボーラ | AB41: =AD7 -> 藤原ＦＣ | AD41: 勝点 | AE41: 得失点 | AF41: 順位
B43: =C7 -> ＴＥＡＭ リフレＳＣ | H43: =N16 -> 0 | I43: =T16 -> 0 | J43: =N24 -> 0 | K43: =T24 -> 0 | L43: =N32 -> 0 | M43: =T32 -> 0 | N43: =COUNTIF(F44:M44,"○")*3+COUNTIF(F44:M44,"△") -> 3 | O43: =H43-I43+J43-K43+L43-M43 -> 0 | R43: =R7 -> ＦＣ中村Ｕ－１０ | X43: =N20 -> 0 | Y43: =T20 -> 0 | Z43: =N28 -> 0 | AA43: =T28 -> 0 | AB43: =N36 -> 0 | AC43: =T36 -> 0 | AD43: =COUNTIF(V44:AC44,"○")*3+COUNTIF(V44:AC44,"△") -> 3 | AE43: =X43-Y43+Z43-AA43+AB43-AC43 -> 0
H44: =IF(H43>I43,"○",IF(H43<I43,"×",IF(H43=I43,"△"))) -> △ | J44: =IF(J43>K43,"○",IF(J43<K43,"×",IF(J43=K43,"△"))) -> △ | L44: =IF(L43>M43,"○",IF(L43<M43,"×",IF(L43=M43,"△"))) -> △ | X44: =IF(X43>Y43,"○",IF(X43<Y43,"×",IF(X43=Y43,"△"))) -> △ | Z44: =IF(Z43>AA43,"○",IF(Z43<AA43,"×",IF(Z43=AA43,"△"))) -> △ | AB44: =IF(AB43>AC43,"○",IF(AB43<AC43,"×",IF(AB43=AC43,"△"))) -> △
B45: =G7 -> 大田原城山サッカークラブ | F45: =I43 -> 0 | G45: =H43 -> 0 | J45: =N34 -> 0 | K45: =T34 -> 0 | L45: =N26 -> 0 | M45: =T26 -> 0 | N45: =COUNTIF(F46:M46,"○")*3+COUNTIF(F46:M46,"△") -> 3 | O45: =F45-G45+J45-K45+L45-M45 -> 0 | R45: =V7 -> Ｓ４ スペランツァ | V45: =Y43 -> 0 | W45: =X43 -> 0 | Z45: =N38 -> 0 | AA45: =T38 -> 0 | AB45: =N30 -> 0 | AC45: =T30 -> 0 | AD45: =COUNTIF(V46:AC46,"○")*3+COUNTIF(V46:AC46,"△") -> 3 | AE45: =V45-W45+Z45-AA45+AB45-AC45 -> 0
F46: =IF(F45>G45,"○",IF(F45<G45,"×",IF(F45=G45,"△"))) -> △ | J46: =IF(J45>K45,"○",IF(J45<K45,"×",IF(J45=K45,"△"))) -> △ | L46: =IF(L45>M45,"○",IF(L45<M45,"×",IF(L45=M45,"△"))) -> △ | V46: =IF(V45>W45,"○",IF(V45<W45,"×",IF(V45=W45,"△"))) -> △ | Z46: =IF(Z45>AA45,"○",IF(Z45<AA45,"×",IF(Z45=AA45,"△"))) -> △ | AB46: =IF(AB45>AC45,"○",IF(AB45<AC45,"×",IF(AB45=AC45,"△"))) -> △
B47: =K7 -> 足利サッカークラブジュニア | F47: =K43 -> 0 | G47: =J43 -> 0 | H47: =K45 -> 0 | I47: =J45 -> 0 | L47: =N18 -> 0 | M47: =T18 -> 0 | N47: =COUNTIF(F48:M48,"○")*3+COUNTIF(F48:M48,"△") -> 3 | O47: =F47-G47+H47-I47+L47-M47 -> 0 | R47: =Z7 -> さくらボン・ディ・ボーラ | V47: =AA43 -> 0 | W47: =Z43 -> 0 | X47: =AA45 -> 0 | Y47: =Z45 -> 0 | AB47: =N22 -> 0 | AC47: =T22 -> 0 | AD47: =COUNTIF(V48:AC48,"○")*3+COUNTIF(V48:AC48,"△") -> 3 | AE47: =V47-W47+X47-Y47+AB47-AC47 -> 0
F48: =IF(F47>G47,"○",IF(F47<G47,"×",IF(F47=G47,"△"))) -> △ | H48: =IF(H47>I47,"○",IF(H47<I47,"×",IF(H47=I47,"△"))) -> △ | L48: =IF(L47>M47,"○",IF(L47<M47,"×",IF(L47=M47,"△"))) -> △ | V48: =IF(V47>W47,"○",IF(V47<W47,"×",IF(V47=W47,"△"))) -> △ | X48: =IF(X47>Y47,"○",IF(X47<Y47,"×",IF(X47=Y47,"△"))) -> △ | AB48: =IF(AB47>AC47,"○",IF(AB47<AC47,"×",IF(AB47=AC47,"△"))) -> △
B49: =O7 -> ＦＣプリメーロ | F49: =M43 -> 0 | G49: =L43 -> 0 | H49: =M45 -> 0 | I49: =L45 -> 0 | J49: =M47 -> 0 | K49: =L47 -> 0 | N49: =COUNTIF(F50:M50,"○")*3+COUNTIF(F50:M50,"△") -> 3 | O49: =F49-G49+H49-I49+J49-K49 -> 0 | R49: =AD7 -> 藤原ＦＣ | V49: =AC43 -> 0 | W49: =AB43 -> 0 | X49: =AC45 -> 0 | Y49: =AB45 -> 0 | Z49: =AC47 -> 0 | AA49: =AB47 -> 0 | AD49: =COUNTIF(V50:AC50,"○")*3+COUNTIF(V50:AC50,"△") -> 3 | AE49: =V49-W49+X49-Y49+Z49-AA49 -> 0
F50: =IF(F49>G49,"○",IF(F49<G49,"×",IF(F49=G49,"△"))) -> △ | H50: =IF(H49>I49,"○",IF(H49<I49,"×",IF(H49=I49,"△"))) -> △ | J50: =IF(J49>K49,"○",IF(J49<K49,"×",IF(J49=K49,"△"))) -> △ | V50: =IF(V49>W49,"○",IF(V49<W49,"×",IF(V49=W49,"△"))) -> △ | X50: =IF(X49>Y49,"○",IF(X49<Y49,"×",IF(X49=Y49,"△"))) -> △ | Z50: =IF(Z49>AA49,"○",IF(Z49<AA49,"×",IF(Z49=AA49,"△"))) -> △
A52: =A1 -> ■第1日 10月12日 | I52: =I1 -> １次ラウンド | T52: 第会場
I54: B | V54: BB
C57: 1 | G57: 2 | K57: 3 | O57: 4 | R57: 5 | V57: 6 | Z57: 7
C58: 1 | G58: 2 | K58: 3 | O58: 4 | R58: 5 | V58: 6 | Z58: 7
B66: ピッチ | AD66: 主 | AE66: ・ | AF66: 補
B67: Ａ | C67: ① | D67: 0.5 | G67: =C58 -> 1 | N67: =P67+P68 -> 0 | O67: （ | P67: 0 | Q67: － | R67: 0 | S67: ） | T67: =R67+R68 -> 0 | U67: =G58 -> 2 | AC67: ( | AD67: 5 | AE67: ・ | AF67: 6 | AG67: )
P68: 0 | Q68: － | R68: 0
B69: Ｂ | C69: ① | D69: 0.5 | G69: =K58 -> 3 | N69: =P69+P70 -> 0 | O69: （ | P69: 0 | Q69: － | R69: 0 | S69: ） | T69: =R69+R70 -> 0 | U69: =O58 -> 4 | AC69: ( | AD69: 7 | AE69: ・ | AF69: 2 | AG69: )
P70: 0 | Q70: － | R70: 0
B71: Ａ | C71: ② | D71: 0.52083333 | G71: =R58 -> 5 | N71: =P71+P72 -> 0 | O71: （ | P71: 0 | Q71: － | R71: 0 | S71: ） | T71: =R71+R72 -> 0 | U71: =V58 -> 6 | AC71: ( | AD71: 3 | AE71: ・ | AF71: 1 | AG71: )
P72: 0 | Q72: － | R72: 0
B73: Ｂ | C73: ② | D73: 0.52083333
B75: Ａ | C75: ③ | D75: 0.54166667 | G75: =C58 -> 1 | N75: =P75+P76 -> 0 | O75: （ | P75: 0 | Q75: － | R75: 0 | S75: ） | T75: =R75+R76 -> 0 | U75: =K58 -> 3 | AC75: ( | AD75: 6 | AE75: ・ | AF75: 7 | AG75: )
P76: 0 | Q76: － | R76: 0
B77: Ｂ | C77: ③ | D77: 0.54166667 | G77: =G58 -> 2 | N77: =P77+P78 -> 0 | O77: （ | P77: 0 | Q77: － | R77: 0 | S77: ） | T77: =R77+R78 -> 0 | U77: =O58 -> 4 | AC77: ( | AD77: 5 | AE77: ・ | AF77: 3 | AG77: )
P78: 0 | Q78: － | R78: 0
B79: Ａ | C79: ④ | D79: 0.5625 | G79: =R58 -> 5 | N79: =P79+P80 -> 0 | O79: （ | P79: 0 | Q79: － | R79: 0 | S79: ） | T79: =R79+R80 -> 0 | U79: =Z58 -> 7 | AC79: ( | AD79: 4 | AE79: ・ | AF79: 1 | AG79: )
P80: 0 | Q80: － | R80: 0
B81: Ｂ | C81: ④ | D81: 0.5625
B83: Ａ | C83: ⑤ | D83: 0.58333333 | G83: =C58 -> 1 | N83: =P83+P84 -> 0 | O83: （ | P83: 0 | Q83: － | R83: 0 | S83: ） | T83: =R83+R84 -> 0 | U83: =O58 -> 4 | AC83: ( | AD83: 7 | AE83: ・ | AF83: 5 | AG83: )
P84: 0 | Q84: － | R84: 0
B85: Ｂ | C85: ⑤ | D85: 0.58333333 | G85: =G58 -> 2 | N85: =P85+P86 -> 0 | O85: （ | P85: 0 | Q85: － | R85: 0 | S85: ） | T85: =R85+R86 -> 0 | U85: =K58 -> 3 | AC85: ( | AD85: 6 | AE85: ・ | AF85: 4 | AG85: )
P86: 0 | Q86: － | R86: 0
B87: Ａ | C87: ⑥ | D87: 0.60416667 | G87: =V58 -> 6 | N87: =P87+P88 -> 0 | O87: （ | P87: 0 | Q87: － | R87: 0 | S87: ） | T87: =R87+R88 -> 0 | U87: =Z58 -> 7 | AC87: ( | AD87: 2 | AE87: ・ | AF87: 1 | AG87: )
P88: 0 | Q88: － | R88: 0
B89: Ｂ | C89: ⑥ | D89: 0.60416667
B92: =I54 &"リーグ" -> Bリーグ | F92: =B94 -> 1 | H92: =B96 -> 2 | J92: =B98 -> 3 | L92: =B100 -> 4 | N92: 勝点 | O92: 得失点 | P92: 順位 | R92: =V54 &"リーグ" -> BBリーグ | V92: =R58 -> 5 | X92: =V58 -> 6 | Z92: =Z58 -> 7 | AB92: 勝点 | AC92: 得失点 | AD92: 順位
B94: =C58 -> 1 | H94: =N67 -> 0 | I94: =T67 -> 0 | J94: =N75 -> 0 | K94: =T75 -> 0 | L94: =N83 -> 0 | M94: =T83 -> 0 | N94: =COUNTIF(F95:M95,"○")*3+COUNTIF(F95:M95,"△") -> 3 | O94: =H94-I94+J94-K94+L94-M94 -> 0 | R94: =R58 -> 5 | X94: =N71 -> 0 | Y94: =T71 -> 0 | Z94: =N79 -> 0 | AA94: =T79 -> 0 | AB94: =COUNTIF(V95:AA95,"○")*3+COUNTIF(V95:AA95,"△") -> 2 | AC94: =X94-Y94+Z94-AA94 -> 0
H95: =IF(H94>I94,"○",IF(H94<I94,"×",IF(H94=I94,"△"))) -> △ | J95: =IF(J94>K94,"○",IF(J94<K94,"×",IF(J94=K94,"△"))) -> △ | L95: =IF(L94>M94,"○",IF(L94<M94,"×",IF(L94=M94,"△"))) -> △ | X95: =IF(X94>Y94,"○",IF(X94<Y94,"×",IF(X94=Y94,"△"))) -> △ | Z95: =IF(Z94>AA94,"○",IF(Z94<AA94,"×",IF(Z94=AA94,"△"))) -> △
B96: =G58 -> 2 | F96: =I94 -> 0 | G96: =H94 -> 0 | J96: =N85 -> 0 | K96: =T85 -> 0 | L96: =N77 -> 0 | M96: =T77 -> 0 | N96: =COUNTIF(F97:M97,"○")*3+COUNTIF(F97:M97,"△") -> 3 | O96: =F96-G96+J96-K96+L96-M96 -> 0 | R96: =V58 -> 6 | V96: =Y94 -> 0 | W96: =X94 -> 0 | Z96: =N87 -> 0 | AA96: =T87 -> 0 | AB96: =COUNTIF(V97:AA97,"○")*3+COUNTIF(V97:AA97,"△") -> 2 | AC96: =V96-W96+Z96-AA96 -> 0
F97: =IF(F96>G96,"○",IF(F96<G96,"×",IF(F96=G96,"△"))) -> △ | J97: =IF(J96>K96,"○",IF(J96<K96,"×",IF(J96=K96,"△"))) -> △ | L97: =IF(L96>M96,"○",IF(L96<M96,"×",IF(L96=M96,"△"))) -> △ | V97: =IF(V96>W96,"○",IF(V96<W96,"×",IF(V96=W96,"△"))) -> △ | Z97: =IF(Z96>AA96,"○",IF(Z96<AA96,"×",IF(Z96=AA96,"△"))) -> △
B98: =K58 -> 3 | F98: =K94 -> 0 | G98: =J94 -> 0 | H98: =K96 -> 0 | I98: =J96 -> 0 | L98: =N69 -> 0 | M98: =T69 -> 0 | N98: =COUNTIF(F99:M99,"○")*3+COUNTIF(F99:M99,"△") -> 3 | O98: =F98-G98+H98-I98+L98-M98 -> 0 | R98: =Z58 -> 7 | V98: =AA94 -> 0 | W98: =Z94 -> 0 | X98: =AA96 -> 0 | Y98: =Z96 -> 0 | AB98: =COUNTIF(V99:AA99,"○")*3+COUNTIF(V99:AA99,"△") -> 2 | AC98: =V98-W98+X98-Y98 -> 0
F99: =IF(F98>G98,"○",IF(F98<G98,"×",IF(F98=G98,"△"))) -> △ | H99: =IF(H98>I98,"○",IF(H98<I98,"×",IF(H98=I98,"△"))) -> △ | L99: =IF(L98>M98,"○",IF(L98<M98,"×",IF(L98=M98,"△"))) -> △ | V99: =IF(V98>W98,"○",IF(V98<W98,"×",IF(V98=W98,"△"))) -> △ | X99: =IF(X98>Y98,"○",IF(X98<Y98,"×",IF(X98=Y98,"△"))) -> △
B100: =O58 -> 4 | F100: =M94 -> 0 | G100: =L94 -> 0 | H100: =M96 -> 0 | I100: =L96 -> 0 | J100: =M98 -> 0 | K100: =L98 -> 0 | N100: =COUNTIF(F101:M101,"○")*3+COUNTIF(F101:M101,"△") -> 3 | O100: =F100-G100+H100-I100+J100-K100 -> 0
F101: =IF(F100>G100,"○",IF(F100<G100,"×",IF(F100=G100,"△"))) -> △ | H101: =IF(H100>I100,"○",IF(H100<I100,"×",IF(H100=I100,"△"))) -> △ | J101: =IF(J100>K100,"○",IF(J100<K100,"×",IF(J100=K100,"△"))) -> △
